BEGIN:VCALENDAR
VERSION:2.0
PRODID:-//The Pines Times - ECPv6.15.20//NONSGML v1.0//EN
CALSCALE:GREGORIAN
METHOD:PUBLISH
X-ORIGINAL-URL:https://thepinestimes.com
X-WR-CALDESC:Events for The Pines Times
REFRESH-INTERVAL;VALUE=DURATION:PT1H
X-Robots-Tag:noindex
X-PUBLISHED-TTL:PT1H
BEGIN:VTIMEZONE
TZID:America/New_York
BEGIN:DAYLIGHT
TZOFFSETFROM:-0500
TZOFFSETTO:-0400
TZNAME:EDT
DTSTART:20250309T070000
END:DAYLIGHT
BEGIN:STANDARD
TZOFFSETFROM:-0400
TZOFFSETTO:-0500
TZNAME:EST
DTSTART:20251102T060000
END:STANDARD
BEGIN:DAYLIGHT
TZOFFSETFROM:-0500
TZOFFSETTO:-0400
TZNAME:EDT
DTSTART:20260308T070000
END:DAYLIGHT
BEGIN:STANDARD
TZOFFSETFROM:-0400
TZOFFSETTO:-0500
TZNAME:EST
DTSTART:20261101T060000
END:STANDARD
BEGIN:DAYLIGHT
TZOFFSETFROM:-0500
TZOFFSETTO:-0400
TZNAME:EDT
DTSTART:20270314T070000
END:DAYLIGHT
BEGIN:STANDARD
TZOFFSETFROM:-0400
TZOFFSETTO:-0500
TZNAME:EST
DTSTART:20271107T060000
END:STANDARD
END:VTIMEZONE
BEGIN:VEVENT
DTSTART;TZID=America/New_York:20260425T100000
DTEND;TZID=America/New_York:20260425T140000
DTSTAMP:20260422T041358
CREATED:20260411T144049Z
LAST-MODIFIED:20260411T144049Z
UID:10086765-1777111200-1777125600@thepinestimes.com
SUMMARY:Touch-A-Truck Fundraiser to Benefit Union Pines High School NJROTC
DESCRIPTION:The community is invited to support the Union Pines High School NJROTC cadets at a Touch-A-Truck Fundraiser on Saturday\, April 25th\, from 10AM-2PM. Held at the Moore County Agricultural Fairgrounds in Carthage\, this family-friendly event features a variety of impressive vehicles to explore\, including National Guard military equipment\, a SWAT vehicle\, fire trucks\, and farm machinery. Attendees can also enjoy a bounce house and on-site food trucks\, with all proceeds going directly toward student activities\, competitions\, and the establishment of scholarships following recent funding cuts. Entry is just $5 per person. \n \n 
URL:https://thepinestimes.com/event/touch-a-truck-fundraiser-to-benefit-union-pines-high-school-njrotc/
LOCATION:Moore County Agricultural Fairgrounds\, 3699 US Hwy 15/501\, Carthage\, NC\, 28327\, United States
CATEGORIES:Adults,Benefit,Carthage Events,Children,Demonstrations,Educational,Family,Fundraiser,Piney's Kids,Piney's Tiny's,School,Social,Teen Activities,Young Adults
ATTACH;FMTTYPE=image/jpeg:https://thepinestimes.com/wp-content/uploads/UnionPinesTouchATruckFeature.jpg
END:VEVENT
END:VCALENDAR