BEGIN:VCALENDAR
VERSION:2.0
PRODID:-//The Pines Times - ECPv6.15.20//NONSGML v1.0//EN
CALSCALE:GREGORIAN
METHOD:PUBLISH
X-WR-CALNAME:The Pines Times
X-ORIGINAL-URL:https://thepinestimes.com
X-WR-CALDESC:Events for The Pines Times
REFRESH-INTERVAL;VALUE=DURATION:PT1H
X-Robots-Tag:noindex
X-PUBLISHED-TTL:PT1H
BEGIN:VTIMEZONE
TZID:America/New_York
BEGIN:DAYLIGHT
TZOFFSETFROM:-0500
TZOFFSETTO:-0400
TZNAME:EDT
DTSTART:20240310T070000
END:DAYLIGHT
BEGIN:STANDARD
TZOFFSETFROM:-0400
TZOFFSETTO:-0500
TZNAME:EST
DTSTART:20241103T060000
END:STANDARD
BEGIN:DAYLIGHT
TZOFFSETFROM:-0500
TZOFFSETTO:-0400
TZNAME:EDT
DTSTART:20250309T070000
END:DAYLIGHT
BEGIN:STANDARD
TZOFFSETFROM:-0400
TZOFFSETTO:-0500
TZNAME:EST
DTSTART:20251102T060000
END:STANDARD
BEGIN:DAYLIGHT
TZOFFSETFROM:-0500
TZOFFSETTO:-0400
TZNAME:EDT
DTSTART:20260308T070000
END:DAYLIGHT
BEGIN:STANDARD
TZOFFSETFROM:-0400
TZOFFSETTO:-0500
TZNAME:EST
DTSTART:20261101T060000
END:STANDARD
BEGIN:DAYLIGHT
TZOFFSETFROM:-0500
TZOFFSETTO:-0400
TZNAME:EDT
DTSTART:20270314T070000
END:DAYLIGHT
BEGIN:STANDARD
TZOFFSETFROM:-0400
TZOFFSETTO:-0500
TZNAME:EST
DTSTART:20271107T060000
END:STANDARD
END:VTIMEZONE
BEGIN:VEVENT
DTSTART;TZID=America/New_York:20260317T213000
DTEND;TZID=America/New_York:20260317T213000
DTSTAMP:20260423T161722
CREATED:20250805T001134Z
LAST-MODIFIED:20260407T141056Z
UID:10079063-1773783000-1773783000@thepinestimes.com
SUMMARY:Kev's Karaoke Tuesdays
DESCRIPTION:Join in the fun each Tuesday at 9:30pm with Karaoke night at Neville’s Club in Southern Pines! \n  \n  \n  \n 
URL:https://thepinestimes.com/event/karaoke-tuesdays-2/2026-03-17/
LOCATION:Neville’s Club\, 130 W New Hampshire Ave\, Southern Pines\, NC\, 28387\, United States
CATEGORIES:Adults,Beer and Wine,Hobby/Enthusiast,Music,Night Life,Senior,Social,Southern Pines Events
ATTACH;FMTTYPE=image/png:https://thepinestimes.com/wp-content/uploads/Karaoke-e1754409547503.png
END:VEVENT
BEGIN:VEVENT
DTSTART;TZID=America/New_York:20260312T220000
DTEND;TZID=America/New_York:20260312T220000
DTSTAMP:20260423T161722
CREATED:20241105T144826Z
LAST-MODIFIED:20260414T170150Z
UID:10081505-1773352800-1773352800@thepinestimes.com
SUMMARY:Music from DJ Saxy
DESCRIPTION:Come out for music at Neville’s Club in Southern Pines! DJ Saxy is spinning tonight. \n \n  \n  \n 
URL:https://thepinestimes.com/event/music-from-dj-saxy/2026-03-12/
LOCATION:Neville’s Club\, 130 W New Hampshire Ave\, Southern Pines\, NC\, 28387\, United States
CATEGORIES:Adult Connections,Adults,Beer and Wine,Hobby/Enthusiast,Live Music,Music,Night Life,Social,Southern Pines Events,Young Adults
ATTACH;FMTTYPE=image/jpeg:https://thepinestimes.com/wp-content/uploads/LiveMusicFeature.jpg
END:VEVENT
BEGIN:VEVENT
DTSTART;TZID=America/New_York:20260310T213000
DTEND;TZID=America/New_York:20260310T213000
DTSTAMP:20260423T161722
CREATED:20250805T001134Z
LAST-MODIFIED:20260407T141056Z
UID:10079062-1773178200-1773178200@thepinestimes.com
SUMMARY:Kev's Karaoke Tuesdays
DESCRIPTION:Join in the fun each Tuesday at 9:30pm with Karaoke night at Neville’s Club in Southern Pines! \n  \n  \n  \n 
URL:https://thepinestimes.com/event/karaoke-tuesdays-2/2026-03-10/
LOCATION:Neville’s Club\, 130 W New Hampshire Ave\, Southern Pines\, NC\, 28387\, United States
CATEGORIES:Adults,Beer and Wine,Hobby/Enthusiast,Music,Night Life,Senior,Social,Southern Pines Events
ATTACH;FMTTYPE=image/png:https://thepinestimes.com/wp-content/uploads/Karaoke-e1754409547503.png
END:VEVENT
BEGIN:VEVENT
DTSTART;TZID=America/New_York:20260306T220000
DTEND;TZID=America/New_York:20260306T220000
DTSTAMP:20260423T161722
CREATED:20250523T183404Z
LAST-MODIFIED:20260303T144104Z
UID:10059161-1772834400-1772834400@thepinestimes.com
SUMMARY:Live Music: HyDryver-5 Year Anniversary Celebration
DESCRIPTION:Enjoy live music at Neville’s Club in Southern Pines! Happy Birthday to HyDryver! Celebrate 5 years with all original members plus 1 with them this Friday night. \n \n  \n  \n  \n  \n 
URL:https://thepinestimes.com/event/live-music-katatonik/
LOCATION:Neville’s Club\, 130 W New Hampshire Ave\, Southern Pines\, NC\, 28387\, United States
CATEGORIES:Adult Connections,Adults,Beer and Wine,Hobby/Enthusiast,Live Music,Music,Night Life,Social,Southern Pines Events
ATTACH;FMTTYPE=image/jpeg:https://thepinestimes.com/wp-content/uploads/LiveMusicFeature.jpg
END:VEVENT
BEGIN:VEVENT
DTSTART;TZID=America/New_York:20260305T220000
DTEND;TZID=America/New_York:20260305T220000
DTSTAMP:20260423T161722
CREATED:20241105T144826Z
LAST-MODIFIED:20260414T170150Z
UID:10081504-1772748000-1772748000@thepinestimes.com
SUMMARY:Music from DJ Saxy
DESCRIPTION:Come out for music at Neville’s Club in Southern Pines! DJ Saxy is spinning tonight. \n \n  \n  \n 
URL:https://thepinestimes.com/event/music-from-dj-saxy/2026-03-05/
LOCATION:Neville’s Club\, 130 W New Hampshire Ave\, Southern Pines\, NC\, 28387\, United States
CATEGORIES:Adult Connections,Adults,Beer and Wine,Hobby/Enthusiast,Live Music,Music,Night Life,Social,Southern Pines Events,Young Adults
ATTACH;FMTTYPE=image/jpeg:https://thepinestimes.com/wp-content/uploads/LiveMusicFeature.jpg
END:VEVENT
BEGIN:VEVENT
DTSTART;TZID=America/New_York:20260303T213000
DTEND;TZID=America/New_York:20260303T213000
DTSTAMP:20260423T161722
CREATED:20250805T001134Z
LAST-MODIFIED:20260407T141056Z
UID:10079061-1772573400-1772573400@thepinestimes.com
SUMMARY:Kev's Karaoke Tuesdays
DESCRIPTION:Join in the fun each Tuesday at 9:30pm with Karaoke night at Neville’s Club in Southern Pines! \n  \n  \n  \n 
URL:https://thepinestimes.com/event/karaoke-tuesdays-2/2026-03-03/
LOCATION:Neville’s Club\, 130 W New Hampshire Ave\, Southern Pines\, NC\, 28387\, United States
CATEGORIES:Adults,Beer and Wine,Hobby/Enthusiast,Music,Night Life,Senior,Social,Southern Pines Events
ATTACH;FMTTYPE=image/png:https://thepinestimes.com/wp-content/uploads/Karaoke-e1754409547503.png
END:VEVENT
BEGIN:VEVENT
DTSTART;TZID=America/New_York:20260226T220000
DTEND;TZID=America/New_York:20260226T220000
DTSTAMP:20260423T161722
CREATED:20241105T144826Z
LAST-MODIFIED:20260414T170150Z
UID:10080474-1772143200-1772143200@thepinestimes.com
SUMMARY:Music from DJ Saxy
DESCRIPTION:Come out for music at Neville’s Club in Southern Pines! DJ Saxy is spinning tonight. \n \n  \n  \n 
URL:https://thepinestimes.com/event/music-from-dj-saxy/2026-02-26/
LOCATION:Neville’s Club\, 130 W New Hampshire Ave\, Southern Pines\, NC\, 28387\, United States
CATEGORIES:Adult Connections,Adults,Beer and Wine,Hobby/Enthusiast,Live Music,Music,Night Life,Social,Southern Pines Events,Young Adults
ATTACH;FMTTYPE=image/jpeg:https://thepinestimes.com/wp-content/uploads/LiveMusicFeature.jpg
END:VEVENT
BEGIN:VEVENT
DTSTART;TZID=America/New_York:20260224T213000
DTEND;TZID=America/New_York:20260224T213000
DTSTAMP:20260423T161722
CREATED:20250805T001134Z
LAST-MODIFIED:20260407T141056Z
UID:10079060-1771968600-1771968600@thepinestimes.com
SUMMARY:Kev's Karaoke Tuesdays
DESCRIPTION:Join in the fun each Tuesday at 9:30pm with Karaoke night at Neville’s Club in Southern Pines! \n  \n  \n  \n 
URL:https://thepinestimes.com/event/karaoke-tuesdays-2/2026-02-24/
LOCATION:Neville’s Club\, 130 W New Hampshire Ave\, Southern Pines\, NC\, 28387\, United States
CATEGORIES:Adults,Beer and Wine,Hobby/Enthusiast,Music,Night Life,Senior,Social,Southern Pines Events
ATTACH;FMTTYPE=image/png:https://thepinestimes.com/wp-content/uploads/Karaoke-e1754409547503.png
END:VEVENT
BEGIN:VEVENT
DTSTART;TZID=America/New_York:20260219T220000
DTEND;TZID=America/New_York:20260219T220000
DTSTAMP:20260423T161722
CREATED:20241105T144826Z
LAST-MODIFIED:20260414T170150Z
UID:10080473-1771538400-1771538400@thepinestimes.com
SUMMARY:Music from DJ Saxy
DESCRIPTION:Come out for music at Neville’s Club in Southern Pines! DJ Saxy is spinning tonight. \n \n  \n  \n 
URL:https://thepinestimes.com/event/music-from-dj-saxy/2026-02-19/
LOCATION:Neville’s Club\, 130 W New Hampshire Ave\, Southern Pines\, NC\, 28387\, United States
CATEGORIES:Adult Connections,Adults,Beer and Wine,Hobby/Enthusiast,Live Music,Music,Night Life,Social,Southern Pines Events,Young Adults
ATTACH;FMTTYPE=image/jpeg:https://thepinestimes.com/wp-content/uploads/LiveMusicFeature.jpg
END:VEVENT
BEGIN:VEVENT
DTSTART;TZID=America/New_York:20260218T200000
DTEND;TZID=America/New_York:20260218T235900
DTSTAMP:20260423T161722
CREATED:20241015T015815Z
LAST-MODIFIED:20260414T170732Z
UID:10086900-1771444800-1771459140@thepinestimes.com
SUMMARY:Pool Tournament
DESCRIPTION:Neville’s Club in Southern Pines hosts Pool Tournaments every third Wednesday of the month beginning at 8pm. Take advantage of free pool all day. The cost is $10 to enter tournaments. \n \n 
URL:https://thepinestimes.com/event/pool-tournament-2-2/2026-02-18/
LOCATION:Neville’s Club\, 130 W New Hampshire Ave\, Southern Pines\, NC\, 28387\, United States
CATEGORIES:Adults,Games,Hobby/Enthusiast,Live Entertainment,Senior,Social,Southern Pines Events
ATTACH;FMTTYPE=image/jpeg:https://thepinestimes.com/wp-content/uploads/Nevilles-Feature.jpg
END:VEVENT
BEGIN:VEVENT
DTSTART;TZID=America/New_York:20260217T213000
DTEND;TZID=America/New_York:20260217T213000
DTSTAMP:20260423T161722
CREATED:20250805T001134Z
LAST-MODIFIED:20260407T141056Z
UID:10079059-1771363800-1771363800@thepinestimes.com
SUMMARY:Kev's Karaoke Tuesdays
DESCRIPTION:Join in the fun each Tuesday at 9:30pm with Karaoke night at Neville’s Club in Southern Pines! \n  \n  \n  \n 
URL:https://thepinestimes.com/event/karaoke-tuesdays-2/2026-02-17/
LOCATION:Neville’s Club\, 130 W New Hampshire Ave\, Southern Pines\, NC\, 28387\, United States
CATEGORIES:Adults,Beer and Wine,Hobby/Enthusiast,Music,Night Life,Senior,Social,Southern Pines Events
ATTACH;FMTTYPE=image/png:https://thepinestimes.com/wp-content/uploads/Karaoke-e1754409547503.png
END:VEVENT
BEGIN:VEVENT
DTSTART;TZID=America/New_York:20260215T200000
DTEND;TZID=America/New_York:20260215T200000
DTSTAMP:20260423T161722
CREATED:20240112T141521Z
LAST-MODIFIED:20260210T225055Z
UID:10027566-1771185600-1771185600@thepinestimes.com
SUMMARY:Valentine's Gameshow Night 2026
DESCRIPTION:Neville’s Club in Southern Pines is hosting their 6th annual Valentine’s Game Show Night event on Sunday\, February 15th! Be a contestant or come to watch! Contestants should not be shy\, have no stage fright\, a good personality\, funny\, single and take jokes well. The event includes showtimes at 7:00pm\, 8:30pm\, and 10:00pm \, with live comedy\, prizes\, and giveaways throughout the evening. There is a $10 entry fee\, and attendees can enjoy drink specials all night long while participating in the festivities. Reach out to Neville’s via their social media platforms\, calling 910-692-1939 or stopping in for more information and to sign up.
URL:https://thepinestimes.com/event/valentines-gameshow-night/
LOCATION:Neville’s Club\, 130 W New Hampshire Ave\, Southern Pines\, NC\, 28387\, United States
CATEGORIES:Adult Connections,Adults,Beer and Wine,Games,Holiday Events,Night Life,Social,Southern Pines Events,Valentine's Day,Young Adults
ATTACH;FMTTYPE=image/jpeg:https://thepinestimes.com/wp-content/uploads/Nevilles-Feature.jpg
END:VEVENT
BEGIN:VEVENT
DTSTART;TZID=America/New_York:20260212T220000
DTEND;TZID=America/New_York:20260212T220000
DTSTAMP:20260423T161722
CREATED:20241105T144826Z
LAST-MODIFIED:20260414T170150Z
UID:10080472-1770933600-1770933600@thepinestimes.com
SUMMARY:Music from DJ Saxy
DESCRIPTION:Come out for music at Neville’s Club in Southern Pines! DJ Saxy is spinning tonight. \n \n  \n  \n 
URL:https://thepinestimes.com/event/music-from-dj-saxy/2026-02-12/
LOCATION:Neville’s Club\, 130 W New Hampshire Ave\, Southern Pines\, NC\, 28387\, United States
CATEGORIES:Adult Connections,Adults,Beer and Wine,Hobby/Enthusiast,Live Music,Music,Night Life,Social,Southern Pines Events,Young Adults
ATTACH;FMTTYPE=image/jpeg:https://thepinestimes.com/wp-content/uploads/LiveMusicFeature.jpg
END:VEVENT
BEGIN:VEVENT
DTSTART;TZID=America/New_York:20260210T213000
DTEND;TZID=America/New_York:20260210T213000
DTSTAMP:20260423T161722
CREATED:20250805T001134Z
LAST-MODIFIED:20260407T141056Z
UID:10079058-1770759000-1770759000@thepinestimes.com
SUMMARY:Kev's Karaoke Tuesdays
DESCRIPTION:Join in the fun each Tuesday at 9:30pm with Karaoke night at Neville’s Club in Southern Pines! \n  \n  \n  \n 
URL:https://thepinestimes.com/event/karaoke-tuesdays-2/2026-02-10/
LOCATION:Neville’s Club\, 130 W New Hampshire Ave\, Southern Pines\, NC\, 28387\, United States
CATEGORIES:Adults,Beer and Wine,Hobby/Enthusiast,Music,Night Life,Senior,Social,Southern Pines Events
ATTACH;FMTTYPE=image/png:https://thepinestimes.com/wp-content/uploads/Karaoke-e1754409547503.png
END:VEVENT
BEGIN:VEVENT
DTSTART;TZID=America/New_York:20260205T220000
DTEND;TZID=America/New_York:20260205T220000
DTSTAMP:20260423T161722
CREATED:20241105T144826Z
LAST-MODIFIED:20260414T170150Z
UID:10080471-1770328800-1770328800@thepinestimes.com
SUMMARY:Music from DJ Saxy
DESCRIPTION:Come out for music at Neville’s Club in Southern Pines! DJ Saxy is spinning tonight. \n \n  \n  \n 
URL:https://thepinestimes.com/event/music-from-dj-saxy/2026-02-05/
LOCATION:Neville’s Club\, 130 W New Hampshire Ave\, Southern Pines\, NC\, 28387\, United States
CATEGORIES:Adult Connections,Adults,Beer and Wine,Hobby/Enthusiast,Live Music,Music,Night Life,Social,Southern Pines Events,Young Adults
ATTACH;FMTTYPE=image/jpeg:https://thepinestimes.com/wp-content/uploads/LiveMusicFeature.jpg
END:VEVENT
BEGIN:VEVENT
DTSTART;TZID=America/New_York:20260203T213000
DTEND;TZID=America/New_York:20260203T213000
DTSTAMP:20260423T161722
CREATED:20250805T001134Z
LAST-MODIFIED:20260407T141056Z
UID:10079057-1770154200-1770154200@thepinestimes.com
SUMMARY:Kev's Karaoke Tuesdays
DESCRIPTION:Join in the fun each Tuesday at 9:30pm with Karaoke night at Neville’s Club in Southern Pines! \n  \n  \n  \n 
URL:https://thepinestimes.com/event/karaoke-tuesdays-2/2026-02-03/
LOCATION:Neville’s Club\, 130 W New Hampshire Ave\, Southern Pines\, NC\, 28387\, United States
CATEGORIES:Adults,Beer and Wine,Hobby/Enthusiast,Music,Night Life,Senior,Social,Southern Pines Events
ATTACH;FMTTYPE=image/png:https://thepinestimes.com/wp-content/uploads/Karaoke-e1754409547503.png
END:VEVENT
BEGIN:VEVENT
DTSTART;TZID=America/New_York:20260129T220000
DTEND;TZID=America/New_York:20260129T220000
DTSTAMP:20260423T161722
CREATED:20241105T144826Z
LAST-MODIFIED:20260414T170150Z
UID:10080058-1769724000-1769724000@thepinestimes.com
SUMMARY:Music from DJ Saxy
DESCRIPTION:Come out for music at Neville’s Club in Southern Pines! DJ Saxy is spinning tonight. \n \n  \n  \n 
URL:https://thepinestimes.com/event/music-from-dj-saxy/2026-01-29/
LOCATION:Neville’s Club\, 130 W New Hampshire Ave\, Southern Pines\, NC\, 28387\, United States
CATEGORIES:Adult Connections,Adults,Beer and Wine,Hobby/Enthusiast,Live Music,Music,Night Life,Social,Southern Pines Events,Young Adults
ATTACH;FMTTYPE=image/jpeg:https://thepinestimes.com/wp-content/uploads/LiveMusicFeature.jpg
END:VEVENT
BEGIN:VEVENT
DTSTART;TZID=America/New_York:20260127T213000
DTEND;TZID=America/New_York:20260127T213000
DTSTAMP:20260423T161722
CREATED:20250805T001134Z
LAST-MODIFIED:20260407T141056Z
UID:10079056-1769549400-1769549400@thepinestimes.com
SUMMARY:Kev's Karaoke Tuesdays
DESCRIPTION:Join in the fun each Tuesday at 9:30pm with Karaoke night at Neville’s Club in Southern Pines! \n  \n  \n  \n 
URL:https://thepinestimes.com/event/karaoke-tuesdays-2/2026-01-27/
LOCATION:Neville’s Club\, 130 W New Hampshire Ave\, Southern Pines\, NC\, 28387\, United States
CATEGORIES:Adults,Beer and Wine,Hobby/Enthusiast,Music,Night Life,Senior,Social,Southern Pines Events
ATTACH;FMTTYPE=image/png:https://thepinestimes.com/wp-content/uploads/Karaoke-e1754409547503.png
END:VEVENT
BEGIN:VEVENT
DTSTART;TZID=America/New_York:20260121T200000
DTEND;TZID=America/New_York:20260121T235900
DTSTAMP:20260423T161722
CREATED:20241015T015815Z
LAST-MODIFIED:20260414T170732Z
UID:10086899-1769025600-1769039940@thepinestimes.com
SUMMARY:Pool Tournament
DESCRIPTION:Neville’s Club in Southern Pines hosts Pool Tournaments every third Wednesday of the month beginning at 8pm. Take advantage of free pool all day. The cost is $10 to enter tournaments. \n \n 
URL:https://thepinestimes.com/event/pool-tournament-2-2/2026-01-21/
LOCATION:Neville’s Club\, 130 W New Hampshire Ave\, Southern Pines\, NC\, 28387\, United States
CATEGORIES:Adults,Games,Hobby/Enthusiast,Live Entertainment,Senior,Social,Southern Pines Events
ATTACH;FMTTYPE=image/jpeg:https://thepinestimes.com/wp-content/uploads/Nevilles-Feature.jpg
END:VEVENT
BEGIN:VEVENT
DTSTART;TZID=America/New_York:20260120T213000
DTEND;TZID=America/New_York:20260120T213000
DTSTAMP:20260423T161722
CREATED:20250805T001134Z
LAST-MODIFIED:20260407T141056Z
UID:10079055-1768944600-1768944600@thepinestimes.com
SUMMARY:Kev's Karaoke Tuesdays
DESCRIPTION:Join in the fun each Tuesday at 9:30pm with Karaoke night at Neville’s Club in Southern Pines! \n  \n  \n  \n 
URL:https://thepinestimes.com/event/karaoke-tuesdays-2/2026-01-20/
LOCATION:Neville’s Club\, 130 W New Hampshire Ave\, Southern Pines\, NC\, 28387\, United States
CATEGORIES:Adults,Beer and Wine,Hobby/Enthusiast,Music,Night Life,Senior,Social,Southern Pines Events
ATTACH;FMTTYPE=image/png:https://thepinestimes.com/wp-content/uploads/Karaoke-e1754409547503.png
END:VEVENT
BEGIN:VEVENT
DTSTART;TZID=America/New_York:20260113T213000
DTEND;TZID=America/New_York:20260113T213000
DTSTAMP:20260423T161722
CREATED:20250805T001134Z
LAST-MODIFIED:20260407T141056Z
UID:10079054-1768339800-1768339800@thepinestimes.com
SUMMARY:Kev's Karaoke Tuesdays
DESCRIPTION:Join in the fun each Tuesday at 9:30pm with Karaoke night at Neville’s Club in Southern Pines! \n  \n  \n  \n 
URL:https://thepinestimes.com/event/karaoke-tuesdays-2/2026-01-13/
LOCATION:Neville’s Club\, 130 W New Hampshire Ave\, Southern Pines\, NC\, 28387\, United States
CATEGORIES:Adults,Beer and Wine,Hobby/Enthusiast,Music,Night Life,Senior,Social,Southern Pines Events
ATTACH;FMTTYPE=image/png:https://thepinestimes.com/wp-content/uploads/Karaoke-e1754409547503.png
END:VEVENT
BEGIN:VEVENT
DTSTART;TZID=America/New_York:20260106T213000
DTEND;TZID=America/New_York:20260106T213000
DTSTAMP:20260423T161722
CREATED:20250805T001134Z
LAST-MODIFIED:20260407T141056Z
UID:10079053-1767735000-1767735000@thepinestimes.com
SUMMARY:Kev's Karaoke Tuesdays
DESCRIPTION:Join in the fun each Tuesday at 9:30pm with Karaoke night at Neville’s Club in Southern Pines! \n  \n  \n  \n 
URL:https://thepinestimes.com/event/karaoke-tuesdays-2/2026-01-06/
LOCATION:Neville’s Club\, 130 W New Hampshire Ave\, Southern Pines\, NC\, 28387\, United States
CATEGORIES:Adults,Beer and Wine,Hobby/Enthusiast,Music,Night Life,Senior,Social,Southern Pines Events
ATTACH;FMTTYPE=image/png:https://thepinestimes.com/wp-content/uploads/Karaoke-e1754409547503.png
END:VEVENT
BEGIN:VEVENT
DTSTART;TZID=America/New_York:20251230T213000
DTEND;TZID=America/New_York:20251230T213000
DTSTAMP:20260423T161722
CREATED:20250805T001134Z
LAST-MODIFIED:20260407T141056Z
UID:10062152-1767130200-1767130200@thepinestimes.com
SUMMARY:Kev's Karaoke Tuesdays
DESCRIPTION:Join in the fun each Tuesday at 9:30pm with Karaoke night at Neville’s Club in Southern Pines! \n  \n  \n  \n 
URL:https://thepinestimes.com/event/karaoke-tuesdays-2/2025-12-30/
LOCATION:Neville’s Club\, 130 W New Hampshire Ave\, Southern Pines\, NC\, 28387\, United States
CATEGORIES:Adults,Beer and Wine,Hobby/Enthusiast,Music,Night Life,Senior,Social,Southern Pines Events
ATTACH;FMTTYPE=image/png:https://thepinestimes.com/wp-content/uploads/Karaoke-e1754409547503.png
END:VEVENT
BEGIN:VEVENT
DTSTART;TZID=America/New_York:20251223T213000
DTEND;TZID=America/New_York:20251223T213000
DTSTAMP:20260423T161722
CREATED:20250805T001134Z
LAST-MODIFIED:20260407T141056Z
UID:10062151-1766525400-1766525400@thepinestimes.com
SUMMARY:Kev's Karaoke Tuesdays
DESCRIPTION:Join in the fun each Tuesday at 9:30pm with Karaoke night at Neville’s Club in Southern Pines! \n  \n  \n  \n 
URL:https://thepinestimes.com/event/karaoke-tuesdays-2/2025-12-23/
LOCATION:Neville’s Club\, 130 W New Hampshire Ave\, Southern Pines\, NC\, 28387\, United States
CATEGORIES:Adults,Beer and Wine,Hobby/Enthusiast,Music,Night Life,Senior,Social,Southern Pines Events
ATTACH;FMTTYPE=image/png:https://thepinestimes.com/wp-content/uploads/Karaoke-e1754409547503.png
END:VEVENT
BEGIN:VEVENT
DTSTART;TZID=America/New_York:20251217T200000
DTEND;TZID=America/New_York:20251217T235900
DTSTAMP:20260423T161722
CREATED:20241015T015815Z
LAST-MODIFIED:20260414T170732Z
UID:10086898-1766001600-1766015940@thepinestimes.com
SUMMARY:Pool Tournament
DESCRIPTION:Neville’s Club in Southern Pines hosts Pool Tournaments every third Wednesday of the month beginning at 8pm. Take advantage of free pool all day. The cost is $10 to enter tournaments. \n \n 
URL:https://thepinestimes.com/event/pool-tournament-2-2/2025-12-17/
LOCATION:Neville’s Club\, 130 W New Hampshire Ave\, Southern Pines\, NC\, 28387\, United States
CATEGORIES:Adults,Games,Hobby/Enthusiast,Live Entertainment,Senior,Social,Southern Pines Events
ATTACH;FMTTYPE=image/jpeg:https://thepinestimes.com/wp-content/uploads/Nevilles-Feature.jpg
END:VEVENT
BEGIN:VEVENT
DTSTART;TZID=America/New_York:20251216T213000
DTEND;TZID=America/New_York:20251216T213000
DTSTAMP:20260423T161722
CREATED:20250805T001134Z
LAST-MODIFIED:20260407T141056Z
UID:10062150-1765920600-1765920600@thepinestimes.com
SUMMARY:Kev's Karaoke Tuesdays
DESCRIPTION:Join in the fun each Tuesday at 9:30pm with Karaoke night at Neville’s Club in Southern Pines! \n  \n  \n  \n 
URL:https://thepinestimes.com/event/karaoke-tuesdays-2/2025-12-16/
LOCATION:Neville’s Club\, 130 W New Hampshire Ave\, Southern Pines\, NC\, 28387\, United States
CATEGORIES:Adults,Beer and Wine,Hobby/Enthusiast,Music,Night Life,Senior,Social,Southern Pines Events
ATTACH;FMTTYPE=image/png:https://thepinestimes.com/wp-content/uploads/Karaoke-e1754409547503.png
END:VEVENT
BEGIN:VEVENT
DTSTART;TZID=America/New_York:20251209T213000
DTEND;TZID=America/New_York:20251209T213000
DTSTAMP:20260423T161722
CREATED:20250805T001134Z
LAST-MODIFIED:20260407T141056Z
UID:10062149-1765315800-1765315800@thepinestimes.com
SUMMARY:Kev's Karaoke Tuesdays
DESCRIPTION:Join in the fun each Tuesday at 9:30pm with Karaoke night at Neville’s Club in Southern Pines! \n  \n  \n  \n 
URL:https://thepinestimes.com/event/karaoke-tuesdays-2/2025-12-09/
LOCATION:Neville’s Club\, 130 W New Hampshire Ave\, Southern Pines\, NC\, 28387\, United States
CATEGORIES:Adults,Beer and Wine,Hobby/Enthusiast,Music,Night Life,Senior,Social,Southern Pines Events
ATTACH;FMTTYPE=image/png:https://thepinestimes.com/wp-content/uploads/Karaoke-e1754409547503.png
END:VEVENT
BEGIN:VEVENT
DTSTART;TZID=America/New_York:20251202T213000
DTEND;TZID=America/New_York:20251202T213000
DTSTAMP:20260423T161722
CREATED:20250805T001134Z
LAST-MODIFIED:20260407T141056Z
UID:10062148-1764711000-1764711000@thepinestimes.com
SUMMARY:Kev's Karaoke Tuesdays
DESCRIPTION:Join in the fun each Tuesday at 9:30pm with Karaoke night at Neville’s Club in Southern Pines! \n  \n  \n  \n 
URL:https://thepinestimes.com/event/karaoke-tuesdays-2/2025-12-02/
LOCATION:Neville’s Club\, 130 W New Hampshire Ave\, Southern Pines\, NC\, 28387\, United States
CATEGORIES:Adults,Beer and Wine,Hobby/Enthusiast,Music,Night Life,Senior,Social,Southern Pines Events
ATTACH;FMTTYPE=image/png:https://thepinestimes.com/wp-content/uploads/Karaoke-e1754409547503.png
END:VEVENT
BEGIN:VEVENT
DTSTART;TZID=America/New_York:20251125T213000
DTEND;TZID=America/New_York:20251125T213000
DTSTAMP:20260423T161722
CREATED:20250805T001134Z
LAST-MODIFIED:20260407T141056Z
UID:10062147-1764106200-1764106200@thepinestimes.com
SUMMARY:Kev's Karaoke Tuesdays
DESCRIPTION:Join in the fun each Tuesday at 9:30pm with Karaoke night at Neville’s Club in Southern Pines! \n  \n  \n  \n 
URL:https://thepinestimes.com/event/karaoke-tuesdays-2/2025-11-25/
LOCATION:Neville’s Club\, 130 W New Hampshire Ave\, Southern Pines\, NC\, 28387\, United States
CATEGORIES:Adults,Beer and Wine,Hobby/Enthusiast,Music,Night Life,Senior,Social,Southern Pines Events
ATTACH;FMTTYPE=image/png:https://thepinestimes.com/wp-content/uploads/Karaoke-e1754409547503.png
END:VEVENT
BEGIN:VEVENT
DTSTART;TZID=America/New_York:20251119T200000
DTEND;TZID=America/New_York:20251119T235900
DTSTAMP:20260423T161722
CREATED:20241015T015815Z
LAST-MODIFIED:20260414T170732Z
UID:10086897-1763582400-1763596740@thepinestimes.com
SUMMARY:Pool Tournament
DESCRIPTION:Neville’s Club in Southern Pines hosts Pool Tournaments every third Wednesday of the month beginning at 8pm. Take advantage of free pool all day. The cost is $10 to enter tournaments. \n \n 
URL:https://thepinestimes.com/event/pool-tournament-2-2/2025-11-19/
LOCATION:Neville’s Club\, 130 W New Hampshire Ave\, Southern Pines\, NC\, 28387\, United States
CATEGORIES:Adults,Games,Hobby/Enthusiast,Live Entertainment,Senior,Social,Southern Pines Events
ATTACH;FMTTYPE=image/jpeg:https://thepinestimes.com/wp-content/uploads/Nevilles-Feature.jpg
END:VEVENT
END:VCALENDAR