BEGIN:VCALENDAR
VERSION:2.0
PRODID:-//The Pines Times - ECPv6.15.20//NONSGML v1.0//EN
CALSCALE:GREGORIAN
METHOD:PUBLISH
X-WR-CALNAME:The Pines Times
X-ORIGINAL-URL:https://thepinestimes.com
X-WR-CALDESC:Events for The Pines Times
REFRESH-INTERVAL;VALUE=DURATION:PT1H
X-Robots-Tag:noindex
X-PUBLISHED-TTL:PT1H
BEGIN:VTIMEZONE
TZID:America/New_York
BEGIN:DAYLIGHT
TZOFFSETFROM:-0500
TZOFFSETTO:-0400
TZNAME:EDT
DTSTART:20250309T070000
END:DAYLIGHT
BEGIN:STANDARD
TZOFFSETFROM:-0400
TZOFFSETTO:-0500
TZNAME:EST
DTSTART:20251102T060000
END:STANDARD
BEGIN:DAYLIGHT
TZOFFSETFROM:-0500
TZOFFSETTO:-0400
TZNAME:EDT
DTSTART:20260308T070000
END:DAYLIGHT
BEGIN:STANDARD
TZOFFSETFROM:-0400
TZOFFSETTO:-0500
TZNAME:EST
DTSTART:20261101T060000
END:STANDARD
BEGIN:DAYLIGHT
TZOFFSETFROM:-0500
TZOFFSETTO:-0400
TZNAME:EDT
DTSTART:20270314T070000
END:DAYLIGHT
BEGIN:STANDARD
TZOFFSETFROM:-0400
TZOFFSETTO:-0500
TZNAME:EST
DTSTART:20271107T060000
END:STANDARD
END:VTIMEZONE
BEGIN:VEVENT
DTSTART;TZID=America/New_York:20260328T190000
DTEND;TZID=America/New_York:20260328T220000
DTSTAMP:20260421T151306
CREATED:20250925T171959Z
LAST-MODIFIED:20260228T212721Z
UID:10082111-1774724400-1774735200@thepinestimes.com
SUMMARY:Sanford Spring Pro Rodeo 2026
DESCRIPTION:Get ready for two exciting nights of rodeo action at the second annual Sanford Pro Rodeo\, happening Friday\, March 27th\, and Saturday\, March 28th at the family-oriented covered LP Arena in Sanford\, NC. This rain-or-shine event brings the thrill of professional rodeo right to our community! \nThis professional rodeo event features top athletes competing in various events\, including bronc riding\, barrel racing\, breakaway\, calf roping\, and bull riding. On both nights\, gates will open at 5:00PM and the rodeo will begin at 7:00PM. While contestant\, vendor\, and ticket information are currently listed as coming soon\, the event promises a full weekend of high-energy competition as Sanford transforms into a “Cowboy Town.” \nFollow the event website link provided below for further information. \n \n 
URL:https://thepinestimes.com/event/sanford-spring-pro-rodeo-2026/2026-03-28/
LOCATION:LP Arena\, 350 Arthur Maddox Rd.\, Sanford\, 27330\, United States
CATEGORIES:Adults,Family,Farm Event,Hobby/Enthusiast,Live Entertainment,Out of Town,Rodeo,Sanford Events,Sanford Events,Sports
ATTACH;FMTTYPE=image/jpeg:https://thepinestimes.com/wp-content/uploads/NewClassicProRodeoFeature.jpg
ORGANIZER;CN="New Classic Pro Rodeo":MAILTO:newclassicprorodeo@gmail.com
END:VEVENT
BEGIN:VEVENT
DTSTART;TZID=America/New_York:20260327T190000
DTEND;TZID=America/New_York:20260327T220000
DTSTAMP:20260421T151306
CREATED:20250925T171959Z
LAST-MODIFIED:20260228T212721Z
UID:10082110-1774638000-1774648800@thepinestimes.com
SUMMARY:Sanford Spring Pro Rodeo 2026
DESCRIPTION:Get ready for two exciting nights of rodeo action at the second annual Sanford Pro Rodeo\, happening Friday\, March 27th\, and Saturday\, March 28th at the family-oriented covered LP Arena in Sanford\, NC. This rain-or-shine event brings the thrill of professional rodeo right to our community! \nThis professional rodeo event features top athletes competing in various events\, including bronc riding\, barrel racing\, breakaway\, calf roping\, and bull riding. On both nights\, gates will open at 5:00PM and the rodeo will begin at 7:00PM. While contestant\, vendor\, and ticket information are currently listed as coming soon\, the event promises a full weekend of high-energy competition as Sanford transforms into a “Cowboy Town.” \nFollow the event website link provided below for further information. \n \n 
URL:https://thepinestimes.com/event/sanford-spring-pro-rodeo-2026/2026-03-27/
LOCATION:LP Arena\, 350 Arthur Maddox Rd.\, Sanford\, 27330\, United States
CATEGORIES:Adults,Family,Farm Event,Hobby/Enthusiast,Live Entertainment,Out of Town,Rodeo,Sanford Events,Sanford Events,Sports
ATTACH;FMTTYPE=image/jpeg:https://thepinestimes.com/wp-content/uploads/NewClassicProRodeoFeature.jpg
ORGANIZER;CN="New Classic Pro Rodeo":MAILTO:newclassicprorodeo@gmail.com
END:VEVENT
END:VCALENDAR