BEGIN:VCALENDAR
VERSION:2.0
PRODID:-//The Pines Times - ECPv6.15.20//NONSGML v1.0//EN
CALSCALE:GREGORIAN
METHOD:PUBLISH
X-ORIGINAL-URL:https://thepinestimes.com
X-WR-CALDESC:Events for The Pines Times
REFRESH-INTERVAL;VALUE=DURATION:PT1H
X-Robots-Tag:noindex
X-PUBLISHED-TTL:PT1H
BEGIN:VTIMEZONE
TZID:America/New_York
BEGIN:DAYLIGHT
TZOFFSETFROM:-0500
TZOFFSETTO:-0400
TZNAME:EDT
DTSTART:20250309T070000
END:DAYLIGHT
BEGIN:STANDARD
TZOFFSETFROM:-0400
TZOFFSETTO:-0500
TZNAME:EST
DTSTART:20251102T060000
END:STANDARD
BEGIN:DAYLIGHT
TZOFFSETFROM:-0500
TZOFFSETTO:-0400
TZNAME:EDT
DTSTART:20260308T070000
END:DAYLIGHT
BEGIN:STANDARD
TZOFFSETFROM:-0400
TZOFFSETTO:-0500
TZNAME:EST
DTSTART:20261101T060000
END:STANDARD
BEGIN:DAYLIGHT
TZOFFSETFROM:-0500
TZOFFSETTO:-0400
TZNAME:EDT
DTSTART:20270314T070000
END:DAYLIGHT
BEGIN:STANDARD
TZOFFSETFROM:-0400
TZOFFSETTO:-0500
TZNAME:EST
DTSTART:20271107T060000
END:STANDARD
END:VTIMEZONE
BEGIN:VEVENT
DTSTART;TZID=America/New_York:20260425T190000
DTEND;TZID=America/New_York:20260425T220000
DTSTAMP:20260425T143450
CREATED:20260421T132853Z
LAST-MODIFIED:20260421T132853Z
UID:10087015-1777143600-1777154400@thepinestimes.com
SUMMARY:1940's Hangar Dance 2026
DESCRIPTION:The North Carolina Aviation Museum & Hall of Fame is hosting the annual 1940’s Hangar Dance on Saturday\, April 25th. The event will take place from 7:00PM-10:00PM at 2222 Pilots View Road in Asheboro. Guests can enjoy a night of swing dancing to live music provided by The Rowan Big Band. Dinner will be catered by Magnolia 23\, featuring their well-known local cuisine. While 1940s-style attire is optional\, attendees are encouraged to dress in vintage outfits to add to the festive atmosphere. \nTickets are priced at $20 per person and will be available for purchase at the door. This annual tradition offers a unique opportunity to experience the nostalgia of the era surrounded by historic aircraft.
URL:https://thepinestimes.com/event/1940s-hangar-dance-2026/
LOCATION:North Carolina Aviation Museum and Hall of Fame\, 2222-G Pilots View Rd.\, Ashboro\, 27205\, United States
CATEGORIES:Adults,Asheboro,Dance,Food,Hobby/Enthusiast,Live Entertainment,Music,Senior,Social,Young Adults
ATTACH;FMTTYPE=image/jpeg:https://thepinestimes.com/wp-content/uploads/HangarDanceFeature.jpg
ORGANIZER;CN="North Carolina Aviation Museum and Hall of Fame":MAILTO:info@ncamhof.com
END:VEVENT
END:VCALENDAR