BEGIN:VCALENDAR
VERSION:2.0
PRODID:-//The Pines Times - ECPv6.15.20//NONSGML v1.0//EN
CALSCALE:GREGORIAN
METHOD:PUBLISH
X-ORIGINAL-URL:https://thepinestimes.com
X-WR-CALDESC:Events for The Pines Times
REFRESH-INTERVAL;VALUE=DURATION:PT1H
X-Robots-Tag:noindex
X-PUBLISHED-TTL:PT1H
BEGIN:VTIMEZONE
TZID:America/New_York
BEGIN:DAYLIGHT
TZOFFSETFROM:-0500
TZOFFSETTO:-0400
TZNAME:EDT
DTSTART:20240310T070000
END:DAYLIGHT
BEGIN:STANDARD
TZOFFSETFROM:-0400
TZOFFSETTO:-0500
TZNAME:EST
DTSTART:20241103T060000
END:STANDARD
BEGIN:DAYLIGHT
TZOFFSETFROM:-0500
TZOFFSETTO:-0400
TZNAME:EDT
DTSTART:20250309T070000
END:DAYLIGHT
BEGIN:STANDARD
TZOFFSETFROM:-0400
TZOFFSETTO:-0500
TZNAME:EST
DTSTART:20251102T060000
END:STANDARD
BEGIN:DAYLIGHT
TZOFFSETFROM:-0500
TZOFFSETTO:-0400
TZNAME:EDT
DTSTART:20260308T070000
END:DAYLIGHT
BEGIN:STANDARD
TZOFFSETFROM:-0400
TZOFFSETTO:-0500
TZNAME:EST
DTSTART:20261101T060000
END:STANDARD
END:VTIMEZONE
BEGIN:VEVENT
DTSTART;TZID=America/New_York:20251016T200000
DTEND;TZID=America/New_York:20251016T203000
DTSTAMP:20260420T191230
CREATED:20241121T183434Z
LAST-MODIFIED:20260224T205130Z
UID:10064062-1760644800-1760646600@thepinestimes.com
SUMMARY:Thursday Karaoke Night
DESCRIPTION:Come out to O’Donnell’s Pub in Southern Pines every Thursday for Karaoke Night! The fun starts at 8:00pm.
URL:https://thepinestimes.com/event/thursday-karaoke-night/2025-10-16/
LOCATION:O’Donnell’s Pub\, 133 E New Hampshire Avenue\, Southern Pines\, NC\, 28387\, United States
CATEGORIES:Adult Connections,Adults,Beer and Wine,Hobby/Enthusiast,Music,Night Life,Pines Connector,Senior,Social,Southern Pines Events
ATTACH;FMTTYPE=image/png:https://thepinestimes.com/wp-content/uploads/Karaoke-e1754409547503.png
END:VEVENT
BEGIN:VEVENT
DTSTART;TZID=America/New_York:20251009T200000
DTEND;TZID=America/New_York:20251009T203000
DTSTAMP:20260420T191230
CREATED:20241121T183434Z
LAST-MODIFIED:20260224T205130Z
UID:10064061-1760040000-1760041800@thepinestimes.com
SUMMARY:Thursday Karaoke Night
DESCRIPTION:Come out to O’Donnell’s Pub in Southern Pines every Thursday for Karaoke Night! The fun starts at 8:00pm.
URL:https://thepinestimes.com/event/thursday-karaoke-night/2025-10-09/
LOCATION:O’Donnell’s Pub\, 133 E New Hampshire Avenue\, Southern Pines\, NC\, 28387\, United States
CATEGORIES:Adult Connections,Adults,Beer and Wine,Hobby/Enthusiast,Music,Night Life,Pines Connector,Senior,Social,Southern Pines Events
ATTACH;FMTTYPE=image/png:https://thepinestimes.com/wp-content/uploads/Karaoke-e1754409547503.png
END:VEVENT
BEGIN:VEVENT
DTSTART;TZID=America/New_York:20251002T200000
DTEND;TZID=America/New_York:20251002T203000
DTSTAMP:20260420T191230
CREATED:20241121T183434Z
LAST-MODIFIED:20260224T205130Z
UID:10064060-1759435200-1759437000@thepinestimes.com
SUMMARY:Thursday Karaoke Night
DESCRIPTION:Come out to O’Donnell’s Pub in Southern Pines every Thursday for Karaoke Night! The fun starts at 8:00pm.
URL:https://thepinestimes.com/event/thursday-karaoke-night/2025-10-02/
LOCATION:O’Donnell’s Pub\, 133 E New Hampshire Avenue\, Southern Pines\, NC\, 28387\, United States
CATEGORIES:Adult Connections,Adults,Beer and Wine,Hobby/Enthusiast,Music,Night Life,Pines Connector,Senior,Social,Southern Pines Events
ATTACH;FMTTYPE=image/png:https://thepinestimes.com/wp-content/uploads/Karaoke-e1754409547503.png
END:VEVENT
BEGIN:VEVENT
DTSTART;TZID=America/New_York:20250925T200000
DTEND;TZID=America/New_York:20250925T203000
DTSTAMP:20260420T191230
CREATED:20241121T183434Z
LAST-MODIFIED:20260224T205130Z
UID:10060744-1758830400-1758832200@thepinestimes.com
SUMMARY:Thursday Karaoke Night
DESCRIPTION:Come out to O’Donnell’s Pub in Southern Pines every Thursday for Karaoke Night! The fun starts at 8:00pm.
URL:https://thepinestimes.com/event/thursday-karaoke-night/2025-09-25/
LOCATION:O’Donnell’s Pub\, 133 E New Hampshire Avenue\, Southern Pines\, NC\, 28387\, United States
CATEGORIES:Adult Connections,Adults,Beer and Wine,Hobby/Enthusiast,Music,Night Life,Pines Connector,Senior,Social,Southern Pines Events
ATTACH;FMTTYPE=image/png:https://thepinestimes.com/wp-content/uploads/Karaoke-e1754409547503.png
END:VEVENT
BEGIN:VEVENT
DTSTART;TZID=America/New_York:20250918T200000
DTEND;TZID=America/New_York:20250918T203000
DTSTAMP:20260420T191230
CREATED:20241121T183434Z
LAST-MODIFIED:20260224T205130Z
UID:10060743-1758225600-1758227400@thepinestimes.com
SUMMARY:Thursday Karaoke Night
DESCRIPTION:Come out to O’Donnell’s Pub in Southern Pines every Thursday for Karaoke Night! The fun starts at 8:00pm.
URL:https://thepinestimes.com/event/thursday-karaoke-night/2025-09-18/
LOCATION:O’Donnell’s Pub\, 133 E New Hampshire Avenue\, Southern Pines\, NC\, 28387\, United States
CATEGORIES:Adult Connections,Adults,Beer and Wine,Hobby/Enthusiast,Music,Night Life,Pines Connector,Senior,Social,Southern Pines Events
ATTACH;FMTTYPE=image/png:https://thepinestimes.com/wp-content/uploads/Karaoke-e1754409547503.png
END:VEVENT
BEGIN:VEVENT
DTSTART;TZID=America/New_York:20250911T200000
DTEND;TZID=America/New_York:20250911T203000
DTSTAMP:20260420T191230
CREATED:20241121T183434Z
LAST-MODIFIED:20260224T205130Z
UID:10060742-1757620800-1757622600@thepinestimes.com
SUMMARY:Thursday Karaoke Night
DESCRIPTION:Come out to O’Donnell’s Pub in Southern Pines every Thursday for Karaoke Night! The fun starts at 8:00pm.
URL:https://thepinestimes.com/event/thursday-karaoke-night/2025-09-11/
LOCATION:O’Donnell’s Pub\, 133 E New Hampshire Avenue\, Southern Pines\, NC\, 28387\, United States
CATEGORIES:Adult Connections,Adults,Beer and Wine,Hobby/Enthusiast,Music,Night Life,Pines Connector,Senior,Social,Southern Pines Events
ATTACH;FMTTYPE=image/png:https://thepinestimes.com/wp-content/uploads/Karaoke-e1754409547503.png
END:VEVENT
BEGIN:VEVENT
DTSTART;TZID=America/New_York:20250904T200000
DTEND;TZID=America/New_York:20250904T203000
DTSTAMP:20260420T191230
CREATED:20241121T183434Z
LAST-MODIFIED:20260224T205130Z
UID:10060741-1757016000-1757017800@thepinestimes.com
SUMMARY:Thursday Karaoke Night
DESCRIPTION:Come out to O’Donnell’s Pub in Southern Pines every Thursday for Karaoke Night! The fun starts at 8:00pm.
URL:https://thepinestimes.com/event/thursday-karaoke-night/2025-09-04/
LOCATION:O’Donnell’s Pub\, 133 E New Hampshire Avenue\, Southern Pines\, NC\, 28387\, United States
CATEGORIES:Adult Connections,Adults,Beer and Wine,Hobby/Enthusiast,Music,Night Life,Pines Connector,Senior,Social,Southern Pines Events
ATTACH;FMTTYPE=image/png:https://thepinestimes.com/wp-content/uploads/Karaoke-e1754409547503.png
END:VEVENT
BEGIN:VEVENT
DTSTART;TZID=America/New_York:20250828T200000
DTEND;TZID=America/New_York:20250828T203000
DTSTAMP:20260420T191230
CREATED:20241121T183434Z
LAST-MODIFIED:20260224T205130Z
UID:10060740-1756411200-1756413000@thepinestimes.com
SUMMARY:Thursday Karaoke Night
DESCRIPTION:Come out to O’Donnell’s Pub in Southern Pines every Thursday for Karaoke Night! The fun starts at 8:00pm.
URL:https://thepinestimes.com/event/thursday-karaoke-night/2025-08-28/
LOCATION:O’Donnell’s Pub\, 133 E New Hampshire Avenue\, Southern Pines\, NC\, 28387\, United States
CATEGORIES:Adult Connections,Adults,Beer and Wine,Hobby/Enthusiast,Music,Night Life,Pines Connector,Senior,Social,Southern Pines Events
ATTACH;FMTTYPE=image/png:https://thepinestimes.com/wp-content/uploads/Karaoke-e1754409547503.png
END:VEVENT
BEGIN:VEVENT
DTSTART;TZID=America/New_York:20250821T200000
DTEND;TZID=America/New_York:20250821T203000
DTSTAMP:20260420T191230
CREATED:20241121T183434Z
LAST-MODIFIED:20260224T205130Z
UID:10060739-1755806400-1755808200@thepinestimes.com
SUMMARY:Thursday Karaoke Night
DESCRIPTION:Come out to O’Donnell’s Pub in Southern Pines every Thursday for Karaoke Night! The fun starts at 8:00pm.
URL:https://thepinestimes.com/event/thursday-karaoke-night/2025-08-21/
LOCATION:O’Donnell’s Pub\, 133 E New Hampshire Avenue\, Southern Pines\, NC\, 28387\, United States
CATEGORIES:Adult Connections,Adults,Beer and Wine,Hobby/Enthusiast,Music,Night Life,Pines Connector,Senior,Social,Southern Pines Events
ATTACH;FMTTYPE=image/png:https://thepinestimes.com/wp-content/uploads/Karaoke-e1754409547503.png
END:VEVENT
BEGIN:VEVENT
DTSTART;TZID=America/New_York:20250814T200000
DTEND;TZID=America/New_York:20250814T203000
DTSTAMP:20260420T191230
CREATED:20241121T183434Z
LAST-MODIFIED:20260224T205130Z
UID:10060738-1755201600-1755203400@thepinestimes.com
SUMMARY:Thursday Karaoke Night
DESCRIPTION:Come out to O’Donnell’s Pub in Southern Pines every Thursday for Karaoke Night! The fun starts at 8:00pm.
URL:https://thepinestimes.com/event/thursday-karaoke-night/2025-08-14/
LOCATION:O’Donnell’s Pub\, 133 E New Hampshire Avenue\, Southern Pines\, NC\, 28387\, United States
CATEGORIES:Adult Connections,Adults,Beer and Wine,Hobby/Enthusiast,Music,Night Life,Pines Connector,Senior,Social,Southern Pines Events
ATTACH;FMTTYPE=image/png:https://thepinestimes.com/wp-content/uploads/Karaoke-e1754409547503.png
END:VEVENT
BEGIN:VEVENT
DTSTART;TZID=America/New_York:20250807T200000
DTEND;TZID=America/New_York:20250807T203000
DTSTAMP:20260420T191230
CREATED:20241121T183434Z
LAST-MODIFIED:20260224T205130Z
UID:10060737-1754596800-1754598600@thepinestimes.com
SUMMARY:Thursday Karaoke Night
DESCRIPTION:Come out to O’Donnell’s Pub in Southern Pines every Thursday for Karaoke Night! The fun starts at 8:00pm.
URL:https://thepinestimes.com/event/thursday-karaoke-night/2025-08-07/
LOCATION:O’Donnell’s Pub\, 133 E New Hampshire Avenue\, Southern Pines\, NC\, 28387\, United States
CATEGORIES:Adult Connections,Adults,Beer and Wine,Hobby/Enthusiast,Music,Night Life,Pines Connector,Senior,Social,Southern Pines Events
ATTACH;FMTTYPE=image/png:https://thepinestimes.com/wp-content/uploads/Karaoke-e1754409547503.png
END:VEVENT
BEGIN:VEVENT
DTSTART;TZID=America/New_York:20250731T200000
DTEND;TZID=America/New_York:20250731T203000
DTSTAMP:20260420T191230
CREATED:20241121T183434Z
LAST-MODIFIED:20260224T205130Z
UID:10060736-1753992000-1753993800@thepinestimes.com
SUMMARY:Thursday Karaoke Night
DESCRIPTION:Come out to O’Donnell’s Pub in Southern Pines every Thursday for Karaoke Night! The fun starts at 8:00pm.
URL:https://thepinestimes.com/event/thursday-karaoke-night/2025-07-31/
LOCATION:O’Donnell’s Pub\, 133 E New Hampshire Avenue\, Southern Pines\, NC\, 28387\, United States
CATEGORIES:Adult Connections,Adults,Beer and Wine,Hobby/Enthusiast,Music,Night Life,Pines Connector,Senior,Social,Southern Pines Events
ATTACH;FMTTYPE=image/png:https://thepinestimes.com/wp-content/uploads/Karaoke-e1754409547503.png
END:VEVENT
BEGIN:VEVENT
DTSTART;TZID=America/New_York:20250724T200000
DTEND;TZID=America/New_York:20250724T203000
DTSTAMP:20260420T191230
CREATED:20241121T183434Z
LAST-MODIFIED:20260224T205130Z
UID:10060735-1753387200-1753389000@thepinestimes.com
SUMMARY:Thursday Karaoke Night
DESCRIPTION:Come out to O’Donnell’s Pub in Southern Pines every Thursday for Karaoke Night! The fun starts at 8:00pm.
URL:https://thepinestimes.com/event/thursday-karaoke-night/2025-07-24/
LOCATION:O’Donnell’s Pub\, 133 E New Hampshire Avenue\, Southern Pines\, NC\, 28387\, United States
CATEGORIES:Adult Connections,Adults,Beer and Wine,Hobby/Enthusiast,Music,Night Life,Pines Connector,Senior,Social,Southern Pines Events
ATTACH;FMTTYPE=image/png:https://thepinestimes.com/wp-content/uploads/Karaoke-e1754409547503.png
END:VEVENT
BEGIN:VEVENT
DTSTART;TZID=America/New_York:20250717T200000
DTEND;TZID=America/New_York:20250717T203000
DTSTAMP:20260420T191230
CREATED:20241121T183434Z
LAST-MODIFIED:20260224T205130Z
UID:10060734-1752782400-1752784200@thepinestimes.com
SUMMARY:Thursday Karaoke Night
DESCRIPTION:Come out to O’Donnell’s Pub in Southern Pines every Thursday for Karaoke Night! The fun starts at 8:00pm.
URL:https://thepinestimes.com/event/thursday-karaoke-night/2025-07-17/
LOCATION:O’Donnell’s Pub\, 133 E New Hampshire Avenue\, Southern Pines\, NC\, 28387\, United States
CATEGORIES:Adult Connections,Adults,Beer and Wine,Hobby/Enthusiast,Music,Night Life,Pines Connector,Senior,Social,Southern Pines Events
ATTACH;FMTTYPE=image/png:https://thepinestimes.com/wp-content/uploads/Karaoke-e1754409547503.png
END:VEVENT
BEGIN:VEVENT
DTSTART;TZID=America/New_York:20250710T200000
DTEND;TZID=America/New_York:20250710T203000
DTSTAMP:20260420T191230
CREATED:20241121T183434Z
LAST-MODIFIED:20260224T205130Z
UID:10060733-1752177600-1752179400@thepinestimes.com
SUMMARY:Thursday Karaoke Night
DESCRIPTION:Come out to O’Donnell’s Pub in Southern Pines every Thursday for Karaoke Night! The fun starts at 8:00pm.
URL:https://thepinestimes.com/event/thursday-karaoke-night/2025-07-10/
LOCATION:O’Donnell’s Pub\, 133 E New Hampshire Avenue\, Southern Pines\, NC\, 28387\, United States
CATEGORIES:Adult Connections,Adults,Beer and Wine,Hobby/Enthusiast,Music,Night Life,Pines Connector,Senior,Social,Southern Pines Events
ATTACH;FMTTYPE=image/png:https://thepinestimes.com/wp-content/uploads/Karaoke-e1754409547503.png
END:VEVENT
BEGIN:VEVENT
DTSTART;TZID=America/New_York:20250703T200000
DTEND;TZID=America/New_York:20250703T203000
DTSTAMP:20260420T191230
CREATED:20241121T183434Z
LAST-MODIFIED:20260224T205130Z
UID:10060732-1751572800-1751574600@thepinestimes.com
SUMMARY:Thursday Karaoke Night
DESCRIPTION:Come out to O’Donnell’s Pub in Southern Pines every Thursday for Karaoke Night! The fun starts at 8:00pm.
URL:https://thepinestimes.com/event/thursday-karaoke-night/2025-07-03/
LOCATION:O’Donnell’s Pub\, 133 E New Hampshire Avenue\, Southern Pines\, NC\, 28387\, United States
CATEGORIES:Adult Connections,Adults,Beer and Wine,Hobby/Enthusiast,Music,Night Life,Pines Connector,Senior,Social,Southern Pines Events
ATTACH;FMTTYPE=image/png:https://thepinestimes.com/wp-content/uploads/Karaoke-e1754409547503.png
END:VEVENT
BEGIN:VEVENT
DTSTART;TZID=America/New_York:20250626T200000
DTEND;TZID=America/New_York:20250626T203000
DTSTAMP:20260420T191230
CREATED:20241121T183434Z
LAST-MODIFIED:20260224T205130Z
UID:10060731-1750968000-1750969800@thepinestimes.com
SUMMARY:Thursday Karaoke Night
DESCRIPTION:Come out to O’Donnell’s Pub in Southern Pines every Thursday for Karaoke Night! The fun starts at 8:00pm.
URL:https://thepinestimes.com/event/thursday-karaoke-night/2025-06-26/
LOCATION:O’Donnell’s Pub\, 133 E New Hampshire Avenue\, Southern Pines\, NC\, 28387\, United States
CATEGORIES:Adult Connections,Adults,Beer and Wine,Hobby/Enthusiast,Music,Night Life,Pines Connector,Senior,Social,Southern Pines Events
ATTACH;FMTTYPE=image/png:https://thepinestimes.com/wp-content/uploads/Karaoke-e1754409547503.png
END:VEVENT
BEGIN:VEVENT
DTSTART;TZID=America/New_York:20250619T200000
DTEND;TZID=America/New_York:20250619T203000
DTSTAMP:20260420T191231
CREATED:20241121T183434Z
LAST-MODIFIED:20260224T205130Z
UID:10060730-1750363200-1750365000@thepinestimes.com
SUMMARY:Thursday Karaoke Night
DESCRIPTION:Come out to O’Donnell’s Pub in Southern Pines every Thursday for Karaoke Night! The fun starts at 8:00pm.
URL:https://thepinestimes.com/event/thursday-karaoke-night/2025-06-19/
LOCATION:O’Donnell’s Pub\, 133 E New Hampshire Avenue\, Southern Pines\, NC\, 28387\, United States
CATEGORIES:Adult Connections,Adults,Beer and Wine,Hobby/Enthusiast,Music,Night Life,Pines Connector,Senior,Social,Southern Pines Events
ATTACH;FMTTYPE=image/png:https://thepinestimes.com/wp-content/uploads/Karaoke-e1754409547503.png
END:VEVENT
BEGIN:VEVENT
DTSTART;TZID=America/New_York:20250612T200000
DTEND;TZID=America/New_York:20250612T203000
DTSTAMP:20260420T191231
CREATED:20241121T183434Z
LAST-MODIFIED:20260224T205130Z
UID:10060729-1749758400-1749760200@thepinestimes.com
SUMMARY:Thursday Karaoke Night
DESCRIPTION:Come out to O’Donnell’s Pub in Southern Pines every Thursday for Karaoke Night! The fun starts at 8:00pm.
URL:https://thepinestimes.com/event/thursday-karaoke-night/2025-06-12/
LOCATION:O’Donnell’s Pub\, 133 E New Hampshire Avenue\, Southern Pines\, NC\, 28387\, United States
CATEGORIES:Adult Connections,Adults,Beer and Wine,Hobby/Enthusiast,Music,Night Life,Pines Connector,Senior,Social,Southern Pines Events
ATTACH;FMTTYPE=image/png:https://thepinestimes.com/wp-content/uploads/Karaoke-e1754409547503.png
END:VEVENT
BEGIN:VEVENT
DTSTART;TZID=America/New_York:20250605T200000
DTEND;TZID=America/New_York:20250605T203000
DTSTAMP:20260420T191231
CREATED:20241121T183434Z
LAST-MODIFIED:20260224T205130Z
UID:10060728-1749153600-1749155400@thepinestimes.com
SUMMARY:Thursday Karaoke Night
DESCRIPTION:Come out to O’Donnell’s Pub in Southern Pines every Thursday for Karaoke Night! The fun starts at 8:00pm.
URL:https://thepinestimes.com/event/thursday-karaoke-night/2025-06-05/
LOCATION:O’Donnell’s Pub\, 133 E New Hampshire Avenue\, Southern Pines\, NC\, 28387\, United States
CATEGORIES:Adult Connections,Adults,Beer and Wine,Hobby/Enthusiast,Music,Night Life,Pines Connector,Senior,Social,Southern Pines Events
ATTACH;FMTTYPE=image/png:https://thepinestimes.com/wp-content/uploads/Karaoke-e1754409547503.png
END:VEVENT
BEGIN:VEVENT
DTSTART;TZID=America/New_York:20250529T200000
DTEND;TZID=America/New_York:20250529T203000
DTSTAMP:20260420T191231
CREATED:20241121T183434Z
LAST-MODIFIED:20260224T205130Z
UID:10055246-1748548800-1748550600@thepinestimes.com
SUMMARY:Thursday Karaoke Night
DESCRIPTION:Come out to O’Donnell’s Pub in Southern Pines every Thursday for Karaoke Night! The fun starts at 8:00pm.
URL:https://thepinestimes.com/event/thursday-karaoke-night/2025-05-29/
LOCATION:O’Donnell’s Pub\, 133 E New Hampshire Avenue\, Southern Pines\, NC\, 28387\, United States
CATEGORIES:Adult Connections,Adults,Beer and Wine,Hobby/Enthusiast,Music,Night Life,Pines Connector,Senior,Social,Southern Pines Events
ATTACH;FMTTYPE=image/png:https://thepinestimes.com/wp-content/uploads/Karaoke-e1754409547503.png
END:VEVENT
BEGIN:VEVENT
DTSTART;TZID=America/New_York:20250522T200000
DTEND;TZID=America/New_York:20250522T203000
DTSTAMP:20260420T191231
CREATED:20241121T183434Z
LAST-MODIFIED:20260224T205130Z
UID:10055245-1747944000-1747945800@thepinestimes.com
SUMMARY:Thursday Karaoke Night
DESCRIPTION:Come out to O’Donnell’s Pub in Southern Pines every Thursday for Karaoke Night! The fun starts at 8:00pm.
URL:https://thepinestimes.com/event/thursday-karaoke-night/2025-05-22/
LOCATION:O’Donnell’s Pub\, 133 E New Hampshire Avenue\, Southern Pines\, NC\, 28387\, United States
CATEGORIES:Adult Connections,Adults,Beer and Wine,Hobby/Enthusiast,Music,Night Life,Pines Connector,Senior,Social,Southern Pines Events
ATTACH;FMTTYPE=image/png:https://thepinestimes.com/wp-content/uploads/Karaoke-e1754409547503.png
END:VEVENT
BEGIN:VEVENT
DTSTART;TZID=America/New_York:20250515T200000
DTEND;TZID=America/New_York:20250515T203000
DTSTAMP:20260420T191231
CREATED:20241121T183434Z
LAST-MODIFIED:20260224T205130Z
UID:10055244-1747339200-1747341000@thepinestimes.com
SUMMARY:Thursday Karaoke Night
DESCRIPTION:Come out to O’Donnell’s Pub in Southern Pines every Thursday for Karaoke Night! The fun starts at 8:00pm.
URL:https://thepinestimes.com/event/thursday-karaoke-night/2025-05-15/
LOCATION:O’Donnell’s Pub\, 133 E New Hampshire Avenue\, Southern Pines\, NC\, 28387\, United States
CATEGORIES:Adult Connections,Adults,Beer and Wine,Hobby/Enthusiast,Music,Night Life,Pines Connector,Senior,Social,Southern Pines Events
ATTACH;FMTTYPE=image/png:https://thepinestimes.com/wp-content/uploads/Karaoke-e1754409547503.png
END:VEVENT
BEGIN:VEVENT
DTSTART;TZID=America/New_York:20250508T200000
DTEND;TZID=America/New_York:20250508T203000
DTSTAMP:20260420T191231
CREATED:20241121T183434Z
LAST-MODIFIED:20260224T205130Z
UID:10055243-1746734400-1746736200@thepinestimes.com
SUMMARY:Thursday Karaoke Night
DESCRIPTION:Come out to O’Donnell’s Pub in Southern Pines every Thursday for Karaoke Night! The fun starts at 8:00pm.
URL:https://thepinestimes.com/event/thursday-karaoke-night/2025-05-08/
LOCATION:O’Donnell’s Pub\, 133 E New Hampshire Avenue\, Southern Pines\, NC\, 28387\, United States
CATEGORIES:Adult Connections,Adults,Beer and Wine,Hobby/Enthusiast,Music,Night Life,Pines Connector,Senior,Social,Southern Pines Events
ATTACH;FMTTYPE=image/png:https://thepinestimes.com/wp-content/uploads/Karaoke-e1754409547503.png
END:VEVENT
BEGIN:VEVENT
DTSTART;TZID=America/New_York:20250501T200000
DTEND;TZID=America/New_York:20250501T203000
DTSTAMP:20260420T191231
CREATED:20241121T183434Z
LAST-MODIFIED:20260224T205130Z
UID:10055242-1746129600-1746131400@thepinestimes.com
SUMMARY:Thursday Karaoke Night
DESCRIPTION:Come out to O’Donnell’s Pub in Southern Pines every Thursday for Karaoke Night! The fun starts at 8:00pm.
URL:https://thepinestimes.com/event/thursday-karaoke-night/2025-05-01/
LOCATION:O’Donnell’s Pub\, 133 E New Hampshire Avenue\, Southern Pines\, NC\, 28387\, United States
CATEGORIES:Adult Connections,Adults,Beer and Wine,Hobby/Enthusiast,Music,Night Life,Pines Connector,Senior,Social,Southern Pines Events
ATTACH;FMTTYPE=image/png:https://thepinestimes.com/wp-content/uploads/Karaoke-e1754409547503.png
END:VEVENT
BEGIN:VEVENT
DTSTART;TZID=America/New_York:20250424T200000
DTEND;TZID=America/New_York:20250424T203000
DTSTAMP:20260420T191231
CREATED:20241121T183434Z
LAST-MODIFIED:20260224T205130Z
UID:10055241-1745524800-1745526600@thepinestimes.com
SUMMARY:Thursday Karaoke Night
DESCRIPTION:Come out to O’Donnell’s Pub in Southern Pines every Thursday for Karaoke Night! The fun starts at 8:00pm.
URL:https://thepinestimes.com/event/thursday-karaoke-night/2025-04-24/
LOCATION:O’Donnell’s Pub\, 133 E New Hampshire Avenue\, Southern Pines\, NC\, 28387\, United States
CATEGORIES:Adult Connections,Adults,Beer and Wine,Hobby/Enthusiast,Music,Night Life,Pines Connector,Senior,Social,Southern Pines Events
ATTACH;FMTTYPE=image/png:https://thepinestimes.com/wp-content/uploads/Karaoke-e1754409547503.png
END:VEVENT
BEGIN:VEVENT
DTSTART;TZID=America/New_York:20250417T200000
DTEND;TZID=America/New_York:20250417T203000
DTSTAMP:20260420T191231
CREATED:20241121T183434Z
LAST-MODIFIED:20260224T205130Z
UID:10055240-1744920000-1744921800@thepinestimes.com
SUMMARY:Thursday Karaoke Night
DESCRIPTION:Come out to O’Donnell’s Pub in Southern Pines every Thursday for Karaoke Night! The fun starts at 8:00pm.
URL:https://thepinestimes.com/event/thursday-karaoke-night/2025-04-17/
LOCATION:O’Donnell’s Pub\, 133 E New Hampshire Avenue\, Southern Pines\, NC\, 28387\, United States
CATEGORIES:Adult Connections,Adults,Beer and Wine,Hobby/Enthusiast,Music,Night Life,Pines Connector,Senior,Social,Southern Pines Events
ATTACH;FMTTYPE=image/png:https://thepinestimes.com/wp-content/uploads/Karaoke-e1754409547503.png
END:VEVENT
BEGIN:VEVENT
DTSTART;TZID=America/New_York:20250410T200000
DTEND;TZID=America/New_York:20250410T203000
DTSTAMP:20260420T191231
CREATED:20241121T183434Z
LAST-MODIFIED:20260224T205130Z
UID:10055239-1744315200-1744317000@thepinestimes.com
SUMMARY:Thursday Karaoke Night
DESCRIPTION:Come out to O’Donnell’s Pub in Southern Pines every Thursday for Karaoke Night! The fun starts at 8:00pm.
URL:https://thepinestimes.com/event/thursday-karaoke-night/2025-04-10/
LOCATION:O’Donnell’s Pub\, 133 E New Hampshire Avenue\, Southern Pines\, NC\, 28387\, United States
CATEGORIES:Adult Connections,Adults,Beer and Wine,Hobby/Enthusiast,Music,Night Life,Pines Connector,Senior,Social,Southern Pines Events
ATTACH;FMTTYPE=image/png:https://thepinestimes.com/wp-content/uploads/Karaoke-e1754409547503.png
END:VEVENT
BEGIN:VEVENT
DTSTART;TZID=America/New_York:20250403T200000
DTEND;TZID=America/New_York:20250403T203000
DTSTAMP:20260420T191231
CREATED:20241121T183434Z
LAST-MODIFIED:20260224T205130Z
UID:10055238-1743710400-1743712200@thepinestimes.com
SUMMARY:Thursday Karaoke Night
DESCRIPTION:Come out to O’Donnell’s Pub in Southern Pines every Thursday for Karaoke Night! The fun starts at 8:00pm.
URL:https://thepinestimes.com/event/thursday-karaoke-night/2025-04-03/
LOCATION:O’Donnell’s Pub\, 133 E New Hampshire Avenue\, Southern Pines\, NC\, 28387\, United States
CATEGORIES:Adult Connections,Adults,Beer and Wine,Hobby/Enthusiast,Music,Night Life,Pines Connector,Senior,Social,Southern Pines Events
ATTACH;FMTTYPE=image/png:https://thepinestimes.com/wp-content/uploads/Karaoke-e1754409547503.png
END:VEVENT
BEGIN:VEVENT
DTSTART;TZID=America/New_York:20250327T200000
DTEND;TZID=America/New_York:20250327T203000
DTSTAMP:20260420T191231
CREATED:20241121T183434Z
LAST-MODIFIED:20260224T205130Z
UID:10049280-1743105600-1743107400@thepinestimes.com
SUMMARY:Thursday Karaoke Night
DESCRIPTION:Come out to O’Donnell’s Pub in Southern Pines every Thursday for Karaoke Night! The fun starts at 8:00pm.
URL:https://thepinestimes.com/event/thursday-karaoke-night/2025-03-27/
LOCATION:O’Donnell’s Pub\, 133 E New Hampshire Avenue\, Southern Pines\, NC\, 28387\, United States
CATEGORIES:Adult Connections,Adults,Beer and Wine,Hobby/Enthusiast,Music,Night Life,Pines Connector,Senior,Social,Southern Pines Events
ATTACH;FMTTYPE=image/png:https://thepinestimes.com/wp-content/uploads/Karaoke-e1754409547503.png
END:VEVENT
END:VCALENDAR