BEGIN:VCALENDAR
VERSION:2.0
PRODID:-//The Pines Times - ECPv6.15.20//NONSGML v1.0//EN
CALSCALE:GREGORIAN
METHOD:PUBLISH
X-WR-CALNAME:The Pines Times
X-ORIGINAL-URL:https://thepinestimes.com
X-WR-CALDESC:Events for The Pines Times
REFRESH-INTERVAL;VALUE=DURATION:PT1H
X-Robots-Tag:noindex
X-PUBLISHED-TTL:PT1H
BEGIN:VTIMEZONE
TZID:America/New_York
BEGIN:DAYLIGHT
TZOFFSETFROM:-0500
TZOFFSETTO:-0400
TZNAME:EDT
DTSTART:20250309T070000
END:DAYLIGHT
BEGIN:STANDARD
TZOFFSETFROM:-0400
TZOFFSETTO:-0500
TZNAME:EST
DTSTART:20251102T060000
END:STANDARD
BEGIN:DAYLIGHT
TZOFFSETFROM:-0500
TZOFFSETTO:-0400
TZNAME:EDT
DTSTART:20260308T070000
END:DAYLIGHT
BEGIN:STANDARD
TZOFFSETFROM:-0400
TZOFFSETTO:-0500
TZNAME:EST
DTSTART:20261101T060000
END:STANDARD
BEGIN:DAYLIGHT
TZOFFSETFROM:-0500
TZOFFSETTO:-0400
TZNAME:EDT
DTSTART:20270314T070000
END:DAYLIGHT
BEGIN:STANDARD
TZOFFSETFROM:-0400
TZOFFSETTO:-0500
TZNAME:EST
DTSTART:20271107T060000
END:STANDARD
END:VTIMEZONE
BEGIN:VEVENT
DTSTART;TZID=America/New_York:20260516T090000
DTEND;TZID=America/New_York:20260516T170000
DTSTAMP:20260421T155046
CREATED:20230519T230536Z
LAST-MODIFIED:20260310T185832Z
UID:10035284-1778922000-1778950800@thepinestimes.com
SUMMARY:Crank Up at Ole Gilliam Mill Park 2026
DESCRIPTION:Come out for the 45th Ole Gilliam Mill Park “Crank Up” event on Saturday\, May 16th and Sunday\, May 17th! The old engines (steam and hit & miss) will be started up and the old sawmill will be running\, grist mill\, shingle & tobacco stick cutters. There will be several demos throughout the weekend including blacksmith\, weaving\, clothes washing. Enjoy browsing many vendors\, historical exhibits\, antique tractors\, tractor rides\, music\, food\, activities for the children and more! Enjoy time at the longest covered bridge in North Carolina! \nOnce a year we “Crank up” the old equipment and run demonstrations. From 9:00AM-5:00PM you can see an old sawmill in operation\, a “hit & miss” motor driven log splitter\, and a variety of of uses for “hit and miss” engines of all sizes. You can also see a liquor still in operation\, and weaving demonstrations. In addition\, you can take a tour of the park behind a 1950’s tractor\, watch a blacksmith at work\, and eat some ice cream. The grist mill will be cranked up for demonstration but we will not have cornmeal or grits for sale. Once again\, the main food concession will be run by Stubbs BBQ! ​ We will also have food trucks and a variety of vendors. (Please see the Vendor tab if you would like to be a vendor. The Crank-Up is always the weekend after Mother’s Day. \n  \n 
URL:https://thepinestimes.com/event/crank-up-at-ole-gilliam-mill-park-2026/2026-05-16/
LOCATION:Ole Gilliam Mill Park\, 4699 Carbonton Rd.\, Sanford\, NC\, 27330\, United States
CATEGORIES:Antiques,Arts,Crafts,Demonstrations,Educational,Exhibits,Family,Food,Historical,Music,Sanford Events,Social,Tours,Vendors
ATTACH;FMTTYPE=image/jpeg:https://thepinestimes.com/wp-content/uploads/OleGilliamMillParkFeature-1.jpg
END:VEVENT
BEGIN:VEVENT
DTSTART;TZID=America/New_York:20260517T090000
DTEND;TZID=America/New_York:20260517T170000
DTSTAMP:20260421T155046
CREATED:20230519T230536Z
LAST-MODIFIED:20260310T185832Z
UID:10083073-1779008400-1779037200@thepinestimes.com
SUMMARY:Crank Up at Ole Gilliam Mill Park 2026
DESCRIPTION:Come out for the 45th Ole Gilliam Mill Park “Crank Up” event on Saturday\, May 16th and Sunday\, May 17th! The old engines (steam and hit & miss) will be started up and the old sawmill will be running\, grist mill\, shingle & tobacco stick cutters. There will be several demos throughout the weekend including blacksmith\, weaving\, clothes washing. Enjoy browsing many vendors\, historical exhibits\, antique tractors\, tractor rides\, music\, food\, activities for the children and more! Enjoy time at the longest covered bridge in North Carolina! \nOnce a year we “Crank up” the old equipment and run demonstrations. From 9:00AM-5:00PM you can see an old sawmill in operation\, a “hit & miss” motor driven log splitter\, and a variety of of uses for “hit and miss” engines of all sizes. You can also see a liquor still in operation\, and weaving demonstrations. In addition\, you can take a tour of the park behind a 1950’s tractor\, watch a blacksmith at work\, and eat some ice cream. The grist mill will be cranked up for demonstration but we will not have cornmeal or grits for sale. Once again\, the main food concession will be run by Stubbs BBQ! ​ We will also have food trucks and a variety of vendors. (Please see the Vendor tab if you would like to be a vendor. The Crank-Up is always the weekend after Mother’s Day. \n  \n 
URL:https://thepinestimes.com/event/crank-up-at-ole-gilliam-mill-park-2026/2026-05-17/
LOCATION:Ole Gilliam Mill Park\, 4699 Carbonton Rd.\, Sanford\, NC\, 27330\, United States
CATEGORIES:Antiques,Arts,Crafts,Demonstrations,Educational,Exhibits,Family,Food,Historical,Music,Sanford Events,Social,Tours,Vendors
ATTACH;FMTTYPE=image/jpeg:https://thepinestimes.com/wp-content/uploads/OleGilliamMillParkFeature-1.jpg
END:VEVENT
END:VCALENDAR