BEGIN:VCALENDAR
VERSION:2.0
PRODID:-//The Pines Times - ECPv6.15.20//NONSGML v1.0//EN
CALSCALE:GREGORIAN
METHOD:PUBLISH
X-ORIGINAL-URL:https://thepinestimes.com
X-WR-CALDESC:Events for The Pines Times
REFRESH-INTERVAL;VALUE=DURATION:PT1H
X-Robots-Tag:noindex
X-PUBLISHED-TTL:PT1H
BEGIN:VTIMEZONE
TZID:America/New_York
BEGIN:DAYLIGHT
TZOFFSETFROM:-0500
TZOFFSETTO:-0400
TZNAME:EDT
DTSTART:20240310T070000
END:DAYLIGHT
BEGIN:STANDARD
TZOFFSETFROM:-0400
TZOFFSETTO:-0500
TZNAME:EST
DTSTART:20241103T060000
END:STANDARD
BEGIN:DAYLIGHT
TZOFFSETFROM:-0500
TZOFFSETTO:-0400
TZNAME:EDT
DTSTART:20250309T070000
END:DAYLIGHT
BEGIN:STANDARD
TZOFFSETFROM:-0400
TZOFFSETTO:-0500
TZNAME:EST
DTSTART:20251102T060000
END:STANDARD
BEGIN:DAYLIGHT
TZOFFSETFROM:-0500
TZOFFSETTO:-0400
TZNAME:EDT
DTSTART:20260308T070000
END:DAYLIGHT
BEGIN:STANDARD
TZOFFSETFROM:-0400
TZOFFSETTO:-0500
TZNAME:EST
DTSTART:20261101T060000
END:STANDARD
BEGIN:DAYLIGHT
TZOFFSETFROM:-0500
TZOFFSETTO:-0400
TZNAME:EDT
DTSTART:20270314T070000
END:DAYLIGHT
BEGIN:STANDARD
TZOFFSETFROM:-0400
TZOFFSETTO:-0500
TZNAME:EST
DTSTART:20271107T060000
END:STANDARD
END:VTIMEZONE
BEGIN:VEVENT
DTSTART;TZID=America/New_York:20260330T100000
DTEND;TZID=America/New_York:20260330T170000
DTSTAMP:20260420T023054
CREATED:20260328T160148Z
LAST-MODIFIED:20260328T160148Z
UID:10085277-1774864800-1774890000@thepinestimes.com
SUMMARY:Community Blood Drive
DESCRIPTION:Donate Blood. Save a life. FirstHealth Fitness-Pinehurst and is hosting a blood drive with OneBlood\, and your donation can help save lives in our community. You can make a big difference with just a little bit of your time on Monday\, March 30th\, from 10AM-5PM. Walk-ins are welcome\, or you can sign up for an appointment online. To register\, follow the link provided below. \n  \n  \n 
URL:https://thepinestimes.com/event/community-blood-drive/
LOCATION:FirstHealth Fitness Center-Pinehurst\, 170 Memorial Dr.\, Pinehurst\, NC\, 28373\, United States
CATEGORIES:Adults,Blood Drive,Donation,Health & Wellness,Moore County Events,Senior,Social,Volunteer
ATTACH;FMTTYPE=image/jpeg:https://thepinestimes.com/wp-content/uploads/CommunityBloodDriveFeature-1.jpg
END:VEVENT
BEGIN:VEVENT
DTSTART;TZID=America/New_York:20260329T140000
DTEND;TZID=America/New_York:20260329T190000
DTSTAMP:20260420T023054
CREATED:20250619T173839Z
LAST-MODIFIED:20260328T160251Z
UID:10061694-1774792800-1774810800@thepinestimes.com
SUMMARY:Community Blood Drive
DESCRIPTION:Donate Blood. Save a life. Anytime Fitness-Pinehurst and is hosting a blood drive with OneBlood\, and your donation can help save lives in our community. You can make a big difference with just a little bit of your time on Sunday\, March 29th from 2PM-7PM. Walk-ins are welcome\, or you can sign up for an appointment online. To register\, follow the link provided below. \n  \n  \n 
URL:https://thepinestimes.com/event/community-blood-drive-17/
LOCATION:Anytime Fitness-Pinehurst\, 110 Ivey Ln.\, Pinehurst\, 28374\, United States
CATEGORIES:Adults,Blood Drive,Donation,Health & Wellness,Moore County Events,Senior,Social,Volunteer
ATTACH;FMTTYPE=image/jpeg:https://thepinestimes.com/wp-content/uploads/CommunityBloodDriveFeature-1.jpg
END:VEVENT
BEGIN:VEVENT
DTSTART;TZID=America/New_York:20250910T110000
DTEND;TZID=America/New_York:20250910T160000
DTSTAMP:20260420T023054
CREATED:20250906T204508Z
LAST-MODIFIED:20250906T204508Z
UID:10067761-1757502000-1757520000@thepinestimes.com
SUMMARY:Community Blood Drive
DESCRIPTION:Donate Blood. Save a life. OneBlood will be on site at the Village Arboretum on Wednesday\, September 10th | 11am-4pm. Donors receive a $20 eGift Card and OneBlood T-sdhirt. Appointments are encouraged. To register\, follow the link provided below. \n  \n 
URL:https://thepinestimes.com/event/community-blood-drive-19/
LOCATION:The Village Arboretum\, 395 Magnolia Rd\, Pinehurst\, NC\, United States
CATEGORIES:Adults,Blood Drive,Donation,Health & Wellness,Hobby/Enthusiast,Pinehurst Events,Senior,Social,Volunteer
ATTACH;FMTTYPE=image/jpeg:https://thepinestimes.com/wp-content/uploads/OneBloodFeature.jpg
END:VEVENT
BEGIN:VEVENT
DTSTART;TZID=America/New_York:20250719T103000
DTEND;TZID=America/New_York:20250719T153000
DTSTAMP:20260420T023054
CREATED:20230302T143517Z
LAST-MODIFIED:20250718T154543Z
UID:10009958-1752921000-1752939000@thepinestimes.com
SUMMARY:Community Blood Drive
DESCRIPTION:Donate Blood. Save a life. Cooper Ford in Carthage is holding a Blood Drive. OneBlood will be on site Saturday\, July 19th | 10:30am-3:30pm. Donors receive a $20 eGift Card and Top Handle Drinkware. Appointments are encouraged. To register\, follow the link provided below. \n  \n 
URL:https://thepinestimes.com/event/blood-drive/
LOCATION:Cooper Ford
CATEGORIES:Adults,Blood Drive,Carthage Events,Donation,Health & Wellness,Hobby/Enthusiast,Senior,Social,Volunteer
ATTACH;FMTTYPE=image/jpeg:https://thepinestimes.com/wp-content/uploads/OneBloodFeature.jpg
END:VEVENT
END:VCALENDAR