BEGIN:VCALENDAR
VERSION:2.0
PRODID:-//The Pines Times - ECPv6.15.20//NONSGML v1.0//EN
CALSCALE:GREGORIAN
METHOD:PUBLISH
X-ORIGINAL-URL:https://thepinestimes.com
X-WR-CALDESC:Events for The Pines Times
REFRESH-INTERVAL;VALUE=DURATION:PT1H
X-Robots-Tag:noindex
X-PUBLISHED-TTL:PT1H
BEGIN:VTIMEZONE
TZID:America/New_York
BEGIN:DAYLIGHT
TZOFFSETFROM:-0500
TZOFFSETTO:-0400
TZNAME:EDT
DTSTART:20250309T070000
END:DAYLIGHT
BEGIN:STANDARD
TZOFFSETFROM:-0400
TZOFFSETTO:-0500
TZNAME:EST
DTSTART:20251102T060000
END:STANDARD
BEGIN:DAYLIGHT
TZOFFSETFROM:-0500
TZOFFSETTO:-0400
TZNAME:EDT
DTSTART:20260308T070000
END:DAYLIGHT
BEGIN:STANDARD
TZOFFSETFROM:-0400
TZOFFSETTO:-0500
TZNAME:EST
DTSTART:20261101T060000
END:STANDARD
BEGIN:DAYLIGHT
TZOFFSETFROM:-0500
TZOFFSETTO:-0400
TZNAME:EDT
DTSTART:20270314T070000
END:DAYLIGHT
BEGIN:STANDARD
TZOFFSETFROM:-0400
TZOFFSETTO:-0500
TZNAME:EST
DTSTART:20271107T060000
END:STANDARD
END:VTIMEZONE
BEGIN:VEVENT
DTSTART;TZID=America/New_York:20260328T193000
DTEND;TZID=America/New_York:20260328T223000
DTSTAMP:20260424T140405
CREATED:20230325T164724Z
LAST-MODIFIED:20260309T002736Z
UID:10082982-1774726200-1774737000@thepinestimes.com
SUMMARY:Live Music: Heart & Soul
DESCRIPTION:The historic Pine Crest Inn of Pinehurst invites you to enjoy live music from Heart & Soul! Pine Crest Inn offers live music most weekends year-round\, 7:30PM-10:30PM. Join us for a drink\, a meal\, and friendly people! \n \n 
URL:https://thepinestimes.com/event/live-music-heart-soul-2/2026-03-28/
LOCATION:Pine Crest Inn\, Pinehurst\, NC\, 5 Dogwood Rd.\, Pinehurst\, NC\, 28374\, United States
CATEGORIES:Adult Connections,Adults,Hobby/Enthusiast,Live Music,Night Life,Pinehurst Events,Senior,Social
ATTACH;FMTTYPE=image/jpeg:https://thepinestimes.com/wp-content/uploads/LiveMusicFeature.jpg
ORGANIZER;CN="Pine Crest Inn%2C Pinehurst%2C NC":MAILTO:frontdesk@pinecrestinnpinehurst.com
END:VEVENT
BEGIN:VEVENT
DTSTART;TZID=America/New_York:20260327T193000
DTEND;TZID=America/New_York:20260327T223000
DTSTAMP:20260424T140405
CREATED:20230325T164724Z
LAST-MODIFIED:20260309T002736Z
UID:10082981-1774639800-1774650600@thepinestimes.com
SUMMARY:Live Music: Heart & Soul
DESCRIPTION:The historic Pine Crest Inn of Pinehurst invites you to enjoy live music from Heart & Soul! Pine Crest Inn offers live music most weekends year-round\, 7:30PM-10:30PM. Join us for a drink\, a meal\, and friendly people! \n \n 
URL:https://thepinestimes.com/event/live-music-heart-soul-2/2026-03-27/
LOCATION:Pine Crest Inn\, Pinehurst\, NC\, 5 Dogwood Rd.\, Pinehurst\, NC\, 28374\, United States
CATEGORIES:Adult Connections,Adults,Hobby/Enthusiast,Live Music,Night Life,Pinehurst Events,Senior,Social
ATTACH;FMTTYPE=image/jpeg:https://thepinestimes.com/wp-content/uploads/LiveMusicFeature.jpg
ORGANIZER;CN="Pine Crest Inn%2C Pinehurst%2C NC":MAILTO:frontdesk@pinecrestinnpinehurst.com
END:VEVENT
BEGIN:VEVENT
DTSTART;TZID=America/New_York:20260321T193000
DTEND;TZID=America/New_York:20260321T223000
DTSTAMP:20260424T140405
CREATED:20230325T165128Z
LAST-MODIFIED:20260309T002022Z
UID:10082980-1774121400-1774132200@thepinestimes.com
SUMMARY:Live Music: 2 Smooth
DESCRIPTION:The historic Pine Crest Inn of Pinehurst invites you to enjoy live music from 2 Smooth! Pine Crest Inn offers live music most weekends year-round\, 7:30PM-10:30PM. Join us for a drink\, a meal\, and friendly people! \n \n  \n 
URL:https://thepinestimes.com/event/live-music-2-smooth/2026-03-21/
LOCATION:Pine Crest Inn\, Pinehurst\, NC\, 5 Dogwood Rd.\, Pinehurst\, NC\, 28374\, United States
CATEGORIES:Adults,Beer and Wine,Hobby/Enthusiast,Live Music,Music,Night Life,Pinehurst Events,Senior,Social
ATTACH;FMTTYPE=image/jpeg:https://thepinestimes.com/wp-content/uploads/LiveMusicFeature.jpg
ORGANIZER;CN="Pine Crest Inn%2C Pinehurst%2C NC":MAILTO:frontdesk@pinecrestinnpinehurst.com
END:VEVENT
BEGIN:VEVENT
DTSTART;TZID=America/New_York:20260320T193000
DTEND;TZID=America/New_York:20260320T223000
DTSTAMP:20260424T140405
CREATED:20230325T165128Z
LAST-MODIFIED:20260309T002022Z
UID:10082979-1774035000-1774045800@thepinestimes.com
SUMMARY:Live Music: 2 Smooth
DESCRIPTION:The historic Pine Crest Inn of Pinehurst invites you to enjoy live music from 2 Smooth! Pine Crest Inn offers live music most weekends year-round\, 7:30PM-10:30PM. Join us for a drink\, a meal\, and friendly people! \n \n  \n 
URL:https://thepinestimes.com/event/live-music-2-smooth/2026-03-20/
LOCATION:Pine Crest Inn\, Pinehurst\, NC\, 5 Dogwood Rd.\, Pinehurst\, NC\, 28374\, United States
CATEGORIES:Adults,Beer and Wine,Hobby/Enthusiast,Live Music,Music,Night Life,Pinehurst Events,Senior,Social
ATTACH;FMTTYPE=image/jpeg:https://thepinestimes.com/wp-content/uploads/LiveMusicFeature.jpg
ORGANIZER;CN="Pine Crest Inn%2C Pinehurst%2C NC":MAILTO:frontdesk@pinecrestinnpinehurst.com
END:VEVENT
END:VCALENDAR