BEGIN:VCALENDAR
VERSION:2.0
PRODID:-//The Pines Times - ECPv6.15.20//NONSGML v1.0//EN
CALSCALE:GREGORIAN
METHOD:PUBLISH
X-ORIGINAL-URL:https://thepinestimes.com
X-WR-CALDESC:Events for The Pines Times
REFRESH-INTERVAL;VALUE=DURATION:PT1H
X-Robots-Tag:noindex
X-PUBLISHED-TTL:PT1H
BEGIN:VTIMEZONE
TZID:America/New_York
BEGIN:DAYLIGHT
TZOFFSETFROM:-0500
TZOFFSETTO:-0400
TZNAME:EDT
DTSTART:20240310T070000
END:DAYLIGHT
BEGIN:STANDARD
TZOFFSETFROM:-0400
TZOFFSETTO:-0500
TZNAME:EST
DTSTART:20241103T060000
END:STANDARD
BEGIN:DAYLIGHT
TZOFFSETFROM:-0500
TZOFFSETTO:-0400
TZNAME:EDT
DTSTART:20250309T070000
END:DAYLIGHT
BEGIN:STANDARD
TZOFFSETFROM:-0400
TZOFFSETTO:-0500
TZNAME:EST
DTSTART:20251102T060000
END:STANDARD
BEGIN:DAYLIGHT
TZOFFSETFROM:-0500
TZOFFSETTO:-0400
TZNAME:EDT
DTSTART:20260308T070000
END:DAYLIGHT
BEGIN:STANDARD
TZOFFSETFROM:-0400
TZOFFSETTO:-0500
TZNAME:EST
DTSTART:20261101T060000
END:STANDARD
BEGIN:DAYLIGHT
TZOFFSETFROM:-0500
TZOFFSETTO:-0400
TZNAME:EDT
DTSTART:20270314T070000
END:DAYLIGHT
BEGIN:STANDARD
TZOFFSETFROM:-0400
TZOFFSETTO:-0500
TZNAME:EST
DTSTART:20271107T060000
END:STANDARD
END:VTIMEZONE
BEGIN:VEVENT
DTSTART;TZID=America/New_York:20260203T160000
DTEND;TZID=America/New_York:20260203T160000
DTSTAMP:20260422T154630
CREATED:20241127T192446Z
LAST-MODIFIED:20260105T181630Z
UID:10078844-1770134400-1770134400@thepinestimes.com
SUMMARY:Pinebluff Library: Pre-School Storytime
DESCRIPTION:Join at the Pinebluff Library for a Pre-School Storytime! This event takes place every Tuesday at 4:00pm. \n 
URL:https://thepinestimes.com/event/pinebluff-library-whats-the-buzz-2-2/2026-02-03/
LOCATION:Pinebluff Library\, 305 East Baltimore Avenue\, Pinebluff\, NC\, 28373\, United States
CATEGORIES:Children,Educational,Family,Hobby/Enthusiast,Literary Event,Live Entertainment,Pinebluff Events,Piney's Tiny's,Social
ATTACH;FMTTYPE=image/jpeg:https://thepinestimes.com/wp-content/uploads/PinebluffLibraryFeature.jpg
END:VEVENT
BEGIN:VEVENT
DTSTART;TZID=America/New_York:20260127T160000
DTEND;TZID=America/New_York:20260127T160000
DTSTAMP:20260422T154630
CREATED:20241127T192446Z
LAST-MODIFIED:20260105T181630Z
UID:10078843-1769529600-1769529600@thepinestimes.com
SUMMARY:Pinebluff Library: Pre-School Storytime
DESCRIPTION:Join at the Pinebluff Library for a Pre-School Storytime! This event takes place every Tuesday at 4:00pm. \n 
URL:https://thepinestimes.com/event/pinebluff-library-whats-the-buzz-2-2/2026-01-27/
LOCATION:Pinebluff Library\, 305 East Baltimore Avenue\, Pinebluff\, NC\, 28373\, United States
CATEGORIES:Children,Educational,Family,Hobby/Enthusiast,Literary Event,Live Entertainment,Pinebluff Events,Piney's Tiny's,Social
ATTACH;FMTTYPE=image/jpeg:https://thepinestimes.com/wp-content/uploads/PinebluffLibraryFeature.jpg
END:VEVENT
BEGIN:VEVENT
DTSTART;TZID=America/New_York:20260120T160000
DTEND;TZID=America/New_York:20260120T160000
DTSTAMP:20260422T154630
CREATED:20241127T192446Z
LAST-MODIFIED:20260105T181630Z
UID:10078842-1768924800-1768924800@thepinestimes.com
SUMMARY:Pinebluff Library: Pre-School Storytime
DESCRIPTION:Join at the Pinebluff Library for a Pre-School Storytime! This event takes place every Tuesday at 4:00pm. \n 
URL:https://thepinestimes.com/event/pinebluff-library-whats-the-buzz-2-2/2026-01-20/
LOCATION:Pinebluff Library\, 305 East Baltimore Avenue\, Pinebluff\, NC\, 28373\, United States
CATEGORIES:Children,Educational,Family,Hobby/Enthusiast,Literary Event,Live Entertainment,Pinebluff Events,Piney's Tiny's,Social
ATTACH;FMTTYPE=image/jpeg:https://thepinestimes.com/wp-content/uploads/PinebluffLibraryFeature.jpg
END:VEVENT
BEGIN:VEVENT
DTSTART;TZID=America/New_York:20260113T160000
DTEND;TZID=America/New_York:20260113T160000
DTSTAMP:20260422T154630
CREATED:20241127T192446Z
LAST-MODIFIED:20260105T181630Z
UID:10078841-1768320000-1768320000@thepinestimes.com
SUMMARY:Pinebluff Library: Pre-School Storytime
DESCRIPTION:Join at the Pinebluff Library for a Pre-School Storytime! This event takes place every Tuesday at 4:00pm. \n 
URL:https://thepinestimes.com/event/pinebluff-library-whats-the-buzz-2-2/2026-01-13/
LOCATION:Pinebluff Library\, 305 East Baltimore Avenue\, Pinebluff\, NC\, 28373\, United States
CATEGORIES:Children,Educational,Family,Hobby/Enthusiast,Literary Event,Live Entertainment,Pinebluff Events,Piney's Tiny's,Social
ATTACH;FMTTYPE=image/jpeg:https://thepinestimes.com/wp-content/uploads/PinebluffLibraryFeature.jpg
END:VEVENT
BEGIN:VEVENT
DTSTART;TZID=America/New_York:20260106T160000
DTEND;TZID=America/New_York:20260106T160000
DTSTAMP:20260422T154630
CREATED:20241127T192446Z
LAST-MODIFIED:20260105T181630Z
UID:10078840-1767715200-1767715200@thepinestimes.com
SUMMARY:Pinebluff Library: Pre-School Storytime
DESCRIPTION:Join at the Pinebluff Library for a Pre-School Storytime! This event takes place every Tuesday at 4:00pm. \n 
URL:https://thepinestimes.com/event/pinebluff-library-whats-the-buzz-2-2/2026-01-06/
LOCATION:Pinebluff Library\, 305 East Baltimore Avenue\, Pinebluff\, NC\, 28373\, United States
CATEGORIES:Children,Educational,Family,Hobby/Enthusiast,Literary Event,Live Entertainment,Pinebluff Events,Piney's Tiny's,Social
ATTACH;FMTTYPE=image/jpeg:https://thepinestimes.com/wp-content/uploads/PinebluffLibraryFeature.jpg
END:VEVENT
BEGIN:VEVENT
DTSTART;TZID=America/New_York:20251230T160000
DTEND;TZID=America/New_York:20251230T160000
DTSTAMP:20260422T154630
CREATED:20241127T192446Z
LAST-MODIFIED:20260105T181630Z
UID:10063375-1767110400-1767110400@thepinestimes.com
SUMMARY:Pinebluff Library: Pre-School Storytime
DESCRIPTION:Join at the Pinebluff Library for a Pre-School Storytime! This event takes place every Tuesday at 4:00pm. \n 
URL:https://thepinestimes.com/event/pinebluff-library-whats-the-buzz-2-2/2025-12-30/
LOCATION:Pinebluff Library\, 305 East Baltimore Avenue\, Pinebluff\, NC\, 28373\, United States
CATEGORIES:Children,Educational,Family,Hobby/Enthusiast,Literary Event,Live Entertainment,Pinebluff Events,Piney's Tiny's,Social
ATTACH;FMTTYPE=image/jpeg:https://thepinestimes.com/wp-content/uploads/PinebluffLibraryFeature.jpg
END:VEVENT
BEGIN:VEVENT
DTSTART;TZID=America/New_York:20251223T160000
DTEND;TZID=America/New_York:20251223T160000
DTSTAMP:20260422T154630
CREATED:20241127T192446Z
LAST-MODIFIED:20260105T181630Z
UID:10063374-1766505600-1766505600@thepinestimes.com
SUMMARY:Pinebluff Library: Pre-School Storytime
DESCRIPTION:Join at the Pinebluff Library for a Pre-School Storytime! This event takes place every Tuesday at 4:00pm. \n 
URL:https://thepinestimes.com/event/pinebluff-library-whats-the-buzz-2-2/2025-12-23/
LOCATION:Pinebluff Library\, 305 East Baltimore Avenue\, Pinebluff\, NC\, 28373\, United States
CATEGORIES:Children,Educational,Family,Hobby/Enthusiast,Literary Event,Live Entertainment,Pinebluff Events,Piney's Tiny's,Social
ATTACH;FMTTYPE=image/jpeg:https://thepinestimes.com/wp-content/uploads/PinebluffLibraryFeature.jpg
END:VEVENT
BEGIN:VEVENT
DTSTART;TZID=America/New_York:20251216T160000
DTEND;TZID=America/New_York:20251216T160000
DTSTAMP:20260422T154630
CREATED:20241127T192446Z
LAST-MODIFIED:20260105T181630Z
UID:10063373-1765900800-1765900800@thepinestimes.com
SUMMARY:Pinebluff Library: Pre-School Storytime
DESCRIPTION:Join at the Pinebluff Library for a Pre-School Storytime! This event takes place every Tuesday at 4:00pm. \n 
URL:https://thepinestimes.com/event/pinebluff-library-whats-the-buzz-2-2/2025-12-16/
LOCATION:Pinebluff Library\, 305 East Baltimore Avenue\, Pinebluff\, NC\, 28373\, United States
CATEGORIES:Children,Educational,Family,Hobby/Enthusiast,Literary Event,Live Entertainment,Pinebluff Events,Piney's Tiny's,Social
ATTACH;FMTTYPE=image/jpeg:https://thepinestimes.com/wp-content/uploads/PinebluffLibraryFeature.jpg
END:VEVENT
BEGIN:VEVENT
DTSTART;TZID=America/New_York:20251209T160000
DTEND;TZID=America/New_York:20251209T160000
DTSTAMP:20260422T154630
CREATED:20241127T192446Z
LAST-MODIFIED:20260105T181630Z
UID:10063372-1765296000-1765296000@thepinestimes.com
SUMMARY:Pinebluff Library: Pre-School Storytime
DESCRIPTION:Join at the Pinebluff Library for a Pre-School Storytime! This event takes place every Tuesday at 4:00pm. \n 
URL:https://thepinestimes.com/event/pinebluff-library-whats-the-buzz-2-2/2025-12-09/
LOCATION:Pinebluff Library\, 305 East Baltimore Avenue\, Pinebluff\, NC\, 28373\, United States
CATEGORIES:Children,Educational,Family,Hobby/Enthusiast,Literary Event,Live Entertainment,Pinebluff Events,Piney's Tiny's,Social
ATTACH;FMTTYPE=image/jpeg:https://thepinestimes.com/wp-content/uploads/PinebluffLibraryFeature.jpg
END:VEVENT
BEGIN:VEVENT
DTSTART;TZID=America/New_York:20251202T160000
DTEND;TZID=America/New_York:20251202T160000
DTSTAMP:20260422T154630
CREATED:20241127T192446Z
LAST-MODIFIED:20260105T181630Z
UID:10063371-1764691200-1764691200@thepinestimes.com
SUMMARY:Pinebluff Library: Pre-School Storytime
DESCRIPTION:Join at the Pinebluff Library for a Pre-School Storytime! This event takes place every Tuesday at 4:00pm. \n 
URL:https://thepinestimes.com/event/pinebluff-library-whats-the-buzz-2-2/2025-12-02/
LOCATION:Pinebluff Library\, 305 East Baltimore Avenue\, Pinebluff\, NC\, 28373\, United States
CATEGORIES:Children,Educational,Family,Hobby/Enthusiast,Literary Event,Live Entertainment,Pinebluff Events,Piney's Tiny's,Social
ATTACH;FMTTYPE=image/jpeg:https://thepinestimes.com/wp-content/uploads/PinebluffLibraryFeature.jpg
END:VEVENT
BEGIN:VEVENT
DTSTART;TZID=America/New_York:20251125T160000
DTEND;TZID=America/New_York:20251125T160000
DTSTAMP:20260422T154630
CREATED:20241127T192446Z
LAST-MODIFIED:20260105T181630Z
UID:10063370-1764086400-1764086400@thepinestimes.com
SUMMARY:Pinebluff Library: Pre-School Storytime
DESCRIPTION:Join at the Pinebluff Library for a Pre-School Storytime! This event takes place every Tuesday at 4:00pm. \n 
URL:https://thepinestimes.com/event/pinebluff-library-whats-the-buzz-2-2/2025-11-25/
LOCATION:Pinebluff Library\, 305 East Baltimore Avenue\, Pinebluff\, NC\, 28373\, United States
CATEGORIES:Children,Educational,Family,Hobby/Enthusiast,Literary Event,Live Entertainment,Pinebluff Events,Piney's Tiny's,Social
ATTACH;FMTTYPE=image/jpeg:https://thepinestimes.com/wp-content/uploads/PinebluffLibraryFeature.jpg
END:VEVENT
BEGIN:VEVENT
DTSTART;TZID=America/New_York:20251118T160000
DTEND;TZID=America/New_York:20251118T160000
DTSTAMP:20260422T154630
CREATED:20241127T192446Z
LAST-MODIFIED:20260105T181630Z
UID:10063369-1763481600-1763481600@thepinestimes.com
SUMMARY:Pinebluff Library: Pre-School Storytime
DESCRIPTION:Join at the Pinebluff Library for a Pre-School Storytime! This event takes place every Tuesday at 4:00pm. \n 
URL:https://thepinestimes.com/event/pinebluff-library-whats-the-buzz-2-2/2025-11-18/
LOCATION:Pinebluff Library\, 305 East Baltimore Avenue\, Pinebluff\, NC\, 28373\, United States
CATEGORIES:Children,Educational,Family,Hobby/Enthusiast,Literary Event,Live Entertainment,Pinebluff Events,Piney's Tiny's,Social
ATTACH;FMTTYPE=image/jpeg:https://thepinestimes.com/wp-content/uploads/PinebluffLibraryFeature.jpg
END:VEVENT
BEGIN:VEVENT
DTSTART;TZID=America/New_York:20251111T160000
DTEND;TZID=America/New_York:20251111T160000
DTSTAMP:20260422T154630
CREATED:20241127T192446Z
LAST-MODIFIED:20260105T181630Z
UID:10063368-1762876800-1762876800@thepinestimes.com
SUMMARY:Pinebluff Library: Pre-School Storytime
DESCRIPTION:Join at the Pinebluff Library for a Pre-School Storytime! This event takes place every Tuesday at 4:00pm. \n 
URL:https://thepinestimes.com/event/pinebluff-library-whats-the-buzz-2-2/2025-11-11/
LOCATION:Pinebluff Library\, 305 East Baltimore Avenue\, Pinebluff\, NC\, 28373\, United States
CATEGORIES:Children,Educational,Family,Hobby/Enthusiast,Literary Event,Live Entertainment,Pinebluff Events,Piney's Tiny's,Social
ATTACH;FMTTYPE=image/jpeg:https://thepinestimes.com/wp-content/uploads/PinebluffLibraryFeature.jpg
END:VEVENT
BEGIN:VEVENT
DTSTART;TZID=America/New_York:20251104T160000
DTEND;TZID=America/New_York:20251104T160000
DTSTAMP:20260422T154630
CREATED:20241127T192446Z
LAST-MODIFIED:20260105T181630Z
UID:10063367-1762272000-1762272000@thepinestimes.com
SUMMARY:Pinebluff Library: Pre-School Storytime
DESCRIPTION:Join at the Pinebluff Library for a Pre-School Storytime! This event takes place every Tuesday at 4:00pm. \n 
URL:https://thepinestimes.com/event/pinebluff-library-whats-the-buzz-2-2/2025-11-04/
LOCATION:Pinebluff Library\, 305 East Baltimore Avenue\, Pinebluff\, NC\, 28373\, United States
CATEGORIES:Children,Educational,Family,Hobby/Enthusiast,Literary Event,Live Entertainment,Pinebluff Events,Piney's Tiny's,Social
ATTACH;FMTTYPE=image/jpeg:https://thepinestimes.com/wp-content/uploads/PinebluffLibraryFeature.jpg
END:VEVENT
BEGIN:VEVENT
DTSTART;TZID=America/New_York:20251028T160000
DTEND;TZID=America/New_York:20251028T160000
DTSTAMP:20260422T154630
CREATED:20241127T192446Z
LAST-MODIFIED:20260105T181630Z
UID:10063366-1761667200-1761667200@thepinestimes.com
SUMMARY:Pinebluff Library: Pre-School Storytime
DESCRIPTION:Join at the Pinebluff Library for a Pre-School Storytime! This event takes place every Tuesday at 4:00pm. \n 
URL:https://thepinestimes.com/event/pinebluff-library-whats-the-buzz-2-2/2025-10-28/
LOCATION:Pinebluff Library\, 305 East Baltimore Avenue\, Pinebluff\, NC\, 28373\, United States
CATEGORIES:Children,Educational,Family,Hobby/Enthusiast,Literary Event,Live Entertainment,Pinebluff Events,Piney's Tiny's,Social
ATTACH;FMTTYPE=image/jpeg:https://thepinestimes.com/wp-content/uploads/PinebluffLibraryFeature.jpg
END:VEVENT
BEGIN:VEVENT
DTSTART;TZID=America/New_York:20251021T160000
DTEND;TZID=America/New_York:20251021T160000
DTSTAMP:20260422T154630
CREATED:20241127T192446Z
LAST-MODIFIED:20260105T181630Z
UID:10063365-1761062400-1761062400@thepinestimes.com
SUMMARY:Pinebluff Library: Pre-School Storytime
DESCRIPTION:Join at the Pinebluff Library for a Pre-School Storytime! This event takes place every Tuesday at 4:00pm. \n 
URL:https://thepinestimes.com/event/pinebluff-library-whats-the-buzz-2-2/2025-10-21/
LOCATION:Pinebluff Library\, 305 East Baltimore Avenue\, Pinebluff\, NC\, 28373\, United States
CATEGORIES:Children,Educational,Family,Hobby/Enthusiast,Literary Event,Live Entertainment,Pinebluff Events,Piney's Tiny's,Social
ATTACH;FMTTYPE=image/jpeg:https://thepinestimes.com/wp-content/uploads/PinebluffLibraryFeature.jpg
END:VEVENT
BEGIN:VEVENT
DTSTART;TZID=America/New_York:20251014T160000
DTEND;TZID=America/New_York:20251014T160000
DTSTAMP:20260422T154630
CREATED:20241127T192446Z
LAST-MODIFIED:20260105T181630Z
UID:10063364-1760457600-1760457600@thepinestimes.com
SUMMARY:Pinebluff Library: Pre-School Storytime
DESCRIPTION:Join at the Pinebluff Library for a Pre-School Storytime! This event takes place every Tuesday at 4:00pm. \n 
URL:https://thepinestimes.com/event/pinebluff-library-whats-the-buzz-2-2/2025-10-14/
LOCATION:Pinebluff Library\, 305 East Baltimore Avenue\, Pinebluff\, NC\, 28373\, United States
CATEGORIES:Children,Educational,Family,Hobby/Enthusiast,Literary Event,Live Entertainment,Pinebluff Events,Piney's Tiny's,Social
ATTACH;FMTTYPE=image/jpeg:https://thepinestimes.com/wp-content/uploads/PinebluffLibraryFeature.jpg
END:VEVENT
BEGIN:VEVENT
DTSTART;TZID=America/New_York:20251007T160000
DTEND;TZID=America/New_York:20251007T160000
DTSTAMP:20260422T154630
CREATED:20241127T192446Z
LAST-MODIFIED:20260105T181630Z
UID:10063363-1759852800-1759852800@thepinestimes.com
SUMMARY:Pinebluff Library: Pre-School Storytime
DESCRIPTION:Join at the Pinebluff Library for a Pre-School Storytime! This event takes place every Tuesday at 4:00pm. \n 
URL:https://thepinestimes.com/event/pinebluff-library-whats-the-buzz-2-2/2025-10-07/
LOCATION:Pinebluff Library\, 305 East Baltimore Avenue\, Pinebluff\, NC\, 28373\, United States
CATEGORIES:Children,Educational,Family,Hobby/Enthusiast,Literary Event,Live Entertainment,Pinebluff Events,Piney's Tiny's,Social
ATTACH;FMTTYPE=image/jpeg:https://thepinestimes.com/wp-content/uploads/PinebluffLibraryFeature.jpg
END:VEVENT
BEGIN:VEVENT
DTSTART;TZID=America/New_York:20250930T160000
DTEND;TZID=America/New_York:20250930T160000
DTSTAMP:20260422T154630
CREATED:20241127T192446Z
LAST-MODIFIED:20260105T181630Z
UID:10063362-1759248000-1759248000@thepinestimes.com
SUMMARY:Pinebluff Library: Pre-School Storytime
DESCRIPTION:Join at the Pinebluff Library for a Pre-School Storytime! This event takes place every Tuesday at 4:00pm. \n 
URL:https://thepinestimes.com/event/pinebluff-library-whats-the-buzz-2-2/2025-09-30/
LOCATION:Pinebluff Library\, 305 East Baltimore Avenue\, Pinebluff\, NC\, 28373\, United States
CATEGORIES:Children,Educational,Family,Hobby/Enthusiast,Literary Event,Live Entertainment,Pinebluff Events,Piney's Tiny's,Social
ATTACH;FMTTYPE=image/jpeg:https://thepinestimes.com/wp-content/uploads/PinebluffLibraryFeature.jpg
END:VEVENT
BEGIN:VEVENT
DTSTART;TZID=America/New_York:20250923T160000
DTEND;TZID=America/New_York:20250923T160000
DTSTAMP:20260422T154630
CREATED:20241127T192446Z
LAST-MODIFIED:20260105T181630Z
UID:10063361-1758643200-1758643200@thepinestimes.com
SUMMARY:Pinebluff Library: Pre-School Storytime
DESCRIPTION:Join at the Pinebluff Library for a Pre-School Storytime! This event takes place every Tuesday at 4:00pm. \n 
URL:https://thepinestimes.com/event/pinebluff-library-whats-the-buzz-2-2/2025-09-23/
LOCATION:Pinebluff Library\, 305 East Baltimore Avenue\, Pinebluff\, NC\, 28373\, United States
CATEGORIES:Children,Educational,Family,Hobby/Enthusiast,Literary Event,Live Entertainment,Pinebluff Events,Piney's Tiny's,Social
ATTACH;FMTTYPE=image/jpeg:https://thepinestimes.com/wp-content/uploads/PinebluffLibraryFeature.jpg
END:VEVENT
BEGIN:VEVENT
DTSTART;TZID=America/New_York:20250916T160000
DTEND;TZID=America/New_York:20250916T160000
DTSTAMP:20260422T154630
CREATED:20241127T192446Z
LAST-MODIFIED:20260105T181630Z
UID:10063360-1758038400-1758038400@thepinestimes.com
SUMMARY:Pinebluff Library: Pre-School Storytime
DESCRIPTION:Join at the Pinebluff Library for a Pre-School Storytime! This event takes place every Tuesday at 4:00pm. \n 
URL:https://thepinestimes.com/event/pinebluff-library-whats-the-buzz-2-2/2025-09-16/
LOCATION:Pinebluff Library\, 305 East Baltimore Avenue\, Pinebluff\, NC\, 28373\, United States
CATEGORIES:Children,Educational,Family,Hobby/Enthusiast,Literary Event,Live Entertainment,Pinebluff Events,Piney's Tiny's,Social
ATTACH;FMTTYPE=image/jpeg:https://thepinestimes.com/wp-content/uploads/PinebluffLibraryFeature.jpg
END:VEVENT
BEGIN:VEVENT
DTSTART;TZID=America/New_York:20250909T160000
DTEND;TZID=America/New_York:20250909T160000
DTSTAMP:20260422T154630
CREATED:20241127T192446Z
LAST-MODIFIED:20260105T181630Z
UID:10063359-1757433600-1757433600@thepinestimes.com
SUMMARY:Pinebluff Library: Pre-School Storytime
DESCRIPTION:Join at the Pinebluff Library for a Pre-School Storytime! This event takes place every Tuesday at 4:00pm. \n 
URL:https://thepinestimes.com/event/pinebluff-library-whats-the-buzz-2-2/2025-09-09/
LOCATION:Pinebluff Library\, 305 East Baltimore Avenue\, Pinebluff\, NC\, 28373\, United States
CATEGORIES:Children,Educational,Family,Hobby/Enthusiast,Literary Event,Live Entertainment,Pinebluff Events,Piney's Tiny's,Social
ATTACH;FMTTYPE=image/jpeg:https://thepinestimes.com/wp-content/uploads/PinebluffLibraryFeature.jpg
END:VEVENT
BEGIN:VEVENT
DTSTART;TZID=America/New_York:20250902T160000
DTEND;TZID=America/New_York:20250902T160000
DTSTAMP:20260422T154630
CREATED:20241127T192446Z
LAST-MODIFIED:20260105T181630Z
UID:10063358-1756828800-1756828800@thepinestimes.com
SUMMARY:Pinebluff Library: Pre-School Storytime
DESCRIPTION:Join at the Pinebluff Library for a Pre-School Storytime! This event takes place every Tuesday at 4:00pm. \n 
URL:https://thepinestimes.com/event/pinebluff-library-whats-the-buzz-2-2/2025-09-02/
LOCATION:Pinebluff Library\, 305 East Baltimore Avenue\, Pinebluff\, NC\, 28373\, United States
CATEGORIES:Children,Educational,Family,Hobby/Enthusiast,Literary Event,Live Entertainment,Pinebluff Events,Piney's Tiny's,Social
ATTACH;FMTTYPE=image/jpeg:https://thepinestimes.com/wp-content/uploads/PinebluffLibraryFeature.jpg
END:VEVENT
BEGIN:VEVENT
DTSTART;TZID=America/New_York:20250826T160000
DTEND;TZID=America/New_York:20250826T160000
DTSTAMP:20260422T154630
CREATED:20241127T192446Z
LAST-MODIFIED:20260105T181630Z
UID:10063357-1756224000-1756224000@thepinestimes.com
SUMMARY:Pinebluff Library: Pre-School Storytime
DESCRIPTION:Join at the Pinebluff Library for a Pre-School Storytime! This event takes place every Tuesday at 4:00pm. \n 
URL:https://thepinestimes.com/event/pinebluff-library-whats-the-buzz-2-2/2025-08-26/
LOCATION:Pinebluff Library\, 305 East Baltimore Avenue\, Pinebluff\, NC\, 28373\, United States
CATEGORIES:Children,Educational,Family,Hobby/Enthusiast,Literary Event,Live Entertainment,Pinebluff Events,Piney's Tiny's,Social
ATTACH;FMTTYPE=image/jpeg:https://thepinestimes.com/wp-content/uploads/PinebluffLibraryFeature.jpg
END:VEVENT
BEGIN:VEVENT
DTSTART;TZID=America/New_York:20250819T160000
DTEND;TZID=America/New_York:20250819T160000
DTSTAMP:20260422T154630
CREATED:20241127T192446Z
LAST-MODIFIED:20260105T181630Z
UID:10063356-1755619200-1755619200@thepinestimes.com
SUMMARY:Pinebluff Library: Pre-School Storytime
DESCRIPTION:Join at the Pinebluff Library for a Pre-School Storytime! This event takes place every Tuesday at 4:00pm. \n 
URL:https://thepinestimes.com/event/pinebluff-library-whats-the-buzz-2-2/2025-08-19/
LOCATION:Pinebluff Library\, 305 East Baltimore Avenue\, Pinebluff\, NC\, 28373\, United States
CATEGORIES:Children,Educational,Family,Hobby/Enthusiast,Literary Event,Live Entertainment,Pinebluff Events,Piney's Tiny's,Social
ATTACH;FMTTYPE=image/jpeg:https://thepinestimes.com/wp-content/uploads/PinebluffLibraryFeature.jpg
END:VEVENT
BEGIN:VEVENT
DTSTART;TZID=America/New_York:20250812T160000
DTEND;TZID=America/New_York:20250812T160000
DTSTAMP:20260422T154630
CREATED:20241127T192446Z
LAST-MODIFIED:20260105T181630Z
UID:10063355-1755014400-1755014400@thepinestimes.com
SUMMARY:Pinebluff Library: Pre-School Storytime
DESCRIPTION:Join at the Pinebluff Library for a Pre-School Storytime! This event takes place every Tuesday at 4:00pm. \n 
URL:https://thepinestimes.com/event/pinebluff-library-whats-the-buzz-2-2/2025-08-12/
LOCATION:Pinebluff Library\, 305 East Baltimore Avenue\, Pinebluff\, NC\, 28373\, United States
CATEGORIES:Children,Educational,Family,Hobby/Enthusiast,Literary Event,Live Entertainment,Pinebluff Events,Piney's Tiny's,Social
ATTACH;FMTTYPE=image/jpeg:https://thepinestimes.com/wp-content/uploads/PinebluffLibraryFeature.jpg
END:VEVENT
BEGIN:VEVENT
DTSTART;TZID=America/New_York:20250805T160000
DTEND;TZID=America/New_York:20250805T160000
DTSTAMP:20260422T154630
CREATED:20241127T192446Z
LAST-MODIFIED:20260105T181630Z
UID:10063354-1754409600-1754409600@thepinestimes.com
SUMMARY:Pinebluff Library: Pre-School Storytime
DESCRIPTION:Join at the Pinebluff Library for a Pre-School Storytime! This event takes place every Tuesday at 4:00pm. \n 
URL:https://thepinestimes.com/event/pinebluff-library-whats-the-buzz-2-2/2025-08-05/
LOCATION:Pinebluff Library\, 305 East Baltimore Avenue\, Pinebluff\, NC\, 28373\, United States
CATEGORIES:Children,Educational,Family,Hobby/Enthusiast,Literary Event,Live Entertainment,Pinebluff Events,Piney's Tiny's,Social
ATTACH;FMTTYPE=image/jpeg:https://thepinestimes.com/wp-content/uploads/PinebluffLibraryFeature.jpg
END:VEVENT
BEGIN:VEVENT
DTSTART;TZID=America/New_York:20250729T160000
DTEND;TZID=America/New_York:20250729T160000
DTSTAMP:20260422T154630
CREATED:20241127T192446Z
LAST-MODIFIED:20260105T181630Z
UID:10055903-1753804800-1753804800@thepinestimes.com
SUMMARY:Pinebluff Library: Pre-School Storytime
DESCRIPTION:Join at the Pinebluff Library for a Pre-School Storytime! This event takes place every Tuesday at 4:00pm. \n 
URL:https://thepinestimes.com/event/pinebluff-library-whats-the-buzz-2-2/2025-07-29/
LOCATION:Pinebluff Library\, 305 East Baltimore Avenue\, Pinebluff\, NC\, 28373\, United States
CATEGORIES:Children,Educational,Family,Hobby/Enthusiast,Literary Event,Live Entertainment,Pinebluff Events,Piney's Tiny's,Social
ATTACH;FMTTYPE=image/jpeg:https://thepinestimes.com/wp-content/uploads/PinebluffLibraryFeature.jpg
END:VEVENT
BEGIN:VEVENT
DTSTART;TZID=America/New_York:20250722T160000
DTEND;TZID=America/New_York:20250722T160000
DTSTAMP:20260422T154630
CREATED:20241127T192446Z
LAST-MODIFIED:20260105T181630Z
UID:10055902-1753200000-1753200000@thepinestimes.com
SUMMARY:Pinebluff Library: Pre-School Storytime
DESCRIPTION:Join at the Pinebluff Library for a Pre-School Storytime! This event takes place every Tuesday at 4:00pm. \n 
URL:https://thepinestimes.com/event/pinebluff-library-whats-the-buzz-2-2/2025-07-22/
LOCATION:Pinebluff Library\, 305 East Baltimore Avenue\, Pinebluff\, NC\, 28373\, United States
CATEGORIES:Children,Educational,Family,Hobby/Enthusiast,Literary Event,Live Entertainment,Pinebluff Events,Piney's Tiny's,Social
ATTACH;FMTTYPE=image/jpeg:https://thepinestimes.com/wp-content/uploads/PinebluffLibraryFeature.jpg
END:VEVENT
BEGIN:VEVENT
DTSTART;TZID=America/New_York:20250715T160000
DTEND;TZID=America/New_York:20250715T160000
DTSTAMP:20260422T154630
CREATED:20241127T192446Z
LAST-MODIFIED:20260105T181630Z
UID:10055901-1752595200-1752595200@thepinestimes.com
SUMMARY:Pinebluff Library: Pre-School Storytime
DESCRIPTION:Join at the Pinebluff Library for a Pre-School Storytime! This event takes place every Tuesday at 4:00pm. \n 
URL:https://thepinestimes.com/event/pinebluff-library-whats-the-buzz-2-2/2025-07-15/
LOCATION:Pinebluff Library\, 305 East Baltimore Avenue\, Pinebluff\, NC\, 28373\, United States
CATEGORIES:Children,Educational,Family,Hobby/Enthusiast,Literary Event,Live Entertainment,Pinebluff Events,Piney's Tiny's,Social
ATTACH;FMTTYPE=image/jpeg:https://thepinestimes.com/wp-content/uploads/PinebluffLibraryFeature.jpg
END:VEVENT
END:VCALENDAR