BEGIN:VCALENDAR
VERSION:2.0
PRODID:-//The Pines Times - ECPv6.15.20//NONSGML v1.0//EN
CALSCALE:GREGORIAN
METHOD:PUBLISH
X-WR-CALNAME:The Pines Times
X-ORIGINAL-URL:https://thepinestimes.com
X-WR-CALDESC:Events for The Pines Times
REFRESH-INTERVAL;VALUE=DURATION:PT1H
X-Robots-Tag:noindex
X-PUBLISHED-TTL:PT1H
BEGIN:VTIMEZONE
TZID:America/New_York
BEGIN:DAYLIGHT
TZOFFSETFROM:-0500
TZOFFSETTO:-0400
TZNAME:EDT
DTSTART:20240310T070000
END:DAYLIGHT
BEGIN:STANDARD
TZOFFSETFROM:-0400
TZOFFSETTO:-0500
TZNAME:EST
DTSTART:20241103T060000
END:STANDARD
BEGIN:DAYLIGHT
TZOFFSETFROM:-0500
TZOFFSETTO:-0400
TZNAME:EDT
DTSTART:20250309T070000
END:DAYLIGHT
BEGIN:STANDARD
TZOFFSETFROM:-0400
TZOFFSETTO:-0500
TZNAME:EST
DTSTART:20251102T060000
END:STANDARD
BEGIN:DAYLIGHT
TZOFFSETFROM:-0500
TZOFFSETTO:-0400
TZNAME:EDT
DTSTART:20260308T070000
END:DAYLIGHT
BEGIN:STANDARD
TZOFFSETFROM:-0400
TZOFFSETTO:-0500
TZNAME:EST
DTSTART:20261101T060000
END:STANDARD
END:VTIMEZONE
BEGIN:VEVENT
DTSTART;TZID=America/New_York:20250831T120000
DTEND;TZID=America/New_York:20250831T160000
DTSTAMP:20260422T064223
CREATED:20240814T140728Z
LAST-MODIFIED:20250826T154908Z
UID:10042295-1756641600-1756656000@thepinestimes.com
SUMMARY:Pinehurst Barbecue Festival: Christopher Prieto Pitmaster Invitational
DESCRIPTION:The community is invited to the fifth annual Pinehurst Barbecue Festival with Tarheel Festivals\, LLC! The festival takes place over Labor Day Weekend in the Village of Pinehurst. Presented by US Foods\, Carolina Co-Packing\, Our State Magazine and Pinehurst Resort\, this three-day festival\, headlined by Prieto\, offers a unique culinary experience of various barbecue meats\, seafood and traditional sides. Award-winning Pitmasters from across North Carolina come together to offer a “Celebration of Taste and Tradition.” \nSunday\, August 31st\nChristopher Prieto Pitmaster Invitational takes place in the Village of Pinehurst | 12:00pm-4:00pm. Early Admission is at 11:00am\, and a ticket is required. General Admission is at 12:00pm. Join for this premier event of the Pinehurst Barbecue Festival featuring North Carolina’s finest barbecue Pitmasters. Each ticket includes one protein and one side sample from each pitmaster. The day also includes BBQ sauce and rub samplings from vendors across the state\, Got To Be NC vendors\, North Carolina craft beer\, wine\, selected spirits by award-winning and live entertainment. For full details on each event and to purchase tickets\, CLICK HERE. \n 
URL:https://thepinestimes.com/event/pinehurst-barbecue-festival-christopher-prieto-pitmaster-invitational/
LOCATION:Village of Pinehurst\, 100 Chinquapin Road\, Pinehurst\, NC\, 28374\, United States
CATEGORIES:Adults,Art/Craft Workshops,Beer and Wine,Fair/Festival,Family,Food,Hobby/Enthusiast,HOMEPAGE Featured,Labor Day,Nature/Outdoors,Pinehurst Events,Senior,Social,Tasting,Vendors
ATTACH;FMTTYPE=image/jpeg:https://thepinestimes.com/wp-content/uploads/PinehurstBBQFestivalFeature.jpg
END:VEVENT
BEGIN:VEVENT
DTSTART;TZID=America/New_York:20250831T110000
DTEND;TZID=America/New_York:20250831T170000
DTSTAMP:20260422T064223
CREATED:20241209T150332Z
LAST-MODIFIED:20250827T172102Z
UID:10049211-1756638000-1756659600@thepinestimes.com
SUMMARY:Pinehurst Barbecue Festival
DESCRIPTION:The fifth annual Pinehurst Barbecue Festival is a Celebration of Taste and Tradition\, featuring award-winning pitmaster Christopher Prieto along with many of North Carolina’s celebrated pitmasters in one of the most picturesque settings in the state. \nPresented by US Foods\, Our State Magazine\, Lin Hutaff’s Pinehurst Realty Group\, Pinehurst\, Southern Pines & Aberdeen Convention & Visitor’s Bureau and Pinehurst Resort\, the three-day festival – headlined by Prieto – is staged in the Village of Pinehurst\, offers a unique culinary experience of various mouthwatering barbecue meats and traditional sides. \nThe festival runs Friday\, August 29th-Sunday\, August 31st\, 2025. To view the full schedule of events and online ticket purchases\, follow the event website link. \n  \n \n 
URL:https://thepinestimes.com/event/pinehurst-barvecue-festival/2025-08-31/
LOCATION:Village of Pinehurst\, 100 Chinquapin Road\, Pinehurst\, NC\, 28374\, United States
CATEGORIES:Adults,Art/Craft Workshops,Fair/Festival,Family,Food,Hobby/Enthusiast,Holiday Events,HOMEPAGE Featured,Labor Day,Live Entertainment,Nature/Outdoors,Pinehurst Events,Senior,Social,Tasting,Vendors
ATTACH;FMTTYPE=image/jpeg:https://thepinestimes.com/wp-content/uploads/PinehurstBBQFestivalFeature.jpg
END:VEVENT
BEGIN:VEVENT
DTSTART;TZID=America/New_York:20250830T180000
DTEND;TZID=America/New_York:20250830T200000
DTSTAMP:20260422T064223
CREATED:20240814T140357Z
LAST-MODIFIED:20250826T154603Z
UID:10042294-1756576800-1756584000@thepinestimes.com
SUMMARY:Pinehurst Barbecue Festival: Barbecue Reimagined (Sold Out)
DESCRIPTION:The community is invited to the fifth annual Pinehurst Barbecue Festival with Tarheel Festivals\, LLC! The festival takes place over Labor Day Weekend in the Village of Pinehurst. Presented by US Foods\, Carolina Co-Packing\, Our State Magazine and Pinehurst Resort\, this three-day festival\, headlined by Prieto\, offers a unique culinary experience of various barbecue meats\, seafood and traditional sides. Award-winning Pitmasters from across North Carolina come together to offer a “Celebration of Taste and Tradition.” \nSaturday\, August 30th\nBarbecue Reimagined is the newest event in the Pinehurst Barbecue Festival line-up taking place at BHAWK Distillery in Souther Pines | 5:30pm-8:00pm. Barbecue “Reimagined” is a gourmet tasting event featuring Got To Be NC Ambassador Chefs\, Pastry Chefs and Mixologists from across the state who will prepare nontraditional and international barbecue dishes and signature cocktails. For full details and online ticket purchases\, follow the event website link provided below. \n  \n 
URL:https://thepinestimes.com/event/pinehurst-barbecue-festival-barbecue-reimagined/
LOCATION:BHAWK\, Brad Halling American Whiskey Ko.\, 175 Yadkin Rd.\, Southern Pines\, NC\, 28387\, United States
CATEGORIES:Adults,Art/Craft Workshops,Beer and Wine,Fair/Festival,Food,Hobby/Enthusiast,HOMEPAGE Featured,Labor Day,Live Entertainment,Live Music,Nature/Outdoors,Pinehurst Events,Senior,Social,Tasting,Vendors
ATTACH;FMTTYPE=image/jpeg:https://thepinestimes.com/wp-content/uploads/PinehurstBBQFestivalFeature.jpg
END:VEVENT
BEGIN:VEVENT
DTSTART;TZID=America/New_York:20250830T170000
DTEND;TZID=America/New_York:20250830T190000
DTSTAMP:20260422T064223
CREATED:20240814T140203Z
LAST-MODIFIED:20250826T154206Z
UID:10042293-1756573200-1756580400@thepinestimes.com
SUMMARY:Pinehurst Barbecue Festival: Bourbon & Bites (Sold Out)
DESCRIPTION:The community is invited to the fourth annual Pinehurst Barbecue Festival with Tarheel Festivals\, LLC! The festival takes place over Labor Day Weekend in the Village of Pinehurst. Presented by US Foods\, Carolina Co-Packing\, Our State Magazine and Pinehurst Resort\, this three-day festival\, headlined by Prieto\, offers a unique culinary experience of various barbecue meats\, seafood and traditional sides. Award-winning Pitmasters from across North Carolina come together to offer a “Celebration of Taste and Tradition.” \nSaturday\, August 30th\nBourbon & Bites takes place at the North & South Bar in The Manor | 5:00pm-7:00pm. Indulge in this intimate evening of whiskey and bourbon sampling\, expertly paired with small plates from the Pinehurst Resort culinary team. You will sample five varieties of bourbon. One cigar will be provided\, compliments of Specialty Cigars. The cost is $125. \n  \n 
URL:https://thepinestimes.com/event/pinehurst-barbecue-festival-bourbon-bites/
LOCATION:North and South Bar\, The Manor\, 5 Community Rd\, Pinehurst\, NC\, 28374\, United States
CATEGORIES:Adults,Art/Craft Workshops,Beer and Wine,Fair/Festival,Food,Hobby/Enthusiast,Labor Day,Live Entertainment,Live Music,Nature/Outdoors,Pinehurst Events,Senior,Social,Tasting,Vendors
ATTACH;FMTTYPE=image/jpeg:https://thepinestimes.com/wp-content/uploads/PinehurstBBQFestivalFeature.jpg
END:VEVENT
BEGIN:VEVENT
DTSTART;TZID=America/New_York:20250830T100000
DTEND;TZID=America/New_York:20250830T200000
DTSTAMP:20260422T064223
CREATED:20241209T150332Z
LAST-MODIFIED:20250827T172102Z
UID:10049210-1756548000-1756584000@thepinestimes.com
SUMMARY:Pinehurst Barbecue Festival
DESCRIPTION:The fifth annual Pinehurst Barbecue Festival is a Celebration of Taste and Tradition\, featuring award-winning pitmaster Christopher Prieto along with many of North Carolina’s celebrated pitmasters in one of the most picturesque settings in the state. \nPresented by US Foods\, Our State Magazine\, Lin Hutaff’s Pinehurst Realty Group\, Pinehurst\, Southern Pines & Aberdeen Convention & Visitor’s Bureau and Pinehurst Resort\, the three-day festival – headlined by Prieto – is staged in the Village of Pinehurst\, offers a unique culinary experience of various mouthwatering barbecue meats and traditional sides. \nThe festival runs Friday\, August 29th-Sunday\, August 31st\, 2025. To view the full schedule of events and online ticket purchases\, follow the event website link. \n  \n \n 
URL:https://thepinestimes.com/event/pinehurst-barvecue-festival/2025-08-30/
LOCATION:Village of Pinehurst\, 100 Chinquapin Road\, Pinehurst\, NC\, 28374\, United States
CATEGORIES:Adults,Art/Craft Workshops,Fair/Festival,Family,Food,Hobby/Enthusiast,Holiday Events,HOMEPAGE Featured,Labor Day,Live Entertainment,Nature/Outdoors,Pinehurst Events,Senior,Social,Tasting,Vendors
ATTACH;FMTTYPE=image/jpeg:https://thepinestimes.com/wp-content/uploads/PinehurstBBQFestivalFeature.jpg
END:VEVENT
BEGIN:VEVENT
DTSTART;TZID=America/New_York:20250830T100000
DTEND;TZID=America/New_York:20250830T120000
DTSTAMP:20260422T064223
CREATED:20240814T135850Z
LAST-MODIFIED:20250826T153752Z
UID:10042292-1756548000-1756555200@thepinestimes.com
SUMMARY:Pinehurst Barbecue Festival: ”Q”-School Grilling Class
DESCRIPTION:The community is invited to the fifth annual Pinehurst Barbecue Festival with Tarheel Festivals\, LLC! The festival takes place over Labor Day Weekend in the Village of Pinehurst. Presented by US Foods\, Carolina Co-Packing\, Our State Magazine and Pinehurst Resort\, this three-day festival\, headlined by Prieto\, offers a unique culinary experience of various barbecue meats\, seafood and traditional sides. Award-winning Pitmasters from across North Carolina come together to offer a “Celebration of Taste and Tradition.” \nSaturday\, August 30th\n”Q”-School Grilling Class takes place at the Pinehurst Arboretum\, under covered seating | 10:00am-12:00pm. Pinehurst has played host to many a “Q School” in its day\, but none quite like this. Experience cooking and grilling demonstrations with a range of meats on a variety of grills. This class is led by Christopher Prieto of Prime Barbecue in Knightdale. Learn and eat at the same time. Sampling will be provided following the class. A cash bar will be available. Please note that no children under 12 are allowed at this event. Children 12-17 must be accompanied by a responsible ticketed adult. For full details on each event and to purchase tickets\, visit the website event link provided below. \n  \n  \n 
URL:https://thepinestimes.com/event/pinehurst-barbecue-festival-q-school-grilling-class/
LOCATION:The Pinehurst Arboretum\, 80 Carolina Vis\, Pinehurst\, NC\, 28374\, United States
CATEGORIES:Adults,Art/Craft Workshops,Beer and Wine,Fair/Festival,Food,Hobby/Enthusiast,Labor Day,Live Entertainment,Live Music,Nature/Outdoors,Pinehurst Events,Senior,Social,Tasting,Vendors
ATTACH;FMTTYPE=image/jpeg:https://thepinestimes.com/wp-content/uploads/PinehurstBBQFestivalFeature.jpg
END:VEVENT
BEGIN:VEVENT
DTSTART;TZID=America/New_York:20250829T183000
DTEND;TZID=America/New_York:20250829T203000
DTSTAMP:20260422T064223
CREATED:20241209T150332Z
LAST-MODIFIED:20250827T172102Z
UID:10049209-1756492200-1756499400@thepinestimes.com
SUMMARY:Pinehurst Barbecue Festival
DESCRIPTION:The fifth annual Pinehurst Barbecue Festival is a Celebration of Taste and Tradition\, featuring award-winning pitmaster Christopher Prieto along with many of North Carolina’s celebrated pitmasters in one of the most picturesque settings in the state. \nPresented by US Foods\, Our State Magazine\, Lin Hutaff’s Pinehurst Realty Group\, Pinehurst\, Southern Pines & Aberdeen Convention & Visitor’s Bureau and Pinehurst Resort\, the three-day festival – headlined by Prieto – is staged in the Village of Pinehurst\, offers a unique culinary experience of various mouthwatering barbecue meats and traditional sides. \nThe festival runs Friday\, August 29th-Sunday\, August 31st\, 2025. To view the full schedule of events and online ticket purchases\, follow the event website link. \n  \n \n 
URL:https://thepinestimes.com/event/pinehurst-barvecue-festival/2025-08-29/
LOCATION:Village of Pinehurst\, 100 Chinquapin Road\, Pinehurst\, NC\, 28374\, United States
CATEGORIES:Adults,Art/Craft Workshops,Fair/Festival,Family,Food,Hobby/Enthusiast,Holiday Events,HOMEPAGE Featured,Labor Day,Live Entertainment,Nature/Outdoors,Pinehurst Events,Senior,Social,Tasting,Vendors
ATTACH;FMTTYPE=image/jpeg:https://thepinestimes.com/wp-content/uploads/PinehurstBBQFestivalFeature.jpg
END:VEVENT
BEGIN:VEVENT
DTSTART;TZID=America/New_York:20250829T183000
DTEND;TZID=America/New_York:20250829T203000
DTSTAMP:20260422T064223
CREATED:20230728T165754Z
LAST-MODIFIED:20250822T133319Z
UID:10015481-1756492200-1756499400@thepinestimes.com
SUMMARY:Pinehurst Barbecue Festival: High On The Hog Gourmet Pitmaster Dinner
DESCRIPTION:The community is invited to the fifth annual Pinehurst Barbecue Festival with Tarheel Festivals\, LLC! The festival takes place over Labor Day Weekend in the Village of Pinehurst. Presented by US Foods\, Carolina Co-Packing\, Our State Magazine and Pinehurst Resort\, this three-day festival\, headlined by Prieto\, offers a unique culinary experience of various barbecue meats\, seafood and traditional sides. Award-winning Pitmasters from across North Carolina come together to offer a “Celebration of Taste and Tradition.” \nFriday\, August 29th\nHigh On The Hog Gourmet Pitmaster Dinner takes place at the Pinehurst Fair Barn | 6:30pm-8:30pm. This special dinner kicks off the weekend events. Hosted by Pitmaster Matt Register from Southern Smoke Barbecue\, in Garland\, NC\, guests will be treated to some of Matt’s best Barbecue dishes and desserts. The evening includes live entertainment\, silent auction and new this year\, a bourbon pull. A cash bar will be available throughout the evening. \nFor full details on each event and to purchase tickets\, visit the website event link provided below. \n 
URL:https://thepinestimes.com/event/pinehurst-barbecue-festival/
LOCATION:The Fair Barn\, 200 Beulah Hill Rd.\, Pinehurst\, NC North Carolina\, 28374
CATEGORIES:Adult Connections,Adults,Art/Craft Workshops,Beer and Wine,Fair/Festival,Family,Food,Hobby/Enthusiast,Labor Day,Nature/Outdoors,Pinehurst Events,Senior,Social,Tasting,Vendors
ATTACH;FMTTYPE=image/jpeg:https://thepinestimes.com/wp-content/uploads/PinehurstBBQFestivalFeature.jpg
END:VEVENT
END:VCALENDAR