BEGIN:VCALENDAR
VERSION:2.0
PRODID:-//The Pines Times - ECPv6.15.20//NONSGML v1.0//EN
CALSCALE:GREGORIAN
METHOD:PUBLISH
X-WR-CALNAME:The Pines Times
X-ORIGINAL-URL:https://thepinestimes.com
X-WR-CALDESC:Events for The Pines Times
REFRESH-INTERVAL;VALUE=DURATION:PT1H
X-Robots-Tag:noindex
X-PUBLISHED-TTL:PT1H
BEGIN:VTIMEZONE
TZID:America/New_York
BEGIN:DAYLIGHT
TZOFFSETFROM:-0500
TZOFFSETTO:-0400
TZNAME:EDT
DTSTART:20240310T070000
END:DAYLIGHT
BEGIN:STANDARD
TZOFFSETFROM:-0400
TZOFFSETTO:-0500
TZNAME:EST
DTSTART:20241103T060000
END:STANDARD
BEGIN:DAYLIGHT
TZOFFSETFROM:-0500
TZOFFSETTO:-0400
TZNAME:EDT
DTSTART:20250309T070000
END:DAYLIGHT
BEGIN:STANDARD
TZOFFSETFROM:-0400
TZOFFSETTO:-0500
TZNAME:EST
DTSTART:20251102T060000
END:STANDARD
BEGIN:DAYLIGHT
TZOFFSETFROM:-0500
TZOFFSETTO:-0400
TZNAME:EDT
DTSTART:20260308T070000
END:DAYLIGHT
BEGIN:STANDARD
TZOFFSETFROM:-0400
TZOFFSETTO:-0500
TZNAME:EST
DTSTART:20261101T060000
END:STANDARD
END:VTIMEZONE
BEGIN:VEVENT
DTSTART;TZID=America/New_York:20250425T170000
DTEND;TZID=America/New_York:20250425T193000
DTSTAMP:20260425T130416
CREATED:20250408T131636Z
LAST-MODIFIED:20250408T135342Z
UID:10056323-1745600400-1745609400@thepinestimes.com
SUMMARY:Pinehurst Elementary School PTA: Spring Carnival
DESCRIPTION:The Pinehurst Elementary School PTA is hosting the annual Spring Carnival on Friday\, April 25th | 5:00pm-7:30pm at Pinehurst Elementary School! Wristbands are just $12 each for the first 2 kids and $5 for any additional kids (adults and children under 4 are free). Enjoy the many fun activities for the whole family\, plus some fantastic food trucks will be on site! All children ages 4-17 must have wristbands to participate in the Spring Carnival activities. For more information and wristbands\, follow the event website link provided below.
URL:https://thepinestimes.com/event/pinehurst-elementary-school-pta-spring-carnival/
LOCATION:Pinehurst Elementary School\, 100 Dundee Road\, Pinehurst\, NC\, 28374\, United States
CATEGORIES:Adults,Children,Donation,Fair/Festival,Family,Food,Games,Live Entertainment,Pinehurst Events,School,Social
ATTACH;FMTTYPE=image/jpeg:https://thepinestimes.com/wp-content/uploads/PinehurstElementarySchoolFeature.jpg
ORGANIZER;CN="Pinehurst Elementary School PTA":MAILTO:pinehurstelementarypta@gmail.com
END:VEVENT
END:VCALENDAR