BEGIN:VCALENDAR
VERSION:2.0
PRODID:-//The Pines Times - ECPv6.15.20//NONSGML v1.0//EN
CALSCALE:GREGORIAN
METHOD:PUBLISH
X-WR-CALNAME:The Pines Times
X-ORIGINAL-URL:https://thepinestimes.com
X-WR-CALDESC:Events for The Pines Times
REFRESH-INTERVAL;VALUE=DURATION:PT1H
X-Robots-Tag:noindex
X-PUBLISHED-TTL:PT1H
BEGIN:VTIMEZONE
TZID:America/New_York
BEGIN:DAYLIGHT
TZOFFSETFROM:-0500
TZOFFSETTO:-0400
TZNAME:EDT
DTSTART:20250309T070000
END:DAYLIGHT
BEGIN:STANDARD
TZOFFSETFROM:-0400
TZOFFSETTO:-0500
TZNAME:EST
DTSTART:20251102T060000
END:STANDARD
BEGIN:DAYLIGHT
TZOFFSETFROM:-0500
TZOFFSETTO:-0400
TZNAME:EDT
DTSTART:20260308T070000
END:DAYLIGHT
BEGIN:STANDARD
TZOFFSETFROM:-0400
TZOFFSETTO:-0500
TZNAME:EST
DTSTART:20261101T060000
END:STANDARD
BEGIN:DAYLIGHT
TZOFFSETFROM:-0500
TZOFFSETTO:-0400
TZNAME:EDT
DTSTART:20270314T070000
END:DAYLIGHT
BEGIN:STANDARD
TZOFFSETFROM:-0400
TZOFFSETTO:-0500
TZNAME:EST
DTSTART:20271107T060000
END:STANDARD
END:VTIMEZONE
BEGIN:VEVENT
DTSTART;TZID=America/New_York:20260130T093000
DTEND;TZID=America/New_York:20260130T223000
DTSTAMP:20260425T135116
CREATED:20260108T143147Z
LAST-MODIFIED:20260108T143147Z
UID:10079136-1769765400-1769812200@thepinestimes.com
SUMMARY:Dermatology Coffee & Consults with Ashley
DESCRIPTION:Pinehurst Medical Clinic Dermatology is hosting Coffee & Consults with Ashley on two Fridays in January: January 16th and January 30th. These drop-in sessions take place from 9:30am-10:30am. You can meet with Ashley Cochran\, FNP-C\, for a casual cosmetic consultation to discuss your skincare goals and learn about available treatments. The events are held at the Dermatology Clinic located on the 2nd floor of Morganton Park at 200 Pavilion Way\, Southern Pines.
URL:https://thepinestimes.com/event/dermatology-coffee-consults-with-ashley/2026-01-30/
LOCATION:Pinehurst Dermatology Clinic\, 200 Pavilion Way\, Southern Pines\, 28387\, United States
CATEGORIES:Adults,Educational,Health & Wellness,Pinehurst Events,Senior,Southern Pines Events,Young Adults
END:VEVENT
BEGIN:VEVENT
DTSTART;TZID=America/New_York:20260116T093000
DTEND;TZID=America/New_York:20260116T223000
DTSTAMP:20260425T135116
CREATED:20260108T143147Z
LAST-MODIFIED:20260108T143147Z
UID:10079135-1768555800-1768602600@thepinestimes.com
SUMMARY:Dermatology Coffee & Consults with Ashley
DESCRIPTION:Pinehurst Medical Clinic Dermatology is hosting Coffee & Consults with Ashley on two Fridays in January: January 16th and January 30th. These drop-in sessions take place from 9:30am-10:30am. You can meet with Ashley Cochran\, FNP-C\, for a casual cosmetic consultation to discuss your skincare goals and learn about available treatments. The events are held at the Dermatology Clinic located on the 2nd floor of Morganton Park at 200 Pavilion Way\, Southern Pines.
URL:https://thepinestimes.com/event/dermatology-coffee-consults-with-ashley/2026-01-16/
LOCATION:Pinehurst Dermatology Clinic\, 200 Pavilion Way\, Southern Pines\, 28387\, United States
CATEGORIES:Adults,Educational,Health & Wellness,Pinehurst Events,Senior,Southern Pines Events,Young Adults
END:VEVENT
END:VCALENDAR