BEGIN:VCALENDAR
VERSION:2.0
PRODID:-//The Pines Times - ECPv6.15.20//NONSGML v1.0//EN
CALSCALE:GREGORIAN
METHOD:PUBLISH
X-ORIGINAL-URL:https://thepinestimes.com
X-WR-CALDESC:Events for The Pines Times
REFRESH-INTERVAL;VALUE=DURATION:PT1H
X-Robots-Tag:noindex
X-PUBLISHED-TTL:PT1H
BEGIN:VTIMEZONE
TZID:America/New_York
BEGIN:DAYLIGHT
TZOFFSETFROM:-0500
TZOFFSETTO:-0400
TZNAME:EDT
DTSTART:20240310T070000
END:DAYLIGHT
BEGIN:STANDARD
TZOFFSETFROM:-0400
TZOFFSETTO:-0500
TZNAME:EST
DTSTART:20241103T060000
END:STANDARD
BEGIN:DAYLIGHT
TZOFFSETFROM:-0500
TZOFFSETTO:-0400
TZNAME:EDT
DTSTART:20250309T070000
END:DAYLIGHT
BEGIN:STANDARD
TZOFFSETFROM:-0400
TZOFFSETTO:-0500
TZNAME:EST
DTSTART:20251102T060000
END:STANDARD
BEGIN:DAYLIGHT
TZOFFSETFROM:-0500
TZOFFSETTO:-0400
TZNAME:EDT
DTSTART:20260308T070000
END:DAYLIGHT
BEGIN:STANDARD
TZOFFSETFROM:-0400
TZOFFSETTO:-0500
TZNAME:EST
DTSTART:20261101T060000
END:STANDARD
BEGIN:DAYLIGHT
TZOFFSETFROM:-0500
TZOFFSETTO:-0400
TZNAME:EDT
DTSTART:20270314T070000
END:DAYLIGHT
BEGIN:STANDARD
TZOFFSETFROM:-0400
TZOFFSETTO:-0500
TZNAME:EST
DTSTART:20271107T060000
END:STANDARD
END:VTIMEZONE
BEGIN:VEVENT
DTSTART;TZID=America/New_York:20260417T180000
DTEND;TZID=America/New_York:20260417T210000
DTSTAMP:20260420T194019
CREATED:20260412T131056Z
LAST-MODIFIED:20260412T131144Z
UID:10086769-1776448800-1776459600@thepinestimes.com
SUMMARY:Pitch\, Hit & Run (Ages 14 & Under)
DESCRIPTION:Step up to the plate with Major League Baseball Pitch\, Hit & Run! Ages 14 & under are invited to join athletes from Aberdeen\, Pinehurst\, and Southern Pines for an exciting showcase of skill\, competition\, and opportunity. Bring your A-game and show what you’ve got\, this could be your moment! \nThe Pitch\, Hit & Run program is a free event series for boys and girls\, and consists of a series of movements that are important in baseball and softball. Participants will compete in either 7-8\, 9-10\, 11-12\, or 13-14 age division\, with the Age Cut-off set on November 15\, 2026. They will be tested\, and their measurements will be recorded for points. Based on their scores\, they will advance from a Local Event to a Team Championship and then to the Finals hosted at the World Series. For more information make sure to follow our social handles. Instagram @mlbpitchhitrun and Twitter/X @pitchhitrun.
URL:https://thepinestimes.com/event/pitch-hit-run-ages-14-under/
LOCATION:Memorial Park Field\, 210 Rattlesnake Trail\, Pinehurst\, 28374\, United States
CATEGORIES:Baseball,Children,Contest,Hobby/Enthusiast,Moore County Events,Pinehurst Events,Piney's Kids,Sports,Teen Activities
ATTACH;FMTTYPE=image/jpeg:https://thepinestimes.com/wp-content/uploads/PitchHitRunFeature.jpg
ORGANIZER;CN="Southern Pines Parks and Recreation":MAILTO:bsampson@southernpines.net
END:VEVENT
BEGIN:VEVENT
DTSTART;TZID=America/New_York:20260212T173000
DTEND;TZID=America/New_York:20260212T193000
DTSTAMP:20260420T194019
CREATED:20260207T153041Z
LAST-MODIFIED:20260207T153041Z
UID:10080669-1770917400-1770924600@thepinestimes.com
SUMMARY:Pinehurst Charcuterie 101
DESCRIPTION:The Village of Pinehurst Parks & Recreation is hosting Charcuterie 101 on Thursday\, February 12th\, from 5:30pm-7:30pm. Grab your besties and join Kelly to learn how to slice\, style\, swirl\, and savor your way to becoming the charcuterie champ of your friend group. This fun\, hands-on class covers everything from cheese confidence to salami roses and flavor-pairing secrets to help you craft a board that looks straight off Pinterest. Stay and enjoy your board with friends or take it home to share. The cost is $40. Register by scanning the provided QR code or through the event website link below.
URL:https://thepinestimes.com/event/pinehurst-charcuterie-101/
LOCATION:Cannon Park Community Center\, 210 Rattlesnake Trail\, Pinehurst\, NC\, 28374
CATEGORIES:Adults,Classes/Workshops,Cooking,Food,Hobby/Enthusiast,Pinehurst Events,Social,Young Adults
ATTACH;FMTTYPE=image/jpeg:https://thepinestimes.com/wp-content/uploads/VillageOfPinehurstFeature.jpg
END:VEVENT
BEGIN:VEVENT
DTSTART;TZID=America/New_York:20260102T130000
DTEND;TZID=America/New_York:20260102T150000
DTSTAMP:20260420T194019
CREATED:20251216T165841Z
LAST-MODIFIED:20251229T151521Z
UID:10077498-1767358800-1767366000@thepinestimes.com
SUMMARY:Create Your 2026 Vision Board
DESCRIPTION:Are you ready to make 2026 a great year? Vision boards help you focus your intentions and manifest your best self. Join other area residents in a free community vision board creating session on January 2nd from 1:00pm-3:00pm at the Pinehurst Community Center. Space is limited and event is open for folks 18 years and up. Registration can be completed through the event website link provided below.
URL:https://thepinestimes.com/event/create-your-2026-vision-board/
LOCATION:Cannon Park Community Center\, 210 Rattlesnake Trail\, Pinehurst\, NC\, 28374
CATEGORIES:Adult Connections,Art/Craft Workshops,Crafts,Hobby/Enthusiast,Holiday Events,Pinehurst Events,Social,Young Adults
ATTACH;FMTTYPE=image/jpeg:https://thepinestimes.com/wp-content/uploads/PinehurstFeature.jpg
END:VEVENT
BEGIN:VEVENT
DTSTART;TZID=America/New_York:20251017T180000
DTEND;TZID=America/New_York:20251017T210000
DTSTAMP:20260420T194019
CREATED:20251016T171434Z
LAST-MODIFIED:20251016T171451Z
UID:10073029-1760724000-1760734800@thepinestimes.com
SUMMARY:Punt\, Pass\, Go (Ages 5-16)
DESCRIPTION:Think you have what it takes to Punt\, Pass\, & Go? Pinehurst Parks & Recreation invites all football enthusiasts aged 5-16 to show off their speed\, accuracy\, and arm strength in a fun and friendly competition at Cannon Park. Participants will compete in age divisions (5-8\, 9-12\, and 13-16) to see who can punt\, pass\, and kick the furthest and most accurately. The free event takes place on October 17th at 6pm. Register now through the event website link provided below to secure your spot. For any questions\, you can contact Judith Lawhon at jlawhon@vopnc.org or call 910-295-2817.
URL:https://thepinestimes.com/event/punt-pass-go-ages-5-16/
LOCATION:Cannon Park\, 90 Woods Rd\, Pinehurst\, NC\, 28374\, United States
CATEGORIES:Children,Football,Games,Health & Wellness,Hobby/Enthusiast,Nature/Outdoors,Pinehurst Events,Piney's Kids,Social,Sports,Teen Activities
ATTACH;FMTTYPE=image/jpeg:https://thepinestimes.com/wp-content/uploads/PuntPassGoFeature.jpg
END:VEVENT
BEGIN:VEVENT
DTSTART;TZID=America/New_York:20250718T180000
DTEND;TZID=America/New_York:20250718T180000
DTSTAMP:20260420T194019
CREATED:20240530T162915Z
LAST-MODIFIED:20250715T123752Z
UID:10037800-1752861600-1752861600@thepinestimes.com
SUMMARY:Free Basketball Skills Challenge
DESCRIPTION:The Southern Pines\, Pinehurst and Aberdeen Parks & Recreation Departments invite youth ages 7-14 to show off their basketball skills on Friday\, July 18th at 6:00pm at the Cannon Park Community Center in Pinehurst! Show off how well you can dribble\, pass\, lay-up and more at this youth basketball skill competition. This is a free event. For more information and registration\, email ccoe@townofaberdeen.net. \n 
URL:https://thepinestimes.com/event/free-basketball-skills-challenge/
LOCATION:Cannon Park Community Center\, 210 Rattlesnake Trail\, Pinehurst\, NC\, 28374
CATEGORIES:Basketball,Children,Educational,Family,Games,Health & Wellness,Hobby/Enthusiast,Live Entertainment,Pinehurst Events,Social,Sports
ATTACH;FMTTYPE=image/jpeg:https://thepinestimes.com/wp-content/uploads/BasketballSkillsChallengeFeature.jpg
ORGANIZER;CN="Southern Pines Parks and Recreation":MAILTO:bsampson@southernpines.net
END:VEVENT
BEGIN:VEVENT
DTSTART;TZID=America/New_York:20250527T160000
DTEND;TZID=America/New_York:20250527T170000
DTSTAMP:20260420T194019
CREATED:20250515T185006Z
LAST-MODIFIED:20250515T185006Z
UID:10058841-1748361600-1748365200@thepinestimes.com
SUMMARY:The Wiffle Warriors
DESCRIPTION:The Village of Pinehurst Parks present The Wiffle Warriors\, a fun and inclusive wiffle ball league! Join in each week as players take the field for some lighthearted competition and community spirit. This program is specially designed for individuals with special needs\, creating a supportive space to enjoy the game and creating lasting memories. The fun takes place every Tuesday in May from 4pm-5pm at Cannon Park. Co-Sponsored with Jillian’s Jitterbug Foundation.
URL:https://thepinestimes.com/event/the-wiffle-warriors/2025-05-27/
LOCATION:Cannon Park\, 90 Woods Rd\, Pinehurst\, NC\, 28374\, United States
CATEGORIES:Adults,Children,Educational,Family,Games,Health & Wellness,Hobby/Enthusiast,Nature/Outdoors,Pinehurst Events,Social,Sports
ATTACH;FMTTYPE=image/jpeg:https://thepinestimes.com/wp-content/uploads/PinehurstFeature.jpg
END:VEVENT
BEGIN:VEVENT
DTSTART;TZID=America/New_York:20250520T160000
DTEND;TZID=America/New_York:20250520T170000
DTSTAMP:20260420T194019
CREATED:20250515T185006Z
LAST-MODIFIED:20250515T185006Z
UID:10058840-1747756800-1747760400@thepinestimes.com
SUMMARY:The Wiffle Warriors
DESCRIPTION:The Village of Pinehurst Parks present The Wiffle Warriors\, a fun and inclusive wiffle ball league! Join in each week as players take the field for some lighthearted competition and community spirit. This program is specially designed for individuals with special needs\, creating a supportive space to enjoy the game and creating lasting memories. The fun takes place every Tuesday in May from 4pm-5pm at Cannon Park. Co-Sponsored with Jillian’s Jitterbug Foundation.
URL:https://thepinestimes.com/event/the-wiffle-warriors/2025-05-20/
LOCATION:Cannon Park\, 90 Woods Rd\, Pinehurst\, NC\, 28374\, United States
CATEGORIES:Adults,Children,Educational,Family,Games,Health & Wellness,Hobby/Enthusiast,Nature/Outdoors,Pinehurst Events,Social,Sports
ATTACH;FMTTYPE=image/jpeg:https://thepinestimes.com/wp-content/uploads/PinehurstFeature.jpg
END:VEVENT
END:VCALENDAR