BEGIN:VCALENDAR
VERSION:2.0
PRODID:-//The Pines Times - ECPv6.15.20//NONSGML v1.0//EN
CALSCALE:GREGORIAN
METHOD:PUBLISH
X-ORIGINAL-URL:https://thepinestimes.com
X-WR-CALDESC:Events for The Pines Times
REFRESH-INTERVAL;VALUE=DURATION:PT1H
X-Robots-Tag:noindex
X-PUBLISHED-TTL:PT1H
BEGIN:VTIMEZONE
TZID:America/New_York
BEGIN:DAYLIGHT
TZOFFSETFROM:-0500
TZOFFSETTO:-0400
TZNAME:EDT
DTSTART:20250309T070000
END:DAYLIGHT
BEGIN:STANDARD
TZOFFSETFROM:-0400
TZOFFSETTO:-0500
TZNAME:EST
DTSTART:20251102T060000
END:STANDARD
BEGIN:DAYLIGHT
TZOFFSETFROM:-0500
TZOFFSETTO:-0400
TZNAME:EDT
DTSTART:20260308T070000
END:DAYLIGHT
BEGIN:STANDARD
TZOFFSETFROM:-0400
TZOFFSETTO:-0500
TZNAME:EST
DTSTART:20261101T060000
END:STANDARD
BEGIN:DAYLIGHT
TZOFFSETFROM:-0500
TZOFFSETTO:-0400
TZNAME:EDT
DTSTART:20270314T070000
END:DAYLIGHT
BEGIN:STANDARD
TZOFFSETFROM:-0400
TZOFFSETTO:-0500
TZNAME:EST
DTSTART:20271107T060000
END:STANDARD
END:VTIMEZONE
BEGIN:VEVENT
DTSTART;TZID=America/New_York:20260124T180000
DTEND;TZID=America/New_York:20260124T210000
DTSTAMP:20260421T095132
CREATED:20250123T163150Z
LAST-MODIFIED:20260120T152542Z
UID:10052926-1769277600-1769288400@thepinestimes.com
SUMMARY:Pinehurst History & Track Fundraiser 2026 with The New York Tenors (Canceled)
DESCRIPTION:The New York Tenors are returning for a concert and fundraiser on January 24th\, at the Fair Barn. This event supports Pinehurst Harness Track projects and Visible Pinehurst History projects. The evening includes a buffet dinner starting at 6:00pm followed by the show at 7:15pm\, and a cash bar will be available. \nIndividual seats are priced at $150\, or you can purchase a table of eight for $1\,200. Because the event is presented by Pinehurst PPF\, a 501(c)(3) organization\, a portion of the ticket price is tax-deductible. This event is open to the public. For questions and ticket purchases\, call 910-922-3041. \n \n  \n 
URL:https://thepinestimes.com/event/pinehurst-history-track-fundraiser-2026-with-the-new-york-tenors/
LOCATION:The Fair Barn\, 200 Beulah Hill Rd.\, Pinehurst\, NC North Carolina\, 28374
CATEGORIES:Adults,Beer and Wine,Concert,Dance,Donation,Equestrian,Food,Fundraiser,Live Entertainment,Live Music,Pets/Animals,Pinehurst Events,Senior,Social,Young Adults
ATTACH;FMTTYPE=image/jpeg:https://thepinestimes.com/wp-content/uploads/NewYorkTenorsFeature.jpg
ORGANIZER;CN="Pinehurst Racing Partners":MAILTO:olmstead@pinehurst.net
END:VEVENT
END:VCALENDAR