BEGIN:VCALENDAR
VERSION:2.0
PRODID:-//The Pines Times - ECPv6.15.20//NONSGML v1.0//EN
CALSCALE:GREGORIAN
METHOD:PUBLISH
X-WR-CALNAME:The Pines Times
X-ORIGINAL-URL:https://thepinestimes.com
X-WR-CALDESC:Events for The Pines Times
REFRESH-INTERVAL;VALUE=DURATION:PT1H
X-Robots-Tag:noindex
X-PUBLISHED-TTL:PT1H
BEGIN:VTIMEZONE
TZID:America/New_York
BEGIN:DAYLIGHT
TZOFFSETFROM:-0500
TZOFFSETTO:-0400
TZNAME:EDT
DTSTART:20240310T070000
END:DAYLIGHT
BEGIN:STANDARD
TZOFFSETFROM:-0400
TZOFFSETTO:-0500
TZNAME:EST
DTSTART:20241103T060000
END:STANDARD
BEGIN:DAYLIGHT
TZOFFSETFROM:-0500
TZOFFSETTO:-0400
TZNAME:EDT
DTSTART:20250309T070000
END:DAYLIGHT
BEGIN:STANDARD
TZOFFSETFROM:-0400
TZOFFSETTO:-0500
TZNAME:EST
DTSTART:20251102T060000
END:STANDARD
BEGIN:DAYLIGHT
TZOFFSETFROM:-0500
TZOFFSETTO:-0400
TZNAME:EDT
DTSTART:20260308T070000
END:DAYLIGHT
BEGIN:STANDARD
TZOFFSETFROM:-0400
TZOFFSETTO:-0500
TZNAME:EST
DTSTART:20261101T060000
END:STANDARD
END:VTIMEZONE
BEGIN:VEVENT
DTSTART;TZID=America/New_York:20251218T170000
DTEND;TZID=America/New_York:20251218T190000
DTSTAMP:20260423T175729
CREATED:20251125T145442Z
LAST-MODIFIED:20251125T145824Z
UID:10075602-1766077200-1766084400@thepinestimes.com
SUMMARY:Luminary Remembrance Walkthrough
DESCRIPTION:PinesFunerals invites you to join them for a night of solace\, fellowship\, and remembrance at their Luminary Remembrance Walkthrough events. They will honor and celebrate the lives of loved ones through a touching luminary display\, providing a much-needed sense of peace\, comfort\, and support. Light refreshments will be served\, and all attendees will receive an ornament customized with their loved one’s name (limited to one per family). All are welcome to attend. \nThe walkthrough will take place at three locations: \nKennedy Funeral Home (Robbins): Monday\, December 15th from 5:00pm-7:00pm \nFry & Prickett Funeral Home (Carthage): Tuesday\, December 16th from 5:00pm-7:00pm \nPowell Funeral Home (Aberdeen): Thursday\, December 18th from 5:00pm-7:00pm
URL:https://thepinestimes.com/event/luminary-remembrance-walkthrough/2025-12-18/
LOCATION:Kennedy Funeral Home\, 241 N Middleton St\, Robbins\, 27325\, United States
CATEGORIES:Aberdeen Events,Adults,Carthage Events,Ceremony,Christmas,Family,Holiday Events,Religious/Spiritual,Robbins Events,Senior,Social,Young Adults
ATTACH;FMTTYPE=image/jpeg:https://thepinestimes.com/wp-content/uploads/PinesFuneralsFeature.jpg
ORGANIZER;CN="PinesFunerals":MAILTO:info@PinesFunerals.com
END:VEVENT
BEGIN:VEVENT
DTSTART;TZID=America/New_York:20251216T170000
DTEND;TZID=America/New_York:20251216T190000
DTSTAMP:20260423T175729
CREATED:20251125T145442Z
LAST-MODIFIED:20251125T145824Z
UID:10075601-1765904400-1765911600@thepinestimes.com
SUMMARY:Luminary Remembrance Walkthrough
DESCRIPTION:PinesFunerals invites you to join them for a night of solace\, fellowship\, and remembrance at their Luminary Remembrance Walkthrough events. They will honor and celebrate the lives of loved ones through a touching luminary display\, providing a much-needed sense of peace\, comfort\, and support. Light refreshments will be served\, and all attendees will receive an ornament customized with their loved one’s name (limited to one per family). All are welcome to attend. \nThe walkthrough will take place at three locations: \nKennedy Funeral Home (Robbins): Monday\, December 15th from 5:00pm-7:00pm \nFry & Prickett Funeral Home (Carthage): Tuesday\, December 16th from 5:00pm-7:00pm \nPowell Funeral Home (Aberdeen): Thursday\, December 18th from 5:00pm-7:00pm
URL:https://thepinestimes.com/event/luminary-remembrance-walkthrough/2025-12-16/
LOCATION:Kennedy Funeral Home\, 241 N Middleton St\, Robbins\, 27325\, United States
CATEGORIES:Aberdeen Events,Adults,Carthage Events,Ceremony,Christmas,Family,Holiday Events,Religious/Spiritual,Robbins Events,Senior,Social,Young Adults
ATTACH;FMTTYPE=image/jpeg:https://thepinestimes.com/wp-content/uploads/PinesFuneralsFeature.jpg
ORGANIZER;CN="PinesFunerals":MAILTO:info@PinesFunerals.com
END:VEVENT
BEGIN:VEVENT
DTSTART;TZID=America/New_York:20251215T170000
DTEND;TZID=America/New_York:20251215T190000
DTSTAMP:20260423T175729
CREATED:20251125T145442Z
LAST-MODIFIED:20251125T145824Z
UID:10075600-1765818000-1765825200@thepinestimes.com
SUMMARY:Luminary Remembrance Walkthrough
DESCRIPTION:PinesFunerals invites you to join them for a night of solace\, fellowship\, and remembrance at their Luminary Remembrance Walkthrough events. They will honor and celebrate the lives of loved ones through a touching luminary display\, providing a much-needed sense of peace\, comfort\, and support. Light refreshments will be served\, and all attendees will receive an ornament customized with their loved one’s name (limited to one per family). All are welcome to attend. \nThe walkthrough will take place at three locations: \nKennedy Funeral Home (Robbins): Monday\, December 15th from 5:00pm-7:00pm \nFry & Prickett Funeral Home (Carthage): Tuesday\, December 16th from 5:00pm-7:00pm \nPowell Funeral Home (Aberdeen): Thursday\, December 18th from 5:00pm-7:00pm
URL:https://thepinestimes.com/event/luminary-remembrance-walkthrough/2025-12-15/
LOCATION:Kennedy Funeral Home\, 241 N Middleton St\, Robbins\, 27325\, United States
CATEGORIES:Aberdeen Events,Adults,Carthage Events,Ceremony,Christmas,Family,Holiday Events,Religious/Spiritual,Robbins Events,Senior,Social,Young Adults
ATTACH;FMTTYPE=image/jpeg:https://thepinestimes.com/wp-content/uploads/PinesFuneralsFeature.jpg
ORGANIZER;CN="PinesFunerals":MAILTO:info@PinesFunerals.com
END:VEVENT
BEGIN:VEVENT
DTSTART;TZID=America/New_York:20251111T110000
DTEND;TZID=America/New_York:20251111T110000
DTSTAMP:20260423T175729
CREATED:20250911T225616Z
LAST-MODIFIED:20250911T225836Z
UID:10069177-1762858800-1762858800@thepinestimes.com
SUMMARY:Veterans Day Ceremony
DESCRIPTION:Join PinesFunerals at Pinelawn Memorial Park for a special Veterans Day Ceremony on Tuesday\, November 11th at 11:00am in Southern Pines. The service will honor the brave men and women who served our country with a program of remembrance\, gratitude\, and patriotic pride. Highlights include a memorial prayer\, keynote by Sgt. Major Burt Giedzinski (Ret.)\, presentation of colors by Pinecrest ROTC\, reading of veterans’ names\, Taps\, and a memorial gift presentation.
URL:https://thepinestimes.com/event/129936/
LOCATION:Pinelawn Memorial Park\, 1105 Morganton Rd\, Southern Pines\, NC\, 28387\, United States
CATEGORIES:Adults,Ceremony,Family,Historical,Senior,Social,Southern Pines Events,Veterans,Veterans Day
ORGANIZER;CN="PinesFunerals":MAILTO:info@PinesFunerals.com
END:VEVENT
BEGIN:VEVENT
DTSTART;TZID=America/New_York:20250826T120000
DTEND;TZID=America/New_York:20250826T120000
DTSTAMP:20260423T175729
CREATED:20250723T160213Z
LAST-MODIFIED:20250810T183335Z
UID:10064437-1756209600-1756209600@thepinestimes.com
SUMMARY:School Supply Drive
DESCRIPTION:Take part in the PinesFunerals School Supply Drive! Help students in need! Donate new school supplies like paper\, pencils\, notebooks and more. Drop off supplies Monday-Friday\, 8am-5pm\, August 1st-29th at any PinesFunerals location: \nFry & Prickett-Carthage\nKennedy-Robbins\nPowell-Aberdeen\nPinelawn Memorial Park-Southern Pines \n  \n 
URL:https://thepinestimes.com/event/school-supply-drive-3/2025-08-26/
CATEGORIES:Children,Donation,Moore County Events,School,Social,Volunteer
ATTACH;FMTTYPE=image/jpeg:https://thepinestimes.com/wp-content/uploads/SchoolSupplyDriveFeature-1.jpg
ORGANIZER;CN="PinesFunerals":MAILTO:info@PinesFunerals.com
END:VEVENT
BEGIN:VEVENT
DTSTART;TZID=America/New_York:20250819T120000
DTEND;TZID=America/New_York:20250819T120000
DTSTAMP:20260423T175729
CREATED:20250723T160213Z
LAST-MODIFIED:20250810T183335Z
UID:10064436-1755604800-1755604800@thepinestimes.com
SUMMARY:School Supply Drive
DESCRIPTION:Take part in the PinesFunerals School Supply Drive! Help students in need! Donate new school supplies like paper\, pencils\, notebooks and more. Drop off supplies Monday-Friday\, 8am-5pm\, August 1st-29th at any PinesFunerals location: \nFry & Prickett-Carthage\nKennedy-Robbins\nPowell-Aberdeen\nPinelawn Memorial Park-Southern Pines \n  \n 
URL:https://thepinestimes.com/event/school-supply-drive-3/2025-08-19/
CATEGORIES:Children,Donation,Moore County Events,School,Social,Volunteer
ATTACH;FMTTYPE=image/jpeg:https://thepinestimes.com/wp-content/uploads/SchoolSupplyDriveFeature-1.jpg
ORGANIZER;CN="PinesFunerals":MAILTO:info@PinesFunerals.com
END:VEVENT
BEGIN:VEVENT
DTSTART;TZID=America/New_York:20250812T120000
DTEND;TZID=America/New_York:20250812T120000
DTSTAMP:20260423T175729
CREATED:20250723T160213Z
LAST-MODIFIED:20250810T183335Z
UID:10064435-1755000000-1755000000@thepinestimes.com
SUMMARY:School Supply Drive
DESCRIPTION:Take part in the PinesFunerals School Supply Drive! Help students in need! Donate new school supplies like paper\, pencils\, notebooks and more. Drop off supplies Monday-Friday\, 8am-5pm\, August 1st-29th at any PinesFunerals location: \nFry & Prickett-Carthage\nKennedy-Robbins\nPowell-Aberdeen\nPinelawn Memorial Park-Southern Pines \n  \n 
URL:https://thepinestimes.com/event/school-supply-drive-3/2025-08-12/
CATEGORIES:Children,Donation,Moore County Events,School,Social,Volunteer
ATTACH;FMTTYPE=image/jpeg:https://thepinestimes.com/wp-content/uploads/SchoolSupplyDriveFeature-1.jpg
ORGANIZER;CN="PinesFunerals":MAILTO:info@PinesFunerals.com
END:VEVENT
BEGIN:VEVENT
DTSTART;TZID=America/New_York:20250805T120000
DTEND;TZID=America/New_York:20250805T120000
DTSTAMP:20260423T175729
CREATED:20250723T160213Z
LAST-MODIFIED:20250810T183335Z
UID:10064434-1754395200-1754395200@thepinestimes.com
SUMMARY:School Supply Drive
DESCRIPTION:Take part in the PinesFunerals School Supply Drive! Help students in need! Donate new school supplies like paper\, pencils\, notebooks and more. Drop off supplies Monday-Friday\, 8am-5pm\, August 1st-29th at any PinesFunerals location: \nFry & Prickett-Carthage\nKennedy-Robbins\nPowell-Aberdeen\nPinelawn Memorial Park-Southern Pines \n  \n 
URL:https://thepinestimes.com/event/school-supply-drive-3/2025-08-05/
CATEGORIES:Children,Donation,Moore County Events,School,Social,Volunteer
ATTACH;FMTTYPE=image/jpeg:https://thepinestimes.com/wp-content/uploads/SchoolSupplyDriveFeature-1.jpg
ORGANIZER;CN="PinesFunerals":MAILTO:info@PinesFunerals.com
END:VEVENT
BEGIN:VEVENT
DTSTART;TZID=America/New_York:20250506T180000
DTEND;TZID=America/New_York:20250506T200000
DTSTAMP:20260423T175729
CREATED:20250418T001943Z
LAST-MODIFIED:20250418T001943Z
UID:10056747-1746554400-1746561600@thepinestimes.com
SUMMARY:Canvases & Couples Painting Night
DESCRIPTION:Join Pines Funerals for Canvases & Couples-A Creative Night Out on Tuesday\, May 6th | 6pm-8pm at the Moore County Recreation Center in Carthage. Enjoy a free guided painting experience with your partner\, light hors d’oeuvres and a casual Preneed Q&A in a relaxed\, welcoming atmosphere. The class will be instructed by Artist Barbara Landton. Space is limited. For additional information and to rsvp\, follow the event website link provided below.
URL:https://thepinestimes.com/event/canvases-couples-painting-night/
LOCATION:Moore County Parks and Recreation Center\, 155 Hillcrest Park Lane\, Carthage\, NC\, 28327\, United States
CATEGORIES:Adults,Art/Craft Workshops,Art/Photography,Carthage Events,Crafts,Educational,Hobby/Enthusiast,Senior,Social
ATTACH;FMTTYPE=image/jpeg:https://thepinestimes.com/wp-content/uploads/PinesFuneralsFeature.jpg
ORGANIZER;CN="PinesFunerals":MAILTO:info@PinesFunerals.com
END:VEVENT
END:VCALENDAR