BEGIN:VCALENDAR
VERSION:2.0
PRODID:-//The Pines Times - ECPv6.15.20//NONSGML v1.0//EN
CALSCALE:GREGORIAN
METHOD:PUBLISH
X-WR-CALNAME:The Pines Times
X-ORIGINAL-URL:https://thepinestimes.com
X-WR-CALDESC:Events for The Pines Times
REFRESH-INTERVAL;VALUE=DURATION:PT1H
X-Robots-Tag:noindex
X-PUBLISHED-TTL:PT1H
BEGIN:VTIMEZONE
TZID:America/New_York
BEGIN:DAYLIGHT
TZOFFSETFROM:-0500
TZOFFSETTO:-0400
TZNAME:EDT
DTSTART:20250309T070000
END:DAYLIGHT
BEGIN:STANDARD
TZOFFSETFROM:-0400
TZOFFSETTO:-0500
TZNAME:EST
DTSTART:20251102T060000
END:STANDARD
BEGIN:DAYLIGHT
TZOFFSETFROM:-0500
TZOFFSETTO:-0400
TZNAME:EDT
DTSTART:20260308T070000
END:DAYLIGHT
BEGIN:STANDARD
TZOFFSETFROM:-0400
TZOFFSETTO:-0500
TZNAME:EST
DTSTART:20261101T060000
END:STANDARD
BEGIN:DAYLIGHT
TZOFFSETFROM:-0500
TZOFFSETTO:-0400
TZNAME:EDT
DTSTART:20270314T070000
END:DAYLIGHT
BEGIN:STANDARD
TZOFFSETFROM:-0400
TZOFFSETTO:-0500
TZNAME:EST
DTSTART:20271107T060000
END:STANDARD
END:VTIMEZONE
BEGIN:VEVENT
DTSTART;TZID=America/New_York:20260421T180000
DTEND;TZID=America/New_York:20260421T200000
DTSTAMP:20260421T202957
CREATED:20260326T171527Z
LAST-MODIFIED:20260326T171629Z
UID:10084318-1776794400-1776801600@thepinestimes.com
SUMMARY:"A Perfect Pair" Cigar & Bourbon Tasting
DESCRIPTION:The first one’s special! Poplar Place in downtown Aberdeen is hosting its first tasting event\, A Perfect Pair\, on Tuesday\, April 21st\, from 6PM-8PM. This intimate evening on the patio is hosted by Executive Bourbon Steward Brooke McClure and features a guided experience with three hand-selected whiskeys from Old Forester Distillery. \nReceive a signature whiskey cocktail upon arrival and enjoy a tasting flight paired with two premium cigars while learning about craftsmanship and flavor profiles. Tickets are $65 per person\, plus tax and an 18% gratuity\, and should be pre-purchased through the event website link provided below. Limited seating.
URL:https://thepinestimes.com/event/a-perfect-pair-cigar-bourbon-tasting/
LOCATION:Poplar Place\, Aber\, 28315\, United States
CATEGORIES:Aberdeen Events,Adult Connections,Adults,Beer and Wine,Hobby/Enthusiast,Social,Tasting
ATTACH;FMTTYPE=image/jpeg:https://thepinestimes.com/wp-content/uploads/TastingExperienceFeature-1-e1771886382497.jpg
ORGANIZER;CN="Poplar Place":MAILTO:poplarplacenc@gmail.com
END:VEVENT
BEGIN:VEVENT
DTSTART;TZID=America/New_York:20260415T160000
DTEND;TZID=America/New_York:20260415T200000
DTSTAMP:20260421T202957
CREATED:20260329T174028Z
LAST-MODIFIED:20260329T174117Z
UID:10085315-1776268800-1776283200@thepinestimes.com
SUMMARY:Happy Hour in Aberdeen
DESCRIPTION:Poplar Place is introducing a new weekly Happy Hour in Aberdeen every Wednesday\, starting April 1st\, from 4PM-8PM with drink specials running from open until close. Featured deals include $2.50 domestic beers\, $5 well drinks\, $5 Guinness cans\, $5 pickleback shots\, and $6 Long Island iced teas.
URL:https://thepinestimes.com/event/happy-hour-in-aberdeen/2026-04-15/
LOCATION:Poplar Place\, Aber\, 28315\, United States
CATEGORIES:Adult Connections,Adults,Beer and Wine,Social
ATTACH;FMTTYPE=image/jpeg:https://thepinestimes.com/wp-content/uploads/PoplarPlaceHappyHourFeature.jpg
ORGANIZER;CN="Poplar Place":MAILTO:poplarplacenc@gmail.com
END:VEVENT
BEGIN:VEVENT
DTSTART;TZID=America/New_York:20260408T160000
DTEND;TZID=America/New_York:20260408T200000
DTSTAMP:20260421T202957
CREATED:20260329T174028Z
LAST-MODIFIED:20260329T174117Z
UID:10085314-1775664000-1775678400@thepinestimes.com
SUMMARY:Happy Hour in Aberdeen
DESCRIPTION:Poplar Place is introducing a new weekly Happy Hour in Aberdeen every Wednesday\, starting April 1st\, from 4PM-8PM with drink specials running from open until close. Featured deals include $2.50 domestic beers\, $5 well drinks\, $5 Guinness cans\, $5 pickleback shots\, and $6 Long Island iced teas.
URL:https://thepinestimes.com/event/happy-hour-in-aberdeen/2026-04-08/
LOCATION:Poplar Place\, Aber\, 28315\, United States
CATEGORIES:Adult Connections,Adults,Beer and Wine,Social
ATTACH;FMTTYPE=image/jpeg:https://thepinestimes.com/wp-content/uploads/PoplarPlaceHappyHourFeature.jpg
ORGANIZER;CN="Poplar Place":MAILTO:poplarplacenc@gmail.com
END:VEVENT
BEGIN:VEVENT
DTSTART;TZID=America/New_York:20260401T160000
DTEND;TZID=America/New_York:20260401T200000
DTSTAMP:20260421T202957
CREATED:20260329T174028Z
LAST-MODIFIED:20260329T174117Z
UID:10085313-1775059200-1775073600@thepinestimes.com
SUMMARY:Happy Hour in Aberdeen
DESCRIPTION:Poplar Place is introducing a new weekly Happy Hour in Aberdeen every Wednesday\, starting April 1st\, from 4PM-8PM with drink specials running from open until close. Featured deals include $2.50 domestic beers\, $5 well drinks\, $5 Guinness cans\, $5 pickleback shots\, and $6 Long Island iced teas.
URL:https://thepinestimes.com/event/happy-hour-in-aberdeen/2026-04-01/
LOCATION:Poplar Place\, Aber\, 28315\, United States
CATEGORIES:Adult Connections,Adults,Beer and Wine,Social
ATTACH;FMTTYPE=image/jpeg:https://thepinestimes.com/wp-content/uploads/PoplarPlaceHappyHourFeature.jpg
ORGANIZER;CN="Poplar Place":MAILTO:poplarplacenc@gmail.com
END:VEVENT
BEGIN:VEVENT
DTSTART;TZID=America/New_York:20260207T160000
DTEND;TZID=America/New_York:20260207T230000
DTSTAMP:20260421T202957
CREATED:20260205T172137Z
LAST-MODIFIED:20260205T172137Z
UID:10080569-1770480000-1770505200@thepinestimes.com
SUMMARY:Pre-Opening Opening: Poplar Place
DESCRIPTION:Poplar Place is Downtown Aberdeen’s newest bar! Come check it out this weekend at the pre-opening Opening! \n“No big announcement. No countdown. Just the lights on\, the doors unlocked\, and a bar that’s been waiting to welcome you in. If you know\, you know.” Located at 108 N. Poplar Street. \nFriday 6pm-11pm\nSaturday 4pm-11pm
URL:https://thepinestimes.com/event/pre-opening-opening-poplar-place/2026-02-07/
LOCATION:Poplar Place\, Aber\, 28315\, United States
CATEGORIES:Aberdeen Events,Adult Connections,Adults,Beer and Wine,Grand Opening,Hobby/Enthusiast,Senior,Social,Young Adults
ATTACH;FMTTYPE=image/jpeg:https://thepinestimes.com/wp-content/uploads/PoplarPlaceAberdeenFeature.jpg
ORGANIZER;CN="Poplar Place":MAILTO:poplarplacenc@gmail.com
END:VEVENT
BEGIN:VEVENT
DTSTART;TZID=America/New_York:20260206T180000
DTEND;TZID=America/New_York:20260206T230000
DTSTAMP:20260421T202957
CREATED:20260205T172137Z
LAST-MODIFIED:20260205T172137Z
UID:10080568-1770400800-1770418800@thepinestimes.com
SUMMARY:Pre-Opening Opening: Poplar Place
DESCRIPTION:Poplar Place is Downtown Aberdeen’s newest bar! Come check it out this weekend at the pre-opening Opening! \n“No big announcement. No countdown. Just the lights on\, the doors unlocked\, and a bar that’s been waiting to welcome you in. If you know\, you know.” Located at 108 N. Poplar Street. \nFriday 6pm-11pm\nSaturday 4pm-11pm
URL:https://thepinestimes.com/event/pre-opening-opening-poplar-place/2026-02-06/
LOCATION:Poplar Place\, Aber\, 28315\, United States
CATEGORIES:Aberdeen Events,Adult Connections,Adults,Beer and Wine,Grand Opening,Hobby/Enthusiast,Senior,Social,Young Adults
ATTACH;FMTTYPE=image/jpeg:https://thepinestimes.com/wp-content/uploads/PoplarPlaceAberdeenFeature.jpg
ORGANIZER;CN="Poplar Place":MAILTO:poplarplacenc@gmail.com
END:VEVENT
END:VCALENDAR