BEGIN:VCALENDAR
VERSION:2.0
PRODID:-//The Pines Times - ECPv6.15.20//NONSGML v1.0//EN
CALSCALE:GREGORIAN
METHOD:PUBLISH
X-ORIGINAL-URL:https://thepinestimes.com
X-WR-CALDESC:Events for The Pines Times
REFRESH-INTERVAL;VALUE=DURATION:PT1H
X-Robots-Tag:noindex
X-PUBLISHED-TTL:PT1H
BEGIN:VTIMEZONE
TZID:America/New_York
BEGIN:DAYLIGHT
TZOFFSETFROM:-0500
TZOFFSETTO:-0400
TZNAME:EDT
DTSTART:20240310T070000
END:DAYLIGHT
BEGIN:STANDARD
TZOFFSETFROM:-0400
TZOFFSETTO:-0500
TZNAME:EST
DTSTART:20241103T060000
END:STANDARD
BEGIN:DAYLIGHT
TZOFFSETFROM:-0500
TZOFFSETTO:-0400
TZNAME:EDT
DTSTART:20250309T070000
END:DAYLIGHT
BEGIN:STANDARD
TZOFFSETFROM:-0400
TZOFFSETTO:-0500
TZNAME:EST
DTSTART:20251102T060000
END:STANDARD
BEGIN:DAYLIGHT
TZOFFSETFROM:-0500
TZOFFSETTO:-0400
TZNAME:EDT
DTSTART:20260308T070000
END:DAYLIGHT
BEGIN:STANDARD
TZOFFSETFROM:-0400
TZOFFSETTO:-0500
TZNAME:EST
DTSTART:20261101T060000
END:STANDARD
END:VTIMEZONE
BEGIN:VEVENT
DTSTART;TZID=America/New_York:20251030T100000
DTEND;TZID=America/New_York:20251030T110000
DTSTAMP:20260421T120628
CREATED:20251022T171514Z
LAST-MODIFIED:20251022T171514Z
UID:10073233-1761818400-1761822000@thepinestimes.com
SUMMARY:Prancing Horse: Lesson Volunteer Training
DESCRIPTION:Have an interest in working with those with special needs? Love horses but don’t have your own? Please join Prancing Horse Center for Therapeutic Horsemanship in Hoffman on Thursday\, October 30th at 10am for a training to become a side walker in our lesson program. This role entails assisting participants beside the horse with verbal or physical cues\, walking in the sand for lengths of time\, and other tasks as needed. Come experience the rewards of changing lives through the healing powers of horses! RSVP with volunteer@prancing-horse.org.
URL:https://thepinestimes.com/event/prancing-horse-lesson-volunteer-training/
LOCATION:Prancing Horse Farm\, 6100 Hoffman Rd\, Hoffman\, NC\, 28347\, United States
CATEGORIES:Adults,Art/Craft Workshops,Educational,Equestrian,Health & Wellness,Hobby/Enthusiast,Senior,Social,Volunteer,Young Adults
ATTACH;FMTTYPE=image/jpeg:https://thepinestimes.com/wp-content/uploads/PrancingHorseFeature.jpg
ORGANIZER;CN="Prancing Horse Center for Therapeutic Horsemanship":MAILTO:info@prancing-horse.org
END:VEVENT
BEGIN:VEVENT
DTSTART;TZID=America/New_York:20251019T110000
DTEND;TZID=America/New_York:20251019T160000
DTSTAMP:20260421T120628
CREATED:20230913T014359Z
LAST-MODIFIED:20250918T143556Z
UID:10020709-1760871600-1760889600@thepinestimes.com
SUMMARY:34th Annual Prancing Horse Farm Tour
DESCRIPTION:It’s time for the “mane event” of the season! Be a part of the 34th annual Prancing Horse Farm Tour on Sunday\, October 19th | 11am-4pm\, to benefit Prancing Horse Center for Therapeutic Horsemanship. The Horse Farm Tour is a special Sandhills tradition! Enjoy a self-guided tour of five local horse farms. You will receive an exclusive\, behind-the-scenes look at some of the area’s most prestigious equestrian properties. Come enjoy a day in beautiful horse country\, rain or shine. Advance tickets are $25. Tickets will be $30 when purchased the day of the tour. Children 12 and under can tour for free. For full details and ticket purchases\, follow the link provided below.
URL:https://thepinestimes.com/event/34th-annual-prancing-horse-farm-tour/
CATEGORIES:Adults,Children,Demonstrations,Equestrian,Fall,Fall in the Sandhills,Family,Hobby/Enthusiast,Moore County Events,Nature/Outdoors,Pets/Animals,Pines Connector,Piney's Kids,Piney's Tiny's,Senior,Social,Teen Activities,Tours,Tours,Trolley,Young Adults
ATTACH;FMTTYPE=image/jpeg:https://thepinestimes.com/wp-content/uploads/PrancingHorseFeature.jpg
ORGANIZER;CN="Prancing Horse Center for Therapeutic Horsemanship":MAILTO:info@prancing-horse.org
END:VEVENT
BEGIN:VEVENT
DTSTART;TZID=America/New_York:20250821T160000
DTEND;TZID=America/New_York:20250821T180000
DTSTAMP:20260421T120628
CREATED:20240723T175237Z
LAST-MODIFIED:20250627T173951Z
UID:10041785-1755792000-1755799200@thepinestimes.com
SUMMARY:Prancing Horse: Annual Open House
DESCRIPTION:The Prancing Horse Center for Therapeutic Horsemanship is holding a special Open House event on Thursday\, August 21st | 4pm-6pm! Bring friends\, family\, potential volunteers\, potential participants\, donors or anyone else who may have an interest in seeing the farm. Meet the staff\, herd and other partners and learn more information about the upcoming fall session\, volunteer opportunities and other ways to get involved. If you would like to attend\, please rsvp via programs@prancing-horse.org.
URL:https://thepinestimes.com/event/prancing-horse-annual-open-house/
LOCATION:Prancing Horse Farm\, 6100 Hoffman Rd\, Hoffman\, NC\, 28347\, United States
CATEGORIES:Adults,Anniversary Celebration,Auction,Equestrian,Health & Wellness,Hobby/Enthusiast,HOMEPAGE Featured,Moore County Events,Open House,Pets/Animals,Senior,Social,Volunteer
ATTACH;FMTTYPE=image/jpeg:https://thepinestimes.com/wp-content/uploads/PrancingHorseFeature.jpg
ORGANIZER;CN="Prancing Horse Center for Therapeutic Horsemanship":MAILTO:info@prancing-horse.org
END:VEVENT
BEGIN:VEVENT
DTSTART;TZID=America/New_York:20250503T080000
DTEND;TZID=America/New_York:20250503T080000
DTSTAMP:20260421T120628
CREATED:20250402T141855Z
LAST-MODIFIED:20250402T141855Z
UID:10055904-1746259200-1746259200@thepinestimes.com
SUMMARY:Prancing Horse Spring Horse Show
DESCRIPTION:Save the date! The Prancing Horse’s Spring Horse Show will take place on Saturday\, May 3rd at The Lewis Arena. Join to recognize and celebrate the accomplishments of the students. More details to come! \n 
URL:https://thepinestimes.com/event/prancing-horse-spring-horse-show/
LOCATION:Prancing Horse Farm\, 6100 Hoffman Rd\, Hoffman\, NC\, 28347\, United States
CATEGORIES:Adults,Children,Equestrian,Family,Health & Wellness,Hobby/Enthusiast,Live Entertainment,Nature/Outdoors,Pets/Animals,Senior,Social,Southern Pines Events,Sports
ORGANIZER;CN="Prancing Horse Center for Therapeutic Horsemanship":MAILTO:info@prancing-horse.org
END:VEVENT
BEGIN:VEVENT
DTSTART;TZID=America/New_York:20250313T180000
DTEND;TZID=America/New_York:20250313T220000
DTSTAMP:20260421T120628
CREATED:20230202T203110Z
LAST-MODIFIED:20250305T203612Z
UID:10009072-1741888800-1741903200@thepinestimes.com
SUMMARY:Prancing Horse: Spring Barn Dance Fundraiser "DENIM & diamonds"
DESCRIPTION:Join for the Prancing Horse annual Spring Barn Dance\, “DENIM & diamonds!” Kick up your heels for prancing horse! Enjoy an evening with dancing\, tasting menu\, beers & select wines\, a live & silent auction and much fun in support of a great cause. A live DJ will be providing the evening’s entertainment. The event benefits Prancing Horse Center for Therapeutic Horsemanship. This is the organization’s largest fundraiser of the year. Dance the night away and support their mission of enhancing the lives of individuals by providing a safe environment for therapeutic horsemanship. This year’s fundraiser takes place on Thursday\, March 13th | 6pm-10pm at The Fair Barn in Pinehurst. Individual tickets can be purchased for $85. Sponsorships are available. For additional information and online ticket purchases\, call 910-281-3223 or CLICK HERE.
URL:https://thepinestimes.com/event/prancing-horse-spring-barn-dance-fundraiser-denim-diamonds/
LOCATION:The Fair Barn\, 200 Beulah Hill Rd.\, Pinehurst\, NC North Carolina\, 28374
CATEGORIES:Adults,Auction,Dance,Food,Fundraiser,Hobby/Enthusiast,HOMEPAGE Featured,Live Entertainment,Live Music,Pinehurst Events,Senior,Social
ORGANIZER;CN="Prancing Horse Center for Therapeutic Horsemanship":MAILTO:info@prancing-horse.org
END:VEVENT
END:VCALENDAR