BEGIN:VCALENDAR
VERSION:2.0
PRODID:-//The Pines Times - ECPv6.15.20//NONSGML v1.0//EN
CALSCALE:GREGORIAN
METHOD:PUBLISH
X-ORIGINAL-URL:https://thepinestimes.com
X-WR-CALDESC:Events for The Pines Times
REFRESH-INTERVAL;VALUE=DURATION:PT1H
X-Robots-Tag:noindex
X-PUBLISHED-TTL:PT1H
BEGIN:VTIMEZONE
TZID:America/New_York
BEGIN:DAYLIGHT
TZOFFSETFROM:-0500
TZOFFSETTO:-0400
TZNAME:EDT
DTSTART:20240310T070000
END:DAYLIGHT
BEGIN:STANDARD
TZOFFSETFROM:-0400
TZOFFSETTO:-0500
TZNAME:EST
DTSTART:20241103T060000
END:STANDARD
BEGIN:DAYLIGHT
TZOFFSETFROM:-0500
TZOFFSETTO:-0400
TZNAME:EDT
DTSTART:20250309T070000
END:DAYLIGHT
BEGIN:STANDARD
TZOFFSETFROM:-0400
TZOFFSETTO:-0500
TZNAME:EST
DTSTART:20251102T060000
END:STANDARD
BEGIN:DAYLIGHT
TZOFFSETFROM:-0500
TZOFFSETTO:-0400
TZNAME:EDT
DTSTART:20260308T070000
END:DAYLIGHT
BEGIN:STANDARD
TZOFFSETFROM:-0400
TZOFFSETTO:-0500
TZNAME:EST
DTSTART:20261101T060000
END:STANDARD
BEGIN:DAYLIGHT
TZOFFSETFROM:-0500
TZOFFSETTO:-0400
TZNAME:EDT
DTSTART:20270314T070000
END:DAYLIGHT
BEGIN:STANDARD
TZOFFSETFROM:-0400
TZOFFSETTO:-0500
TZNAME:EST
DTSTART:20271107T060000
END:STANDARD
END:VTIMEZONE
BEGIN:VEVENT
DTSTART;TZID=America/New_York:20260221T180000
DTEND;TZID=America/New_York:20260221T200000
DTSTAMP:20260420T112900
CREATED:20260116T171607Z
LAST-MODIFIED:20260116T171607Z
UID:10079440-1771696800-1771704000@thepinestimes.com
SUMMARY:Spay-Ghetti Dinner Fundraiser 2026
DESCRIPTION:Join Richmond County Operation Fix for the annual Spay-Ghetti Dinner Fundraiser on Saturday\, February 21st at the American Legion Post 49 in Hamlet. The dine-in event runs from 6:00pm-8:00pm and includes a full meal of pasta\, salad\, bread\, dessert\, and a drink for $20 per person. Tickets go on sale February 2nd starting at Broad St Pawn and the Hamlet American Legion\, or you can elevate your experience by reserving a VIP table for $400\, which includes eight tickets\, a personal host\, wine\, appetizers\, and early admission at 5:30 PM. Beyond the delicious food\, the evening will feature raffles and prizes\, with all proceeds supporting Richmond County Operation Fix. \n \n  \n 
URL:https://thepinestimes.com/event/spay-ghetti-dinner-fundraiser-2026/
LOCATION:American Legion Hamlet Post 49\, 402 Veterans Dr.\, Hamlet\, 28345\, United States
CATEGORIES:Adults,Donation,Family,Food,Fundraiser,Hamlet,Hobby/Enthusiast,Out of Town,Pets/Animals,Raffle,Senior,Social,Young Adults
ATTACH;FMTTYPE=image/jpeg:https://thepinestimes.com/wp-content/uploads/SpayGhettiDinnerFeature.jpg
END:VEVENT
BEGIN:VEVENT
DTSTART;TZID=America/New_York:20250628T100000
DTEND;TZID=America/New_York:20250628T130000
DTSTAMP:20260420T112900
CREATED:20250623T164214Z
LAST-MODIFIED:20250623T164214Z
UID:10061883-1751104800-1751115600@thepinestimes.com
SUMMARY:Indoor Yard Sale Fundraiser and Kitten Adoption Event
DESCRIPTION:Join Richmond County Operation Fix Saturday\, June 28th | 10am-1pm at The Hive Recreation Center for a special indoor yard sale fundraiser and possibly meet your new best friend while you’re at it! Sixteen adorable kittens will be available for adoption\, each with a $50 fee that includes a spay/neuter voucher through Richmond County Operation Fix (redeemable at 6 months old). All kittens will have their first round of shots and be dewormed. Follow the event website link provided below for photographs of the kittens and additional information.
URL:https://thepinestimes.com/event/indoor-yard-sale-fundraiser-and-kitten-adoption-event/
LOCATION:The Hive Recreation Center\, 1210 Rockingham Rd\, Ste E.\, Rockingham\, 28379\, United States
CATEGORIES:Adults,Animal Event,Family,Fundraiser,Hobby/Enthusiast,Out of Town,Pets/Animals,Rockingham,Senior,Shopping,Volunteer,Yard Sale
ATTACH;FMTTYPE=image/jpeg:https://thepinestimes.com/wp-content/uploads/RichmondCountyOperationFixFeature.jpg
END:VEVENT
END:VCALENDAR