BEGIN:VCALENDAR
VERSION:2.0
PRODID:-//The Pines Times - ECPv6.15.20//NONSGML v1.0//EN
CALSCALE:GREGORIAN
METHOD:PUBLISH
X-WR-CALNAME:The Pines Times
X-ORIGINAL-URL:https://thepinestimes.com
X-WR-CALDESC:Events for The Pines Times
REFRESH-INTERVAL;VALUE=DURATION:PT1H
X-Robots-Tag:noindex
X-PUBLISHED-TTL:PT1H
BEGIN:VTIMEZONE
TZID:America/New_York
BEGIN:DAYLIGHT
TZOFFSETFROM:-0500
TZOFFSETTO:-0400
TZNAME:EDT
DTSTART:20240310T070000
END:DAYLIGHT
BEGIN:STANDARD
TZOFFSETFROM:-0400
TZOFFSETTO:-0500
TZNAME:EST
DTSTART:20241103T060000
END:STANDARD
BEGIN:DAYLIGHT
TZOFFSETFROM:-0500
TZOFFSETTO:-0400
TZNAME:EDT
DTSTART:20250309T070000
END:DAYLIGHT
BEGIN:STANDARD
TZOFFSETFROM:-0400
TZOFFSETTO:-0500
TZNAME:EST
DTSTART:20251102T060000
END:STANDARD
BEGIN:DAYLIGHT
TZOFFSETFROM:-0500
TZOFFSETTO:-0400
TZNAME:EDT
DTSTART:20260308T070000
END:DAYLIGHT
BEGIN:STANDARD
TZOFFSETFROM:-0400
TZOFFSETTO:-0500
TZNAME:EST
DTSTART:20261101T060000
END:STANDARD
END:VTIMEZONE
BEGIN:VEVENT
DTSTART;TZID=America/New_York:20250517T063000
DTEND;TZID=America/New_York:20250517T110000
DTSTAMP:20260425T144605
CREATED:20250512T200021Z
LAST-MODIFIED:20250512T200021Z
UID:10058334-1747463400-1747479600@thepinestimes.com
SUMMARY:Pancake Breakfast and Yard Sale
DESCRIPTION:Robbins First Wesleyan Church will host a Pancake Breakfast and Yard Sale on Saturday\, May 17th. Breakfast begins at 6:30am. Come out for a morning of good food and great finds!
URL:https://thepinestimes.com/event/pancake-breakfast-and-yard-sale/
LOCATION:Robbins First Wesleyan Church\, 240 E Moore St.\, Robbins\, 27325\, United States
CATEGORIES:Adults,Donation,Family,Food,Fundraiser,Robbins Events,Senior,Shopping,Social,Yard Sale
ATTACH;FMTTYPE=image/jpeg:https://thepinestimes.com/wp-content/uploads/PancakeBreakfastFeature.jpg
END:VEVENT
END:VCALENDAR