BEGIN:VCALENDAR
VERSION:2.0
PRODID:-//The Pines Times - ECPv6.15.20//NONSGML v1.0//EN
CALSCALE:GREGORIAN
METHOD:PUBLISH
X-WR-CALNAME:The Pines Times
X-ORIGINAL-URL:https://thepinestimes.com
X-WR-CALDESC:Events for The Pines Times
REFRESH-INTERVAL;VALUE=DURATION:PT1H
X-Robots-Tag:noindex
X-PUBLISHED-TTL:PT1H
BEGIN:VTIMEZONE
TZID:America/New_York
BEGIN:DAYLIGHT
TZOFFSETFROM:-0500
TZOFFSETTO:-0400
TZNAME:EDT
DTSTART:20250309T070000
END:DAYLIGHT
BEGIN:STANDARD
TZOFFSETFROM:-0400
TZOFFSETTO:-0500
TZNAME:EST
DTSTART:20251102T060000
END:STANDARD
BEGIN:DAYLIGHT
TZOFFSETFROM:-0500
TZOFFSETTO:-0400
TZNAME:EDT
DTSTART:20260308T070000
END:DAYLIGHT
BEGIN:STANDARD
TZOFFSETFROM:-0400
TZOFFSETTO:-0500
TZNAME:EST
DTSTART:20261101T060000
END:STANDARD
BEGIN:DAYLIGHT
TZOFFSETFROM:-0500
TZOFFSETTO:-0400
TZNAME:EDT
DTSTART:20270314T070000
END:DAYLIGHT
BEGIN:STANDARD
TZOFFSETFROM:-0400
TZOFFSETTO:-0500
TZNAME:EST
DTSTART:20271107T060000
END:STANDARD
END:VTIMEZONE
BEGIN:VEVENT
DTSTART;TZID=America/New_York:20260417T200000
DTEND;TZID=America/New_York:20260417T230000
DTSTAMP:20260420T163009
CREATED:20260331T134926Z
LAST-MODIFIED:20260331T134926Z
UID:10085824-1776456000-1776466800@thepinestimes.com
SUMMARY:Friday Night Karaoke
DESCRIPTION:Join Rudino’s Pizza & Grinders in Southern Pines for Friday Night Karaoke\, hosted by BowTie Entertainment! The fun starts at 8PM! There will be drink specials going on as well. Grab the mic\, grab a drink\, and let’s make it loud. Who’s singing first?
URL:https://thepinestimes.com/event/friday-night-karaoke-2/2026-04-17/
LOCATION:Rudino’s Pizza & Grinders-Southern Pines\, 135 Pinehurst Ave\, Southern Pines\, NC\, 28387\, United States
CATEGORIES:Adult Connections,Adults,Beer and Wine,Hobby/Enthusiast,Music,Night Life,Social,Southern Pines Events
ATTACH;FMTTYPE=image/png:https://thepinestimes.com/wp-content/uploads/Karaoke-e1754409547503.png
END:VEVENT
BEGIN:VEVENT
DTSTART;TZID=America/New_York:20260416T190000
DTEND;TZID=America/New_York:20260416T210000
DTSTAMP:20260420T163009
CREATED:20240605T001703Z
LAST-MODIFIED:20260327T211054Z
UID:10085109-1776366000-1776373200@thepinestimes.com
SUMMARY:Trivia Thursday
DESCRIPTION:Join the fun at Rudino’s Pizza & Grinders with Trivia each Thursday | 6:45pm-9pm! Enjoy Pasta Night and there will be drink specials as well. You may call ahead for reservations at 910-246-2446.
URL:https://thepinestimes.com/event/trivia-thursday-2-2/2026-04-16/
LOCATION:Rudino’s Pizza & Grinders-Southern Pines\, 135 Pinehurst Ave\, Southern Pines\, NC\, 28387\, United States
CATEGORIES:Adults,Beer and Wine,Family,Food,Games,Hobby/Enthusiast,Social,Southern Pines Events
ATTACH;FMTTYPE=image/png:https://thepinestimes.com/wp-content/uploads/Trivia-Night-e1754408009763.png
END:VEVENT
BEGIN:VEVENT
DTSTART;TZID=America/New_York:20260410T200000
DTEND;TZID=America/New_York:20260410T230000
DTSTAMP:20260420T163009
CREATED:20260331T134926Z
LAST-MODIFIED:20260331T134926Z
UID:10085823-1775851200-1775862000@thepinestimes.com
SUMMARY:Friday Night Karaoke
DESCRIPTION:Join Rudino’s Pizza & Grinders in Southern Pines for Friday Night Karaoke\, hosted by BowTie Entertainment! The fun starts at 8PM! There will be drink specials going on as well. Grab the mic\, grab a drink\, and let’s make it loud. Who’s singing first?
URL:https://thepinestimes.com/event/friday-night-karaoke-2/2026-04-10/
LOCATION:Rudino’s Pizza & Grinders-Southern Pines\, 135 Pinehurst Ave\, Southern Pines\, NC\, 28387\, United States
CATEGORIES:Adult Connections,Adults,Beer and Wine,Hobby/Enthusiast,Music,Night Life,Social,Southern Pines Events
ATTACH;FMTTYPE=image/png:https://thepinestimes.com/wp-content/uploads/Karaoke-e1754409547503.png
END:VEVENT
BEGIN:VEVENT
DTSTART;TZID=America/New_York:20260409T190000
DTEND;TZID=America/New_York:20260409T210000
DTSTAMP:20260420T163009
CREATED:20240605T001703Z
LAST-MODIFIED:20260327T211054Z
UID:10085108-1775761200-1775768400@thepinestimes.com
SUMMARY:Trivia Thursday
DESCRIPTION:Join the fun at Rudino’s Pizza & Grinders with Trivia each Thursday | 6:45pm-9pm! Enjoy Pasta Night and there will be drink specials as well. You may call ahead for reservations at 910-246-2446.
URL:https://thepinestimes.com/event/trivia-thursday-2-2/2026-04-09/
LOCATION:Rudino’s Pizza & Grinders-Southern Pines\, 135 Pinehurst Ave\, Southern Pines\, NC\, 28387\, United States
CATEGORIES:Adults,Beer and Wine,Family,Food,Games,Hobby/Enthusiast,Social,Southern Pines Events
ATTACH;FMTTYPE=image/png:https://thepinestimes.com/wp-content/uploads/Trivia-Night-e1754408009763.png
END:VEVENT
BEGIN:VEVENT
DTSTART;TZID=America/New_York:20260403T200000
DTEND;TZID=America/New_York:20260403T230000
DTSTAMP:20260420T163009
CREATED:20260331T134926Z
LAST-MODIFIED:20260331T134926Z
UID:10085822-1775246400-1775257200@thepinestimes.com
SUMMARY:Friday Night Karaoke
DESCRIPTION:Join Rudino’s Pizza & Grinders in Southern Pines for Friday Night Karaoke\, hosted by BowTie Entertainment! The fun starts at 8PM! There will be drink specials going on as well. Grab the mic\, grab a drink\, and let’s make it loud. Who’s singing first?
URL:https://thepinestimes.com/event/friday-night-karaoke-2/2026-04-03/
LOCATION:Rudino’s Pizza & Grinders-Southern Pines\, 135 Pinehurst Ave\, Southern Pines\, NC\, 28387\, United States
CATEGORIES:Adult Connections,Adults,Beer and Wine,Hobby/Enthusiast,Music,Night Life,Social,Southern Pines Events
ATTACH;FMTTYPE=image/png:https://thepinestimes.com/wp-content/uploads/Karaoke-e1754409547503.png
END:VEVENT
BEGIN:VEVENT
DTSTART;TZID=America/New_York:20260402T190000
DTEND;TZID=America/New_York:20260402T210000
DTSTAMP:20260420T163009
CREATED:20240605T001703Z
LAST-MODIFIED:20260327T211054Z
UID:10085107-1775156400-1775163600@thepinestimes.com
SUMMARY:Trivia Thursday
DESCRIPTION:Join the fun at Rudino’s Pizza & Grinders with Trivia each Thursday | 6:45pm-9pm! Enjoy Pasta Night and there will be drink specials as well. You may call ahead for reservations at 910-246-2446.
URL:https://thepinestimes.com/event/trivia-thursday-2-2/2026-04-02/
LOCATION:Rudino’s Pizza & Grinders-Southern Pines\, 135 Pinehurst Ave\, Southern Pines\, NC\, 28387\, United States
CATEGORIES:Adults,Beer and Wine,Family,Food,Games,Hobby/Enthusiast,Social,Southern Pines Events
ATTACH;FMTTYPE=image/png:https://thepinestimes.com/wp-content/uploads/Trivia-Night-e1754408009763.png
END:VEVENT
BEGIN:VEVENT
DTSTART;TZID=America/New_York:20260326T190000
DTEND;TZID=America/New_York:20260326T210000
DTSTAMP:20260420T163009
CREATED:20240605T001703Z
LAST-MODIFIED:20260327T211054Z
UID:10085106-1774551600-1774558800@thepinestimes.com
SUMMARY:Trivia Thursday
DESCRIPTION:Join the fun at Rudino’s Pizza & Grinders with Trivia each Thursday | 6:45pm-9pm! Enjoy Pasta Night and there will be drink specials as well. You may call ahead for reservations at 910-246-2446.
URL:https://thepinestimes.com/event/trivia-thursday-2-2/2026-03-26/
LOCATION:Rudino’s Pizza & Grinders-Southern Pines\, 135 Pinehurst Ave\, Southern Pines\, NC\, 28387\, United States
CATEGORIES:Adults,Beer and Wine,Family,Food,Games,Hobby/Enthusiast,Social,Southern Pines Events
ATTACH;FMTTYPE=image/png:https://thepinestimes.com/wp-content/uploads/Trivia-Night-e1754408009763.png
END:VEVENT
BEGIN:VEVENT
DTSTART;TZID=America/New_York:20260325T190000
DTEND;TZID=America/New_York:20260325T210000
DTSTAMP:20260420T163009
CREATED:20251222T195039Z
LAST-MODIFIED:20251222T195134Z
UID:10077681-1774465200-1774472400@thepinestimes.com
SUMMARY:Music Bingo
DESCRIPTION:Join the fun at Rudino’s Pizza & Grinders with Music Bingo each Wednesday | 7:00pm-9pm! There will be drink specials as well. Please call ahead for reservations at 910-246-2446.
URL:https://thepinestimes.com/event/music-bingo-wednesday-2-2-2/2026-03-25/
LOCATION:Rudino’s Pizza & Grinders-Southern Pines\, 135 Pinehurst Ave\, Southern Pines\, NC\, 28387\, United States
CATEGORIES:Adult Connections,Adults,Beer and Wine,Games,Hobby/Enthusiast,Night Life,Pines Connector,Senior,Social,Southern Pines Events
ATTACH;FMTTYPE=image/png:https://thepinestimes.com/wp-content/uploads/Music-Bingo.png
END:VEVENT
BEGIN:VEVENT
DTSTART;TZID=America/New_York:20260319T190000
DTEND;TZID=America/New_York:20260319T210000
DTSTAMP:20260420T163009
CREATED:20240605T001703Z
LAST-MODIFIED:20260327T211054Z
UID:10085105-1773946800-1773954000@thepinestimes.com
SUMMARY:Trivia Thursday
DESCRIPTION:Join the fun at Rudino’s Pizza & Grinders with Trivia each Thursday | 6:45pm-9pm! Enjoy Pasta Night and there will be drink specials as well. You may call ahead for reservations at 910-246-2446.
URL:https://thepinestimes.com/event/trivia-thursday-2-2/2026-03-19/
LOCATION:Rudino’s Pizza & Grinders-Southern Pines\, 135 Pinehurst Ave\, Southern Pines\, NC\, 28387\, United States
CATEGORIES:Adults,Beer and Wine,Family,Food,Games,Hobby/Enthusiast,Social,Southern Pines Events
ATTACH;FMTTYPE=image/png:https://thepinestimes.com/wp-content/uploads/Trivia-Night-e1754408009763.png
END:VEVENT
BEGIN:VEVENT
DTSTART;TZID=America/New_York:20260318T190000
DTEND;TZID=America/New_York:20260318T210000
DTSTAMP:20260420T163009
CREATED:20251222T195039Z
LAST-MODIFIED:20251222T195134Z
UID:10077680-1773860400-1773867600@thepinestimes.com
SUMMARY:Music Bingo
DESCRIPTION:Join the fun at Rudino’s Pizza & Grinders with Music Bingo each Wednesday | 7:00pm-9pm! There will be drink specials as well. Please call ahead for reservations at 910-246-2446.
URL:https://thepinestimes.com/event/music-bingo-wednesday-2-2-2/2026-03-18/
LOCATION:Rudino’s Pizza & Grinders-Southern Pines\, 135 Pinehurst Ave\, Southern Pines\, NC\, 28387\, United States
CATEGORIES:Adult Connections,Adults,Beer and Wine,Games,Hobby/Enthusiast,Night Life,Pines Connector,Senior,Social,Southern Pines Events
ATTACH;FMTTYPE=image/png:https://thepinestimes.com/wp-content/uploads/Music-Bingo.png
END:VEVENT
BEGIN:VEVENT
DTSTART;TZID=America/New_York:20260312T190000
DTEND;TZID=America/New_York:20260312T210000
DTSTAMP:20260420T163009
CREATED:20240605T001703Z
LAST-MODIFIED:20260327T211054Z
UID:10085104-1773342000-1773349200@thepinestimes.com
SUMMARY:Trivia Thursday
DESCRIPTION:Join the fun at Rudino’s Pizza & Grinders with Trivia each Thursday | 6:45pm-9pm! Enjoy Pasta Night and there will be drink specials as well. You may call ahead for reservations at 910-246-2446.
URL:https://thepinestimes.com/event/trivia-thursday-2-2/2026-03-12/
LOCATION:Rudino’s Pizza & Grinders-Southern Pines\, 135 Pinehurst Ave\, Southern Pines\, NC\, 28387\, United States
CATEGORIES:Adults,Beer and Wine,Family,Food,Games,Hobby/Enthusiast,Social,Southern Pines Events
ATTACH;FMTTYPE=image/png:https://thepinestimes.com/wp-content/uploads/Trivia-Night-e1754408009763.png
END:VEVENT
BEGIN:VEVENT
DTSTART;TZID=America/New_York:20260311T190000
DTEND;TZID=America/New_York:20260311T210000
DTSTAMP:20260420T163009
CREATED:20251222T195039Z
LAST-MODIFIED:20251222T195134Z
UID:10077679-1773255600-1773262800@thepinestimes.com
SUMMARY:Music Bingo
DESCRIPTION:Join the fun at Rudino’s Pizza & Grinders with Music Bingo each Wednesday | 7:00pm-9pm! There will be drink specials as well. Please call ahead for reservations at 910-246-2446.
URL:https://thepinestimes.com/event/music-bingo-wednesday-2-2-2/2026-03-11/
LOCATION:Rudino’s Pizza & Grinders-Southern Pines\, 135 Pinehurst Ave\, Southern Pines\, NC\, 28387\, United States
CATEGORIES:Adult Connections,Adults,Beer and Wine,Games,Hobby/Enthusiast,Night Life,Pines Connector,Senior,Social,Southern Pines Events
ATTACH;FMTTYPE=image/png:https://thepinestimes.com/wp-content/uploads/Music-Bingo.png
END:VEVENT
BEGIN:VEVENT
DTSTART;TZID=America/New_York:20260305T190000
DTEND;TZID=America/New_York:20260305T210000
DTSTAMP:20260420T163009
CREATED:20240605T001703Z
LAST-MODIFIED:20260327T211054Z
UID:10085103-1772737200-1772744400@thepinestimes.com
SUMMARY:Trivia Thursday
DESCRIPTION:Join the fun at Rudino’s Pizza & Grinders with Trivia each Thursday | 6:45pm-9pm! Enjoy Pasta Night and there will be drink specials as well. You may call ahead for reservations at 910-246-2446.
URL:https://thepinestimes.com/event/trivia-thursday-2-2/2026-03-05/
LOCATION:Rudino’s Pizza & Grinders-Southern Pines\, 135 Pinehurst Ave\, Southern Pines\, NC\, 28387\, United States
CATEGORIES:Adults,Beer and Wine,Family,Food,Games,Hobby/Enthusiast,Social,Southern Pines Events
ATTACH;FMTTYPE=image/png:https://thepinestimes.com/wp-content/uploads/Trivia-Night-e1754408009763.png
END:VEVENT
BEGIN:VEVENT
DTSTART;TZID=America/New_York:20260304T190000
DTEND;TZID=America/New_York:20260304T210000
DTSTAMP:20260420T163009
CREATED:20251222T195039Z
LAST-MODIFIED:20251222T195134Z
UID:10077678-1772650800-1772658000@thepinestimes.com
SUMMARY:Music Bingo
DESCRIPTION:Join the fun at Rudino’s Pizza & Grinders with Music Bingo each Wednesday | 7:00pm-9pm! There will be drink specials as well. Please call ahead for reservations at 910-246-2446.
URL:https://thepinestimes.com/event/music-bingo-wednesday-2-2-2/2026-03-04/
LOCATION:Rudino’s Pizza & Grinders-Southern Pines\, 135 Pinehurst Ave\, Southern Pines\, NC\, 28387\, United States
CATEGORIES:Adult Connections,Adults,Beer and Wine,Games,Hobby/Enthusiast,Night Life,Pines Connector,Senior,Social,Southern Pines Events
ATTACH;FMTTYPE=image/png:https://thepinestimes.com/wp-content/uploads/Music-Bingo.png
END:VEVENT
BEGIN:VEVENT
DTSTART;TZID=America/New_York:20260226T190000
DTEND;TZID=America/New_York:20260226T210000
DTSTAMP:20260420T163009
CREATED:20240605T001703Z
LAST-MODIFIED:20260327T211054Z
UID:10077696-1772132400-1772139600@thepinestimes.com
SUMMARY:Trivia Thursday
DESCRIPTION:Join the fun at Rudino’s Pizza & Grinders with Trivia each Thursday | 6:45pm-9pm! Enjoy Pasta Night and there will be drink specials as well. You may call ahead for reservations at 910-246-2446.
URL:https://thepinestimes.com/event/trivia-thursday-2-2/2026-02-26/
LOCATION:Rudino’s Pizza & Grinders-Southern Pines\, 135 Pinehurst Ave\, Southern Pines\, NC\, 28387\, United States
CATEGORIES:Adults,Beer and Wine,Family,Food,Games,Hobby/Enthusiast,Social,Southern Pines Events
ATTACH;FMTTYPE=image/png:https://thepinestimes.com/wp-content/uploads/Trivia-Night-e1754408009763.png
END:VEVENT
BEGIN:VEVENT
DTSTART;TZID=America/New_York:20260225T190000
DTEND;TZID=America/New_York:20260225T210000
DTSTAMP:20260420T163009
CREATED:20251222T195039Z
LAST-MODIFIED:20251222T195134Z
UID:10077677-1772046000-1772053200@thepinestimes.com
SUMMARY:Music Bingo
DESCRIPTION:Join the fun at Rudino’s Pizza & Grinders with Music Bingo each Wednesday | 7:00pm-9pm! There will be drink specials as well. Please call ahead for reservations at 910-246-2446.
URL:https://thepinestimes.com/event/music-bingo-wednesday-2-2-2/2026-02-25/
LOCATION:Rudino’s Pizza & Grinders-Southern Pines\, 135 Pinehurst Ave\, Southern Pines\, NC\, 28387\, United States
CATEGORIES:Adult Connections,Adults,Beer and Wine,Games,Hobby/Enthusiast,Night Life,Pines Connector,Senior,Social,Southern Pines Events
ATTACH;FMTTYPE=image/png:https://thepinestimes.com/wp-content/uploads/Music-Bingo.png
END:VEVENT
BEGIN:VEVENT
DTSTART;TZID=America/New_York:20260219T190000
DTEND;TZID=America/New_York:20260219T210000
DTSTAMP:20260420T163009
CREATED:20240605T001703Z
LAST-MODIFIED:20260327T211054Z
UID:10077695-1771527600-1771534800@thepinestimes.com
SUMMARY:Trivia Thursday
DESCRIPTION:Join the fun at Rudino’s Pizza & Grinders with Trivia each Thursday | 6:45pm-9pm! Enjoy Pasta Night and there will be drink specials as well. You may call ahead for reservations at 910-246-2446.
URL:https://thepinestimes.com/event/trivia-thursday-2-2/2026-02-19/
LOCATION:Rudino’s Pizza & Grinders-Southern Pines\, 135 Pinehurst Ave\, Southern Pines\, NC\, 28387\, United States
CATEGORIES:Adults,Beer and Wine,Family,Food,Games,Hobby/Enthusiast,Social,Southern Pines Events
ATTACH;FMTTYPE=image/png:https://thepinestimes.com/wp-content/uploads/Trivia-Night-e1754408009763.png
END:VEVENT
BEGIN:VEVENT
DTSTART;TZID=America/New_York:20260218T190000
DTEND;TZID=America/New_York:20260218T210000
DTSTAMP:20260420T163009
CREATED:20251222T195039Z
LAST-MODIFIED:20251222T195134Z
UID:10077676-1771441200-1771448400@thepinestimes.com
SUMMARY:Music Bingo
DESCRIPTION:Join the fun at Rudino’s Pizza & Grinders with Music Bingo each Wednesday | 7:00pm-9pm! There will be drink specials as well. Please call ahead for reservations at 910-246-2446.
URL:https://thepinestimes.com/event/music-bingo-wednesday-2-2-2/2026-02-18/
LOCATION:Rudino’s Pizza & Grinders-Southern Pines\, 135 Pinehurst Ave\, Southern Pines\, NC\, 28387\, United States
CATEGORIES:Adult Connections,Adults,Beer and Wine,Games,Hobby/Enthusiast,Night Life,Pines Connector,Senior,Social,Southern Pines Events
ATTACH;FMTTYPE=image/png:https://thepinestimes.com/wp-content/uploads/Music-Bingo.png
END:VEVENT
BEGIN:VEVENT
DTSTART;TZID=America/New_York:20260212T190000
DTEND;TZID=America/New_York:20260212T210000
DTSTAMP:20260420T163009
CREATED:20240605T001703Z
LAST-MODIFIED:20260327T211054Z
UID:10077694-1770922800-1770930000@thepinestimes.com
SUMMARY:Trivia Thursday
DESCRIPTION:Join the fun at Rudino’s Pizza & Grinders with Trivia each Thursday | 6:45pm-9pm! Enjoy Pasta Night and there will be drink specials as well. You may call ahead for reservations at 910-246-2446.
URL:https://thepinestimes.com/event/trivia-thursday-2-2/2026-02-12/
LOCATION:Rudino’s Pizza & Grinders-Southern Pines\, 135 Pinehurst Ave\, Southern Pines\, NC\, 28387\, United States
CATEGORIES:Adults,Beer and Wine,Family,Food,Games,Hobby/Enthusiast,Social,Southern Pines Events
ATTACH;FMTTYPE=image/png:https://thepinestimes.com/wp-content/uploads/Trivia-Night-e1754408009763.png
END:VEVENT
BEGIN:VEVENT
DTSTART;TZID=America/New_York:20260211T190000
DTEND;TZID=America/New_York:20260211T210000
DTSTAMP:20260420T163009
CREATED:20251222T195039Z
LAST-MODIFIED:20251222T195134Z
UID:10077675-1770836400-1770843600@thepinestimes.com
SUMMARY:Music Bingo
DESCRIPTION:Join the fun at Rudino’s Pizza & Grinders with Music Bingo each Wednesday | 7:00pm-9pm! There will be drink specials as well. Please call ahead for reservations at 910-246-2446.
URL:https://thepinestimes.com/event/music-bingo-wednesday-2-2-2/2026-02-11/
LOCATION:Rudino’s Pizza & Grinders-Southern Pines\, 135 Pinehurst Ave\, Southern Pines\, NC\, 28387\, United States
CATEGORIES:Adult Connections,Adults,Beer and Wine,Games,Hobby/Enthusiast,Night Life,Pines Connector,Senior,Social,Southern Pines Events
ATTACH;FMTTYPE=image/png:https://thepinestimes.com/wp-content/uploads/Music-Bingo.png
END:VEVENT
BEGIN:VEVENT
DTSTART;TZID=America/New_York:20260205T190000
DTEND;TZID=America/New_York:20260205T210000
DTSTAMP:20260420T163009
CREATED:20240605T001703Z
LAST-MODIFIED:20260327T211054Z
UID:10077693-1770318000-1770325200@thepinestimes.com
SUMMARY:Trivia Thursday
DESCRIPTION:Join the fun at Rudino’s Pizza & Grinders with Trivia each Thursday | 6:45pm-9pm! Enjoy Pasta Night and there will be drink specials as well. You may call ahead for reservations at 910-246-2446.
URL:https://thepinestimes.com/event/trivia-thursday-2-2/2026-02-05/
LOCATION:Rudino’s Pizza & Grinders-Southern Pines\, 135 Pinehurst Ave\, Southern Pines\, NC\, 28387\, United States
CATEGORIES:Adults,Beer and Wine,Family,Food,Games,Hobby/Enthusiast,Social,Southern Pines Events
ATTACH;FMTTYPE=image/png:https://thepinestimes.com/wp-content/uploads/Trivia-Night-e1754408009763.png
END:VEVENT
BEGIN:VEVENT
DTSTART;TZID=America/New_York:20260204T190000
DTEND;TZID=America/New_York:20260204T210000
DTSTAMP:20260420T163009
CREATED:20251222T195039Z
LAST-MODIFIED:20251222T195134Z
UID:10077674-1770231600-1770238800@thepinestimes.com
SUMMARY:Music Bingo
DESCRIPTION:Join the fun at Rudino’s Pizza & Grinders with Music Bingo each Wednesday | 7:00pm-9pm! There will be drink specials as well. Please call ahead for reservations at 910-246-2446.
URL:https://thepinestimes.com/event/music-bingo-wednesday-2-2-2/2026-02-04/
LOCATION:Rudino’s Pizza & Grinders-Southern Pines\, 135 Pinehurst Ave\, Southern Pines\, NC\, 28387\, United States
CATEGORIES:Adult Connections,Adults,Beer and Wine,Games,Hobby/Enthusiast,Night Life,Pines Connector,Senior,Social,Southern Pines Events
ATTACH;FMTTYPE=image/png:https://thepinestimes.com/wp-content/uploads/Music-Bingo.png
END:VEVENT
BEGIN:VEVENT
DTSTART;TZID=America/New_York:20260129T190000
DTEND;TZID=America/New_York:20260129T210000
DTSTAMP:20260420T163009
CREATED:20240605T001703Z
LAST-MODIFIED:20260327T211054Z
UID:10077692-1769713200-1769720400@thepinestimes.com
SUMMARY:Trivia Thursday
DESCRIPTION:Join the fun at Rudino’s Pizza & Grinders with Trivia each Thursday | 6:45pm-9pm! Enjoy Pasta Night and there will be drink specials as well. You may call ahead for reservations at 910-246-2446.
URL:https://thepinestimes.com/event/trivia-thursday-2-2/2026-01-29/
LOCATION:Rudino’s Pizza & Grinders-Southern Pines\, 135 Pinehurst Ave\, Southern Pines\, NC\, 28387\, United States
CATEGORIES:Adults,Beer and Wine,Family,Food,Games,Hobby/Enthusiast,Social,Southern Pines Events
ATTACH;FMTTYPE=image/png:https://thepinestimes.com/wp-content/uploads/Trivia-Night-e1754408009763.png
END:VEVENT
BEGIN:VEVENT
DTSTART;TZID=America/New_York:20260128T190000
DTEND;TZID=America/New_York:20260128T210000
DTSTAMP:20260420T163009
CREATED:20251222T195039Z
LAST-MODIFIED:20251222T195134Z
UID:10077673-1769626800-1769634000@thepinestimes.com
SUMMARY:Music Bingo
DESCRIPTION:Join the fun at Rudino’s Pizza & Grinders with Music Bingo each Wednesday | 7:00pm-9pm! There will be drink specials as well. Please call ahead for reservations at 910-246-2446.
URL:https://thepinestimes.com/event/music-bingo-wednesday-2-2-2/2026-01-28/
LOCATION:Rudino’s Pizza & Grinders-Southern Pines\, 135 Pinehurst Ave\, Southern Pines\, NC\, 28387\, United States
CATEGORIES:Adult Connections,Adults,Beer and Wine,Games,Hobby/Enthusiast,Night Life,Pines Connector,Senior,Social,Southern Pines Events
ATTACH;FMTTYPE=image/png:https://thepinestimes.com/wp-content/uploads/Music-Bingo.png
END:VEVENT
BEGIN:VEVENT
DTSTART;TZID=America/New_York:20260122T190000
DTEND;TZID=America/New_York:20260122T210000
DTSTAMP:20260420T163009
CREATED:20240605T001703Z
LAST-MODIFIED:20260327T211054Z
UID:10077691-1769108400-1769115600@thepinestimes.com
SUMMARY:Trivia Thursday
DESCRIPTION:Join the fun at Rudino’s Pizza & Grinders with Trivia each Thursday | 6:45pm-9pm! Enjoy Pasta Night and there will be drink specials as well. You may call ahead for reservations at 910-246-2446.
URL:https://thepinestimes.com/event/trivia-thursday-2-2/2026-01-22/
LOCATION:Rudino’s Pizza & Grinders-Southern Pines\, 135 Pinehurst Ave\, Southern Pines\, NC\, 28387\, United States
CATEGORIES:Adults,Beer and Wine,Family,Food,Games,Hobby/Enthusiast,Social,Southern Pines Events
ATTACH;FMTTYPE=image/png:https://thepinestimes.com/wp-content/uploads/Trivia-Night-e1754408009763.png
END:VEVENT
BEGIN:VEVENT
DTSTART;TZID=America/New_York:20260121T190000
DTEND;TZID=America/New_York:20260121T210000
DTSTAMP:20260420T163009
CREATED:20251222T195039Z
LAST-MODIFIED:20251222T195134Z
UID:10077672-1769022000-1769029200@thepinestimes.com
SUMMARY:Music Bingo
DESCRIPTION:Join the fun at Rudino’s Pizza & Grinders with Music Bingo each Wednesday | 7:00pm-9pm! There will be drink specials as well. Please call ahead for reservations at 910-246-2446.
URL:https://thepinestimes.com/event/music-bingo-wednesday-2-2-2/2026-01-21/
LOCATION:Rudino’s Pizza & Grinders-Southern Pines\, 135 Pinehurst Ave\, Southern Pines\, NC\, 28387\, United States
CATEGORIES:Adult Connections,Adults,Beer and Wine,Games,Hobby/Enthusiast,Night Life,Pines Connector,Senior,Social,Southern Pines Events
ATTACH;FMTTYPE=image/png:https://thepinestimes.com/wp-content/uploads/Music-Bingo.png
END:VEVENT
BEGIN:VEVENT
DTSTART;TZID=America/New_York:20260115T190000
DTEND;TZID=America/New_York:20260115T210000
DTSTAMP:20260420T163009
CREATED:20240605T001703Z
LAST-MODIFIED:20260327T211054Z
UID:10077690-1768503600-1768510800@thepinestimes.com
SUMMARY:Trivia Thursday
DESCRIPTION:Join the fun at Rudino’s Pizza & Grinders with Trivia each Thursday | 6:45pm-9pm! Enjoy Pasta Night and there will be drink specials as well. You may call ahead for reservations at 910-246-2446.
URL:https://thepinestimes.com/event/trivia-thursday-2-2/2026-01-15/
LOCATION:Rudino’s Pizza & Grinders-Southern Pines\, 135 Pinehurst Ave\, Southern Pines\, NC\, 28387\, United States
CATEGORIES:Adults,Beer and Wine,Family,Food,Games,Hobby/Enthusiast,Social,Southern Pines Events
ATTACH;FMTTYPE=image/png:https://thepinestimes.com/wp-content/uploads/Trivia-Night-e1754408009763.png
END:VEVENT
BEGIN:VEVENT
DTSTART;TZID=America/New_York:20260114T190000
DTEND;TZID=America/New_York:20260114T210000
DTSTAMP:20260420T163009
CREATED:20251222T195039Z
LAST-MODIFIED:20251222T195134Z
UID:10077671-1768417200-1768424400@thepinestimes.com
SUMMARY:Music Bingo
DESCRIPTION:Join the fun at Rudino’s Pizza & Grinders with Music Bingo each Wednesday | 7:00pm-9pm! There will be drink specials as well. Please call ahead for reservations at 910-246-2446.
URL:https://thepinestimes.com/event/music-bingo-wednesday-2-2-2/2026-01-14/
LOCATION:Rudino’s Pizza & Grinders-Southern Pines\, 135 Pinehurst Ave\, Southern Pines\, NC\, 28387\, United States
CATEGORIES:Adult Connections,Adults,Beer and Wine,Games,Hobby/Enthusiast,Night Life,Pines Connector,Senior,Social,Southern Pines Events
ATTACH;FMTTYPE=image/png:https://thepinestimes.com/wp-content/uploads/Music-Bingo.png
END:VEVENT
BEGIN:VEVENT
DTSTART;TZID=America/New_York:20260108T190000
DTEND;TZID=America/New_York:20260108T210000
DTSTAMP:20260420T163009
CREATED:20240605T001703Z
LAST-MODIFIED:20260327T211054Z
UID:10077689-1767898800-1767906000@thepinestimes.com
SUMMARY:Trivia Thursday
DESCRIPTION:Join the fun at Rudino’s Pizza & Grinders with Trivia each Thursday | 6:45pm-9pm! Enjoy Pasta Night and there will be drink specials as well. You may call ahead for reservations at 910-246-2446.
URL:https://thepinestimes.com/event/trivia-thursday-2-2/2026-01-08/
LOCATION:Rudino’s Pizza & Grinders-Southern Pines\, 135 Pinehurst Ave\, Southern Pines\, NC\, 28387\, United States
CATEGORIES:Adults,Beer and Wine,Family,Food,Games,Hobby/Enthusiast,Social,Southern Pines Events
ATTACH;FMTTYPE=image/png:https://thepinestimes.com/wp-content/uploads/Trivia-Night-e1754408009763.png
END:VEVENT
BEGIN:VEVENT
DTSTART;TZID=America/New_York:20260107T190000
DTEND;TZID=America/New_York:20260107T210000
DTSTAMP:20260420T163009
CREATED:20251222T195039Z
LAST-MODIFIED:20251222T195134Z
UID:10062651-1767812400-1767819600@thepinestimes.com
SUMMARY:Music Bingo
DESCRIPTION:Join the fun at Rudino’s Pizza & Grinders with Music Bingo each Wednesday | 7:00pm-9pm! There will be drink specials as well. Please call ahead for reservations at 910-246-2446.
URL:https://thepinestimes.com/event/music-bingo-wednesday-2-2-2/2026-01-07/
LOCATION:Rudino’s Pizza & Grinders-Southern Pines\, 135 Pinehurst Ave\, Southern Pines\, NC\, 28387\, United States
CATEGORIES:Adult Connections,Adults,Beer and Wine,Games,Hobby/Enthusiast,Night Life,Pines Connector,Senior,Social,Southern Pines Events
ATTACH;FMTTYPE=image/png:https://thepinestimes.com/wp-content/uploads/Music-Bingo.png
END:VEVENT
END:VCALENDAR