BEGIN:VCALENDAR
VERSION:2.0
PRODID:-//The Pines Times - ECPv6.15.20//NONSGML v1.0//EN
CALSCALE:GREGORIAN
METHOD:PUBLISH
X-ORIGINAL-URL:https://thepinestimes.com
X-WR-CALDESC:Events for The Pines Times
REFRESH-INTERVAL;VALUE=DURATION:PT1H
X-Robots-Tag:noindex
X-PUBLISHED-TTL:PT1H
BEGIN:VTIMEZONE
TZID:America/New_York
BEGIN:DAYLIGHT
TZOFFSETFROM:-0500
TZOFFSETTO:-0400
TZNAME:EDT
DTSTART:20240310T070000
END:DAYLIGHT
BEGIN:STANDARD
TZOFFSETFROM:-0400
TZOFFSETTO:-0500
TZNAME:EST
DTSTART:20241103T060000
END:STANDARD
BEGIN:DAYLIGHT
TZOFFSETFROM:-0500
TZOFFSETTO:-0400
TZNAME:EDT
DTSTART:20250309T070000
END:DAYLIGHT
BEGIN:STANDARD
TZOFFSETFROM:-0400
TZOFFSETTO:-0500
TZNAME:EST
DTSTART:20251102T060000
END:STANDARD
BEGIN:DAYLIGHT
TZOFFSETFROM:-0500
TZOFFSETTO:-0400
TZNAME:EDT
DTSTART:20260308T070000
END:DAYLIGHT
BEGIN:STANDARD
TZOFFSETFROM:-0400
TZOFFSETTO:-0500
TZNAME:EST
DTSTART:20261101T060000
END:STANDARD
END:VTIMEZONE
BEGIN:VEVENT
DTSTART;TZID=America/New_York:20251025T130000
DTEND;TZID=America/New_York:20251025T160000
DTSTAMP:20260424T122711
CREATED:20241020T194932Z
LAST-MODIFIED:20251022T140243Z
UID:10046654-1761397200-1761408000@thepinestimes.com
SUMMARY:Rufus McLaughlin American Legion Auxiliary: Southern Pines Trunk or Treat
DESCRIPTION:The Rufus McLaughlin American Legion Auxiliary invites your family to a fun\, safe Trunk or Treat event this Halloween season on Saturday\, October 25th\, at Hines Park (aka Clay Hole)\, located at 730 S. Henley Street in Southern Pines. Bring the children out with costumes\, treats and family-friendly fun!The Trunk or Treat itself runs from 1:00pm-4:00pm. Trunk setup begins at 12:00pm. \nThis community favorite is made extra special by volunteers! To reserve a trunk space and help make this an extra special time for the children\, please contact: Dorothy Brower via text at (919) 599-6605 or Tina Gillis via text at (910) 723-4454. \nCome out\, support the Auxiliary\, and enjoy a fantastic Saturday afternoon! \n  \n  \n 
URL:https://thepinestimes.com/event/trunk-or-treat-4/
LOCATION:J. Pleasant Hines Park\, 730 S. Henley St.\, Southern Pines\, NC\, 28387\, United States
CATEGORIES:Adults,Children,Contest,Family,Food,Games,Halloween,Holiday Events,Piney's Kids,Piney's Tiny's,Social,Southern Pines Events
ATTACH;FMTTYPE=image/jpeg:https://thepinestimes.com/wp-content/uploads/TrunkOrTreatFeature-3.jpg
END:VEVENT
END:VCALENDAR