BEGIN:VCALENDAR
VERSION:2.0
PRODID:-//The Pines Times - ECPv6.15.20//NONSGML v1.0//EN
CALSCALE:GREGORIAN
METHOD:PUBLISH
X-ORIGINAL-URL:https://thepinestimes.com
X-WR-CALDESC:Events for The Pines Times
REFRESH-INTERVAL;VALUE=DURATION:PT1H
X-Robots-Tag:noindex
X-PUBLISHED-TTL:PT1H
BEGIN:VTIMEZONE
TZID:America/New_York
BEGIN:DAYLIGHT
TZOFFSETFROM:-0500
TZOFFSETTO:-0400
TZNAME:EDT
DTSTART:20250309T070000
END:DAYLIGHT
BEGIN:STANDARD
TZOFFSETFROM:-0400
TZOFFSETTO:-0500
TZNAME:EST
DTSTART:20251102T060000
END:STANDARD
BEGIN:DAYLIGHT
TZOFFSETFROM:-0500
TZOFFSETTO:-0400
TZNAME:EDT
DTSTART:20260308T070000
END:DAYLIGHT
BEGIN:STANDARD
TZOFFSETFROM:-0400
TZOFFSETTO:-0500
TZNAME:EST
DTSTART:20261101T060000
END:STANDARD
BEGIN:DAYLIGHT
TZOFFSETFROM:-0500
TZOFFSETTO:-0400
TZNAME:EDT
DTSTART:20270314T070000
END:DAYLIGHT
BEGIN:STANDARD
TZOFFSETFROM:-0400
TZOFFSETTO:-0500
TZNAME:EST
DTSTART:20271107T060000
END:STANDARD
END:VTIMEZONE
BEGIN:VEVENT
DTSTART;TZID=America/New_York:20260717T180000
DTEND;TZID=America/New_York:20260717T180000
DTSTAMP:20260424T064533
CREATED:20241009T144015Z
LAST-MODIFIED:20260407T171930Z
UID:10086581-1784311200-1784311200@thepinestimes.com
SUMMARY:Cosmic Bowling
DESCRIPTION:Enjoy fun for the whole family with Cosmic Bowling at Sandhills Bowling Center! Cosmic Bowling takes place every Friday and Saturday beginning at 6:00pm.
URL:https://thepinestimes.com/event/cosmic-bowling-2-2-2/2026-07-17/
LOCATION:Sandhills Bowling Center\, 1680 NC Highway 5\, Aberdeen\, NC\, 28315\, United States
CATEGORIES:Aberdeen Events,Adults,Bowling,Children,Family,Games,Health & Wellness,Hobby/Enthusiast,Live Entertainment,Senior,Social
ATTACH;FMTTYPE=image/png:https://thepinestimes.com/wp-content/uploads/Bowling.png
END:VEVENT
BEGIN:VEVENT
DTSTART;TZID=America/New_York:20260718T180000
DTEND;TZID=America/New_York:20260718T180000
DTSTAMP:20260424T064533
CREATED:20241009T144015Z
LAST-MODIFIED:20260407T171930Z
UID:10086582-1784397600-1784397600@thepinestimes.com
SUMMARY:Cosmic Bowling
DESCRIPTION:Enjoy fun for the whole family with Cosmic Bowling at Sandhills Bowling Center! Cosmic Bowling takes place every Friday and Saturday beginning at 6:00pm.
URL:https://thepinestimes.com/event/cosmic-bowling-2-2-2/2026-07-18/
LOCATION:Sandhills Bowling Center\, 1680 NC Highway 5\, Aberdeen\, NC\, 28315\, United States
CATEGORIES:Aberdeen Events,Adults,Bowling,Children,Family,Games,Health & Wellness,Hobby/Enthusiast,Live Entertainment,Senior,Social
ATTACH;FMTTYPE=image/png:https://thepinestimes.com/wp-content/uploads/Bowling.png
END:VEVENT
BEGIN:VEVENT
DTSTART;TZID=America/New_York:20260724T180000
DTEND;TZID=America/New_York:20260724T180000
DTSTAMP:20260424T064533
CREATED:20241009T144015Z
LAST-MODIFIED:20260407T171930Z
UID:10086583-1784916000-1784916000@thepinestimes.com
SUMMARY:Cosmic Bowling
DESCRIPTION:Enjoy fun for the whole family with Cosmic Bowling at Sandhills Bowling Center! Cosmic Bowling takes place every Friday and Saturday beginning at 6:00pm.
URL:https://thepinestimes.com/event/cosmic-bowling-2-2-2/2026-07-24/
LOCATION:Sandhills Bowling Center\, 1680 NC Highway 5\, Aberdeen\, NC\, 28315\, United States
CATEGORIES:Aberdeen Events,Adults,Bowling,Children,Family,Games,Health & Wellness,Hobby/Enthusiast,Live Entertainment,Senior,Social
ATTACH;FMTTYPE=image/png:https://thepinestimes.com/wp-content/uploads/Bowling.png
END:VEVENT
BEGIN:VEVENT
DTSTART;TZID=America/New_York:20260725T180000
DTEND;TZID=America/New_York:20260725T180000
DTSTAMP:20260424T064533
CREATED:20241009T144015Z
LAST-MODIFIED:20260407T171930Z
UID:10086584-1785002400-1785002400@thepinestimes.com
SUMMARY:Cosmic Bowling
DESCRIPTION:Enjoy fun for the whole family with Cosmic Bowling at Sandhills Bowling Center! Cosmic Bowling takes place every Friday and Saturday beginning at 6:00pm.
URL:https://thepinestimes.com/event/cosmic-bowling-2-2-2/2026-07-25/
LOCATION:Sandhills Bowling Center\, 1680 NC Highway 5\, Aberdeen\, NC\, 28315\, United States
CATEGORIES:Aberdeen Events,Adults,Bowling,Children,Family,Games,Health & Wellness,Hobby/Enthusiast,Live Entertainment,Senior,Social
ATTACH;FMTTYPE=image/png:https://thepinestimes.com/wp-content/uploads/Bowling.png
END:VEVENT
BEGIN:VEVENT
DTSTART;TZID=America/New_York:20260731T180000
DTEND;TZID=America/New_York:20260731T180000
DTSTAMP:20260424T064533
CREATED:20241009T144015Z
LAST-MODIFIED:20260407T171930Z
UID:10086585-1785520800-1785520800@thepinestimes.com
SUMMARY:Cosmic Bowling
DESCRIPTION:Enjoy fun for the whole family with Cosmic Bowling at Sandhills Bowling Center! Cosmic Bowling takes place every Friday and Saturday beginning at 6:00pm.
URL:https://thepinestimes.com/event/cosmic-bowling-2-2-2/2026-07-31/
LOCATION:Sandhills Bowling Center\, 1680 NC Highway 5\, Aberdeen\, NC\, 28315\, United States
CATEGORIES:Aberdeen Events,Adults,Bowling,Children,Family,Games,Health & Wellness,Hobby/Enthusiast,Live Entertainment,Senior,Social
ATTACH;FMTTYPE=image/png:https://thepinestimes.com/wp-content/uploads/Bowling.png
END:VEVENT
BEGIN:VEVENT
DTSTART;TZID=America/New_York:20260801T180000
DTEND;TZID=America/New_York:20260801T180000
DTSTAMP:20260424T064533
CREATED:20241009T144015Z
LAST-MODIFIED:20260407T171930Z
UID:10086586-1785607200-1785607200@thepinestimes.com
SUMMARY:Cosmic Bowling
DESCRIPTION:Enjoy fun for the whole family with Cosmic Bowling at Sandhills Bowling Center! Cosmic Bowling takes place every Friday and Saturday beginning at 6:00pm.
URL:https://thepinestimes.com/event/cosmic-bowling-2-2-2/2026-08-01/
LOCATION:Sandhills Bowling Center\, 1680 NC Highway 5\, Aberdeen\, NC\, 28315\, United States
CATEGORIES:Aberdeen Events,Adults,Bowling,Children,Family,Games,Health & Wellness,Hobby/Enthusiast,Live Entertainment,Senior,Social
ATTACH;FMTTYPE=image/png:https://thepinestimes.com/wp-content/uploads/Bowling.png
END:VEVENT
BEGIN:VEVENT
DTSTART;TZID=America/New_York:20260807T180000
DTEND;TZID=America/New_York:20260807T180000
DTSTAMP:20260424T064533
CREATED:20241009T144015Z
LAST-MODIFIED:20260407T171930Z
UID:10086587-1786125600-1786125600@thepinestimes.com
SUMMARY:Cosmic Bowling
DESCRIPTION:Enjoy fun for the whole family with Cosmic Bowling at Sandhills Bowling Center! Cosmic Bowling takes place every Friday and Saturday beginning at 6:00pm.
URL:https://thepinestimes.com/event/cosmic-bowling-2-2-2/2026-08-07/
LOCATION:Sandhills Bowling Center\, 1680 NC Highway 5\, Aberdeen\, NC\, 28315\, United States
CATEGORIES:Aberdeen Events,Adults,Bowling,Children,Family,Games,Health & Wellness,Hobby/Enthusiast,Live Entertainment,Senior,Social
ATTACH;FMTTYPE=image/png:https://thepinestimes.com/wp-content/uploads/Bowling.png
END:VEVENT
BEGIN:VEVENT
DTSTART;TZID=America/New_York:20260808T180000
DTEND;TZID=America/New_York:20260808T180000
DTSTAMP:20260424T064533
CREATED:20241009T144015Z
LAST-MODIFIED:20260407T171930Z
UID:10086588-1786212000-1786212000@thepinestimes.com
SUMMARY:Cosmic Bowling
DESCRIPTION:Enjoy fun for the whole family with Cosmic Bowling at Sandhills Bowling Center! Cosmic Bowling takes place every Friday and Saturday beginning at 6:00pm.
URL:https://thepinestimes.com/event/cosmic-bowling-2-2-2/2026-08-08/
LOCATION:Sandhills Bowling Center\, 1680 NC Highway 5\, Aberdeen\, NC\, 28315\, United States
CATEGORIES:Aberdeen Events,Adults,Bowling,Children,Family,Games,Health & Wellness,Hobby/Enthusiast,Live Entertainment,Senior,Social
ATTACH;FMTTYPE=image/png:https://thepinestimes.com/wp-content/uploads/Bowling.png
END:VEVENT
BEGIN:VEVENT
DTSTART;TZID=America/New_York:20260814T180000
DTEND;TZID=America/New_York:20260814T180000
DTSTAMP:20260424T064533
CREATED:20241009T144015Z
LAST-MODIFIED:20260407T171930Z
UID:10086589-1786730400-1786730400@thepinestimes.com
SUMMARY:Cosmic Bowling
DESCRIPTION:Enjoy fun for the whole family with Cosmic Bowling at Sandhills Bowling Center! Cosmic Bowling takes place every Friday and Saturday beginning at 6:00pm.
URL:https://thepinestimes.com/event/cosmic-bowling-2-2-2/2026-08-14/
LOCATION:Sandhills Bowling Center\, 1680 NC Highway 5\, Aberdeen\, NC\, 28315\, United States
CATEGORIES:Aberdeen Events,Adults,Bowling,Children,Family,Games,Health & Wellness,Hobby/Enthusiast,Live Entertainment,Senior,Social
ATTACH;FMTTYPE=image/png:https://thepinestimes.com/wp-content/uploads/Bowling.png
END:VEVENT
BEGIN:VEVENT
DTSTART;TZID=America/New_York:20260815T180000
DTEND;TZID=America/New_York:20260815T180000
DTSTAMP:20260424T064533
CREATED:20241009T144015Z
LAST-MODIFIED:20260407T171930Z
UID:10086590-1786816800-1786816800@thepinestimes.com
SUMMARY:Cosmic Bowling
DESCRIPTION:Enjoy fun for the whole family with Cosmic Bowling at Sandhills Bowling Center! Cosmic Bowling takes place every Friday and Saturday beginning at 6:00pm.
URL:https://thepinestimes.com/event/cosmic-bowling-2-2-2/2026-08-15/
LOCATION:Sandhills Bowling Center\, 1680 NC Highway 5\, Aberdeen\, NC\, 28315\, United States
CATEGORIES:Aberdeen Events,Adults,Bowling,Children,Family,Games,Health & Wellness,Hobby/Enthusiast,Live Entertainment,Senior,Social
ATTACH;FMTTYPE=image/png:https://thepinestimes.com/wp-content/uploads/Bowling.png
END:VEVENT
BEGIN:VEVENT
DTSTART;TZID=America/New_York:20260821T180000
DTEND;TZID=America/New_York:20260821T180000
DTSTAMP:20260424T064533
CREATED:20241009T144015Z
LAST-MODIFIED:20260407T171930Z
UID:10086591-1787335200-1787335200@thepinestimes.com
SUMMARY:Cosmic Bowling
DESCRIPTION:Enjoy fun for the whole family with Cosmic Bowling at Sandhills Bowling Center! Cosmic Bowling takes place every Friday and Saturday beginning at 6:00pm.
URL:https://thepinestimes.com/event/cosmic-bowling-2-2-2/2026-08-21/
LOCATION:Sandhills Bowling Center\, 1680 NC Highway 5\, Aberdeen\, NC\, 28315\, United States
CATEGORIES:Aberdeen Events,Adults,Bowling,Children,Family,Games,Health & Wellness,Hobby/Enthusiast,Live Entertainment,Senior,Social
ATTACH;FMTTYPE=image/png:https://thepinestimes.com/wp-content/uploads/Bowling.png
END:VEVENT
BEGIN:VEVENT
DTSTART;TZID=America/New_York:20260822T180000
DTEND;TZID=America/New_York:20260822T180000
DTSTAMP:20260424T064533
CREATED:20241009T144015Z
LAST-MODIFIED:20260407T171930Z
UID:10086592-1787421600-1787421600@thepinestimes.com
SUMMARY:Cosmic Bowling
DESCRIPTION:Enjoy fun for the whole family with Cosmic Bowling at Sandhills Bowling Center! Cosmic Bowling takes place every Friday and Saturday beginning at 6:00pm.
URL:https://thepinestimes.com/event/cosmic-bowling-2-2-2/2026-08-22/
LOCATION:Sandhills Bowling Center\, 1680 NC Highway 5\, Aberdeen\, NC\, 28315\, United States
CATEGORIES:Aberdeen Events,Adults,Bowling,Children,Family,Games,Health & Wellness,Hobby/Enthusiast,Live Entertainment,Senior,Social
ATTACH;FMTTYPE=image/png:https://thepinestimes.com/wp-content/uploads/Bowling.png
END:VEVENT
BEGIN:VEVENT
DTSTART;TZID=America/New_York:20260828T180000
DTEND;TZID=America/New_York:20260828T180000
DTSTAMP:20260424T064533
CREATED:20241009T144015Z
LAST-MODIFIED:20260407T171930Z
UID:10086593-1787940000-1787940000@thepinestimes.com
SUMMARY:Cosmic Bowling
DESCRIPTION:Enjoy fun for the whole family with Cosmic Bowling at Sandhills Bowling Center! Cosmic Bowling takes place every Friday and Saturday beginning at 6:00pm.
URL:https://thepinestimes.com/event/cosmic-bowling-2-2-2/2026-08-28/
LOCATION:Sandhills Bowling Center\, 1680 NC Highway 5\, Aberdeen\, NC\, 28315\, United States
CATEGORIES:Aberdeen Events,Adults,Bowling,Children,Family,Games,Health & Wellness,Hobby/Enthusiast,Live Entertainment,Senior,Social
ATTACH;FMTTYPE=image/png:https://thepinestimes.com/wp-content/uploads/Bowling.png
END:VEVENT
BEGIN:VEVENT
DTSTART;TZID=America/New_York:20260829T180000
DTEND;TZID=America/New_York:20260829T180000
DTSTAMP:20260424T064533
CREATED:20241009T144015Z
LAST-MODIFIED:20260407T171930Z
UID:10086594-1788026400-1788026400@thepinestimes.com
SUMMARY:Cosmic Bowling
DESCRIPTION:Enjoy fun for the whole family with Cosmic Bowling at Sandhills Bowling Center! Cosmic Bowling takes place every Friday and Saturday beginning at 6:00pm.
URL:https://thepinestimes.com/event/cosmic-bowling-2-2-2/2026-08-29/
LOCATION:Sandhills Bowling Center\, 1680 NC Highway 5\, Aberdeen\, NC\, 28315\, United States
CATEGORIES:Aberdeen Events,Adults,Bowling,Children,Family,Games,Health & Wellness,Hobby/Enthusiast,Live Entertainment,Senior,Social
ATTACH;FMTTYPE=image/png:https://thepinestimes.com/wp-content/uploads/Bowling.png
END:VEVENT
BEGIN:VEVENT
DTSTART;TZID=America/New_York:20260904T180000
DTEND;TZID=America/New_York:20260904T180000
DTSTAMP:20260424T064533
CREATED:20241009T144015Z
LAST-MODIFIED:20260407T171930Z
UID:10086595-1788544800-1788544800@thepinestimes.com
SUMMARY:Cosmic Bowling
DESCRIPTION:Enjoy fun for the whole family with Cosmic Bowling at Sandhills Bowling Center! Cosmic Bowling takes place every Friday and Saturday beginning at 6:00pm.
URL:https://thepinestimes.com/event/cosmic-bowling-2-2-2/2026-09-04/
LOCATION:Sandhills Bowling Center\, 1680 NC Highway 5\, Aberdeen\, NC\, 28315\, United States
CATEGORIES:Aberdeen Events,Adults,Bowling,Children,Family,Games,Health & Wellness,Hobby/Enthusiast,Live Entertainment,Senior,Social
ATTACH;FMTTYPE=image/png:https://thepinestimes.com/wp-content/uploads/Bowling.png
END:VEVENT
BEGIN:VEVENT
DTSTART;TZID=America/New_York:20260905T180000
DTEND;TZID=America/New_York:20260905T180000
DTSTAMP:20260424T064533
CREATED:20241009T144015Z
LAST-MODIFIED:20260407T171930Z
UID:10086596-1788631200-1788631200@thepinestimes.com
SUMMARY:Cosmic Bowling
DESCRIPTION:Enjoy fun for the whole family with Cosmic Bowling at Sandhills Bowling Center! Cosmic Bowling takes place every Friday and Saturday beginning at 6:00pm.
URL:https://thepinestimes.com/event/cosmic-bowling-2-2-2/2026-09-05/
LOCATION:Sandhills Bowling Center\, 1680 NC Highway 5\, Aberdeen\, NC\, 28315\, United States
CATEGORIES:Aberdeen Events,Adults,Bowling,Children,Family,Games,Health & Wellness,Hobby/Enthusiast,Live Entertainment,Senior,Social
ATTACH;FMTTYPE=image/png:https://thepinestimes.com/wp-content/uploads/Bowling.png
END:VEVENT
BEGIN:VEVENT
DTSTART;TZID=America/New_York:20260911T180000
DTEND;TZID=America/New_York:20260911T180000
DTSTAMP:20260424T064533
CREATED:20241009T144015Z
LAST-MODIFIED:20260407T171930Z
UID:10086597-1789149600-1789149600@thepinestimes.com
SUMMARY:Cosmic Bowling
DESCRIPTION:Enjoy fun for the whole family with Cosmic Bowling at Sandhills Bowling Center! Cosmic Bowling takes place every Friday and Saturday beginning at 6:00pm.
URL:https://thepinestimes.com/event/cosmic-bowling-2-2-2/2026-09-11/
LOCATION:Sandhills Bowling Center\, 1680 NC Highway 5\, Aberdeen\, NC\, 28315\, United States
CATEGORIES:Aberdeen Events,Adults,Bowling,Children,Family,Games,Health & Wellness,Hobby/Enthusiast,Live Entertainment,Senior,Social
ATTACH;FMTTYPE=image/png:https://thepinestimes.com/wp-content/uploads/Bowling.png
END:VEVENT
BEGIN:VEVENT
DTSTART;TZID=America/New_York:20260912T180000
DTEND;TZID=America/New_York:20260912T180000
DTSTAMP:20260424T064533
CREATED:20241009T144015Z
LAST-MODIFIED:20260407T171930Z
UID:10086598-1789236000-1789236000@thepinestimes.com
SUMMARY:Cosmic Bowling
DESCRIPTION:Enjoy fun for the whole family with Cosmic Bowling at Sandhills Bowling Center! Cosmic Bowling takes place every Friday and Saturday beginning at 6:00pm.
URL:https://thepinestimes.com/event/cosmic-bowling-2-2-2/2026-09-12/
LOCATION:Sandhills Bowling Center\, 1680 NC Highway 5\, Aberdeen\, NC\, 28315\, United States
CATEGORIES:Aberdeen Events,Adults,Bowling,Children,Family,Games,Health & Wellness,Hobby/Enthusiast,Live Entertainment,Senior,Social
ATTACH;FMTTYPE=image/png:https://thepinestimes.com/wp-content/uploads/Bowling.png
END:VEVENT
BEGIN:VEVENT
DTSTART;TZID=America/New_York:20260918T180000
DTEND;TZID=America/New_York:20260918T180000
DTSTAMP:20260424T064533
CREATED:20241009T144015Z
LAST-MODIFIED:20260407T171930Z
UID:10086599-1789754400-1789754400@thepinestimes.com
SUMMARY:Cosmic Bowling
DESCRIPTION:Enjoy fun for the whole family with Cosmic Bowling at Sandhills Bowling Center! Cosmic Bowling takes place every Friday and Saturday beginning at 6:00pm.
URL:https://thepinestimes.com/event/cosmic-bowling-2-2-2/2026-09-18/
LOCATION:Sandhills Bowling Center\, 1680 NC Highway 5\, Aberdeen\, NC\, 28315\, United States
CATEGORIES:Aberdeen Events,Adults,Bowling,Children,Family,Games,Health & Wellness,Hobby/Enthusiast,Live Entertainment,Senior,Social
ATTACH;FMTTYPE=image/png:https://thepinestimes.com/wp-content/uploads/Bowling.png
END:VEVENT
BEGIN:VEVENT
DTSTART;TZID=America/New_York:20260919T180000
DTEND;TZID=America/New_York:20260919T180000
DTSTAMP:20260424T064533
CREATED:20241009T144015Z
LAST-MODIFIED:20260407T171930Z
UID:10086600-1789840800-1789840800@thepinestimes.com
SUMMARY:Cosmic Bowling
DESCRIPTION:Enjoy fun for the whole family with Cosmic Bowling at Sandhills Bowling Center! Cosmic Bowling takes place every Friday and Saturday beginning at 6:00pm.
URL:https://thepinestimes.com/event/cosmic-bowling-2-2-2/2026-09-19/
LOCATION:Sandhills Bowling Center\, 1680 NC Highway 5\, Aberdeen\, NC\, 28315\, United States
CATEGORIES:Aberdeen Events,Adults,Bowling,Children,Family,Games,Health & Wellness,Hobby/Enthusiast,Live Entertainment,Senior,Social
ATTACH;FMTTYPE=image/png:https://thepinestimes.com/wp-content/uploads/Bowling.png
END:VEVENT
BEGIN:VEVENT
DTSTART;TZID=America/New_York:20260925T180000
DTEND;TZID=America/New_York:20260925T180000
DTSTAMP:20260424T064533
CREATED:20241009T144015Z
LAST-MODIFIED:20260407T171930Z
UID:10086601-1790359200-1790359200@thepinestimes.com
SUMMARY:Cosmic Bowling
DESCRIPTION:Enjoy fun for the whole family with Cosmic Bowling at Sandhills Bowling Center! Cosmic Bowling takes place every Friday and Saturday beginning at 6:00pm.
URL:https://thepinestimes.com/event/cosmic-bowling-2-2-2/2026-09-25/
LOCATION:Sandhills Bowling Center\, 1680 NC Highway 5\, Aberdeen\, NC\, 28315\, United States
CATEGORIES:Aberdeen Events,Adults,Bowling,Children,Family,Games,Health & Wellness,Hobby/Enthusiast,Live Entertainment,Senior,Social
ATTACH;FMTTYPE=image/png:https://thepinestimes.com/wp-content/uploads/Bowling.png
END:VEVENT
BEGIN:VEVENT
DTSTART;TZID=America/New_York:20260926T180000
DTEND;TZID=America/New_York:20260926T180000
DTSTAMP:20260424T064533
CREATED:20241009T144015Z
LAST-MODIFIED:20260407T171930Z
UID:10086602-1790445600-1790445600@thepinestimes.com
SUMMARY:Cosmic Bowling
DESCRIPTION:Enjoy fun for the whole family with Cosmic Bowling at Sandhills Bowling Center! Cosmic Bowling takes place every Friday and Saturday beginning at 6:00pm.
URL:https://thepinestimes.com/event/cosmic-bowling-2-2-2/2026-09-26/
LOCATION:Sandhills Bowling Center\, 1680 NC Highway 5\, Aberdeen\, NC\, 28315\, United States
CATEGORIES:Aberdeen Events,Adults,Bowling,Children,Family,Games,Health & Wellness,Hobby/Enthusiast,Live Entertainment,Senior,Social
ATTACH;FMTTYPE=image/png:https://thepinestimes.com/wp-content/uploads/Bowling.png
END:VEVENT
BEGIN:VEVENT
DTSTART;TZID=America/New_York:20261002T180000
DTEND;TZID=America/New_York:20261002T180000
DTSTAMP:20260424T064533
CREATED:20241009T144015Z
LAST-MODIFIED:20260407T171930Z
UID:10086603-1790964000-1790964000@thepinestimes.com
SUMMARY:Cosmic Bowling
DESCRIPTION:Enjoy fun for the whole family with Cosmic Bowling at Sandhills Bowling Center! Cosmic Bowling takes place every Friday and Saturday beginning at 6:00pm.
URL:https://thepinestimes.com/event/cosmic-bowling-2-2-2/2026-10-02/
LOCATION:Sandhills Bowling Center\, 1680 NC Highway 5\, Aberdeen\, NC\, 28315\, United States
CATEGORIES:Aberdeen Events,Adults,Bowling,Children,Family,Games,Health & Wellness,Hobby/Enthusiast,Live Entertainment,Senior,Social
ATTACH;FMTTYPE=image/png:https://thepinestimes.com/wp-content/uploads/Bowling.png
END:VEVENT
BEGIN:VEVENT
DTSTART;TZID=America/New_York:20261003T180000
DTEND;TZID=America/New_York:20261003T180000
DTSTAMP:20260424T064533
CREATED:20241009T144015Z
LAST-MODIFIED:20260407T171930Z
UID:10086604-1791050400-1791050400@thepinestimes.com
SUMMARY:Cosmic Bowling
DESCRIPTION:Enjoy fun for the whole family with Cosmic Bowling at Sandhills Bowling Center! Cosmic Bowling takes place every Friday and Saturday beginning at 6:00pm.
URL:https://thepinestimes.com/event/cosmic-bowling-2-2-2/2026-10-03/
LOCATION:Sandhills Bowling Center\, 1680 NC Highway 5\, Aberdeen\, NC\, 28315\, United States
CATEGORIES:Aberdeen Events,Adults,Bowling,Children,Family,Games,Health & Wellness,Hobby/Enthusiast,Live Entertainment,Senior,Social
ATTACH;FMTTYPE=image/png:https://thepinestimes.com/wp-content/uploads/Bowling.png
END:VEVENT
BEGIN:VEVENT
DTSTART;TZID=America/New_York:20261009T180000
DTEND;TZID=America/New_York:20261009T180000
DTSTAMP:20260424T064533
CREATED:20241009T144015Z
LAST-MODIFIED:20260407T171930Z
UID:10086605-1791568800-1791568800@thepinestimes.com
SUMMARY:Cosmic Bowling
DESCRIPTION:Enjoy fun for the whole family with Cosmic Bowling at Sandhills Bowling Center! Cosmic Bowling takes place every Friday and Saturday beginning at 6:00pm.
URL:https://thepinestimes.com/event/cosmic-bowling-2-2-2/2026-10-09/
LOCATION:Sandhills Bowling Center\, 1680 NC Highway 5\, Aberdeen\, NC\, 28315\, United States
CATEGORIES:Aberdeen Events,Adults,Bowling,Children,Family,Games,Health & Wellness,Hobby/Enthusiast,Live Entertainment,Senior,Social
ATTACH;FMTTYPE=image/png:https://thepinestimes.com/wp-content/uploads/Bowling.png
END:VEVENT
BEGIN:VEVENT
DTSTART;TZID=America/New_York:20261010T180000
DTEND;TZID=America/New_York:20261010T180000
DTSTAMP:20260424T064533
CREATED:20241009T144015Z
LAST-MODIFIED:20260407T171930Z
UID:10086606-1791655200-1791655200@thepinestimes.com
SUMMARY:Cosmic Bowling
DESCRIPTION:Enjoy fun for the whole family with Cosmic Bowling at Sandhills Bowling Center! Cosmic Bowling takes place every Friday and Saturday beginning at 6:00pm.
URL:https://thepinestimes.com/event/cosmic-bowling-2-2-2/2026-10-10/
LOCATION:Sandhills Bowling Center\, 1680 NC Highway 5\, Aberdeen\, NC\, 28315\, United States
CATEGORIES:Aberdeen Events,Adults,Bowling,Children,Family,Games,Health & Wellness,Hobby/Enthusiast,Live Entertainment,Senior,Social
ATTACH;FMTTYPE=image/png:https://thepinestimes.com/wp-content/uploads/Bowling.png
END:VEVENT
BEGIN:VEVENT
DTSTART;TZID=America/New_York:20261016T180000
DTEND;TZID=America/New_York:20261016T180000
DTSTAMP:20260424T064533
CREATED:20241009T144015Z
LAST-MODIFIED:20260407T171930Z
UID:10086607-1792173600-1792173600@thepinestimes.com
SUMMARY:Cosmic Bowling
DESCRIPTION:Enjoy fun for the whole family with Cosmic Bowling at Sandhills Bowling Center! Cosmic Bowling takes place every Friday and Saturday beginning at 6:00pm.
URL:https://thepinestimes.com/event/cosmic-bowling-2-2-2/2026-10-16/
LOCATION:Sandhills Bowling Center\, 1680 NC Highway 5\, Aberdeen\, NC\, 28315\, United States
CATEGORIES:Aberdeen Events,Adults,Bowling,Children,Family,Games,Health & Wellness,Hobby/Enthusiast,Live Entertainment,Senior,Social
ATTACH;FMTTYPE=image/png:https://thepinestimes.com/wp-content/uploads/Bowling.png
END:VEVENT
BEGIN:VEVENT
DTSTART;TZID=America/New_York:20261017T180000
DTEND;TZID=America/New_York:20261017T180000
DTSTAMP:20260424T064533
CREATED:20241009T144015Z
LAST-MODIFIED:20260407T171930Z
UID:10086608-1792260000-1792260000@thepinestimes.com
SUMMARY:Cosmic Bowling
DESCRIPTION:Enjoy fun for the whole family with Cosmic Bowling at Sandhills Bowling Center! Cosmic Bowling takes place every Friday and Saturday beginning at 6:00pm.
URL:https://thepinestimes.com/event/cosmic-bowling-2-2-2/2026-10-17/
LOCATION:Sandhills Bowling Center\, 1680 NC Highway 5\, Aberdeen\, NC\, 28315\, United States
CATEGORIES:Aberdeen Events,Adults,Bowling,Children,Family,Games,Health & Wellness,Hobby/Enthusiast,Live Entertainment,Senior,Social
ATTACH;FMTTYPE=image/png:https://thepinestimes.com/wp-content/uploads/Bowling.png
END:VEVENT
BEGIN:VEVENT
DTSTART;TZID=America/New_York:20261023T180000
DTEND;TZID=America/New_York:20261023T180000
DTSTAMP:20260424T064533
CREATED:20241009T144015Z
LAST-MODIFIED:20260407T171930Z
UID:10086609-1792778400-1792778400@thepinestimes.com
SUMMARY:Cosmic Bowling
DESCRIPTION:Enjoy fun for the whole family with Cosmic Bowling at Sandhills Bowling Center! Cosmic Bowling takes place every Friday and Saturday beginning at 6:00pm.
URL:https://thepinestimes.com/event/cosmic-bowling-2-2-2/2026-10-23/
LOCATION:Sandhills Bowling Center\, 1680 NC Highway 5\, Aberdeen\, NC\, 28315\, United States
CATEGORIES:Aberdeen Events,Adults,Bowling,Children,Family,Games,Health & Wellness,Hobby/Enthusiast,Live Entertainment,Senior,Social
ATTACH;FMTTYPE=image/png:https://thepinestimes.com/wp-content/uploads/Bowling.png
END:VEVENT
BEGIN:VEVENT
DTSTART;TZID=America/New_York:20261024T180000
DTEND;TZID=America/New_York:20261024T180000
DTSTAMP:20260424T064533
CREATED:20241009T144015Z
LAST-MODIFIED:20260407T171930Z
UID:10086610-1792864800-1792864800@thepinestimes.com
SUMMARY:Cosmic Bowling
DESCRIPTION:Enjoy fun for the whole family with Cosmic Bowling at Sandhills Bowling Center! Cosmic Bowling takes place every Friday and Saturday beginning at 6:00pm.
URL:https://thepinestimes.com/event/cosmic-bowling-2-2-2/2026-10-24/
LOCATION:Sandhills Bowling Center\, 1680 NC Highway 5\, Aberdeen\, NC\, 28315\, United States
CATEGORIES:Aberdeen Events,Adults,Bowling,Children,Family,Games,Health & Wellness,Hobby/Enthusiast,Live Entertainment,Senior,Social
ATTACH;FMTTYPE=image/png:https://thepinestimes.com/wp-content/uploads/Bowling.png
END:VEVENT
END:VCALENDAR