BEGIN:VCALENDAR
VERSION:2.0
PRODID:-//The Pines Times - ECPv6.15.20//NONSGML v1.0//EN
CALSCALE:GREGORIAN
METHOD:PUBLISH
X-WR-CALNAME:The Pines Times
X-ORIGINAL-URL:https://thepinestimes.com
X-WR-CALDESC:Events for The Pines Times
REFRESH-INTERVAL;VALUE=DURATION:PT1H
X-Robots-Tag:noindex
X-PUBLISHED-TTL:PT1H
BEGIN:VTIMEZONE
TZID:America/New_York
BEGIN:DAYLIGHT
TZOFFSETFROM:-0500
TZOFFSETTO:-0400
TZNAME:EDT
DTSTART:20240310T070000
END:DAYLIGHT
BEGIN:STANDARD
TZOFFSETFROM:-0400
TZOFFSETTO:-0500
TZNAME:EST
DTSTART:20241103T060000
END:STANDARD
BEGIN:DAYLIGHT
TZOFFSETFROM:-0500
TZOFFSETTO:-0400
TZNAME:EDT
DTSTART:20250309T070000
END:DAYLIGHT
BEGIN:STANDARD
TZOFFSETFROM:-0400
TZOFFSETTO:-0500
TZNAME:EST
DTSTART:20251102T060000
END:STANDARD
BEGIN:DAYLIGHT
TZOFFSETFROM:-0500
TZOFFSETTO:-0400
TZNAME:EDT
DTSTART:20260308T070000
END:DAYLIGHT
BEGIN:STANDARD
TZOFFSETFROM:-0400
TZOFFSETTO:-0500
TZNAME:EST
DTSTART:20261101T060000
END:STANDARD
END:VTIMEZONE
BEGIN:VEVENT
DTSTART;TZID=America/New_York:20251115T180000
DTEND;TZID=America/New_York:20251115T180000
DTSTAMP:20260424T192445
CREATED:20241009T144015Z
LAST-MODIFIED:20260407T171930Z
UID:10076791-1763229600-1763229600@thepinestimes.com
SUMMARY:Cosmic Bowling
DESCRIPTION:Enjoy fun for the whole family with Cosmic Bowling at Sandhills Bowling Center! Cosmic Bowling takes place every Friday and Saturday beginning at 6:00pm.
URL:https://thepinestimes.com/event/cosmic-bowling-2-2-2/2025-11-15/
LOCATION:Sandhills Bowling Center\, 1680 NC Highway 5\, Aberdeen\, NC\, 28315\, United States
CATEGORIES:Aberdeen Events,Adults,Bowling,Children,Family,Games,Health & Wellness,Hobby/Enthusiast,Live Entertainment,Senior,Social
ATTACH;FMTTYPE=image/png:https://thepinestimes.com/wp-content/uploads/Bowling.png
END:VEVENT
BEGIN:VEVENT
DTSTART;TZID=America/New_York:20251114T180000
DTEND;TZID=America/New_York:20251114T180000
DTSTAMP:20260424T192445
CREATED:20241009T144015Z
LAST-MODIFIED:20260407T171930Z
UID:10076790-1763143200-1763143200@thepinestimes.com
SUMMARY:Cosmic Bowling
DESCRIPTION:Enjoy fun for the whole family with Cosmic Bowling at Sandhills Bowling Center! Cosmic Bowling takes place every Friday and Saturday beginning at 6:00pm.
URL:https://thepinestimes.com/event/cosmic-bowling-2-2-2/2025-11-14/
LOCATION:Sandhills Bowling Center\, 1680 NC Highway 5\, Aberdeen\, NC\, 28315\, United States
CATEGORIES:Aberdeen Events,Adults,Bowling,Children,Family,Games,Health & Wellness,Hobby/Enthusiast,Live Entertainment,Senior,Social
ATTACH;FMTTYPE=image/png:https://thepinestimes.com/wp-content/uploads/Bowling.png
END:VEVENT
BEGIN:VEVENT
DTSTART;TZID=America/New_York:20251108T180000
DTEND;TZID=America/New_York:20251108T180000
DTSTAMP:20260424T192445
CREATED:20241009T144015Z
LAST-MODIFIED:20260407T171930Z
UID:10076789-1762624800-1762624800@thepinestimes.com
SUMMARY:Cosmic Bowling
DESCRIPTION:Enjoy fun for the whole family with Cosmic Bowling at Sandhills Bowling Center! Cosmic Bowling takes place every Friday and Saturday beginning at 6:00pm.
URL:https://thepinestimes.com/event/cosmic-bowling-2-2-2/2025-11-08/
LOCATION:Sandhills Bowling Center\, 1680 NC Highway 5\, Aberdeen\, NC\, 28315\, United States
CATEGORIES:Aberdeen Events,Adults,Bowling,Children,Family,Games,Health & Wellness,Hobby/Enthusiast,Live Entertainment,Senior,Social
ATTACH;FMTTYPE=image/png:https://thepinestimes.com/wp-content/uploads/Bowling.png
END:VEVENT
BEGIN:VEVENT
DTSTART;TZID=America/New_York:20251107T180000
DTEND;TZID=America/New_York:20251107T180000
DTSTAMP:20260424T192445
CREATED:20241009T144015Z
LAST-MODIFIED:20260407T171930Z
UID:10076788-1762538400-1762538400@thepinestimes.com
SUMMARY:Cosmic Bowling
DESCRIPTION:Enjoy fun for the whole family with Cosmic Bowling at Sandhills Bowling Center! Cosmic Bowling takes place every Friday and Saturday beginning at 6:00pm.
URL:https://thepinestimes.com/event/cosmic-bowling-2-2-2/2025-11-07/
LOCATION:Sandhills Bowling Center\, 1680 NC Highway 5\, Aberdeen\, NC\, 28315\, United States
CATEGORIES:Aberdeen Events,Adults,Bowling,Children,Family,Games,Health & Wellness,Hobby/Enthusiast,Live Entertainment,Senior,Social
ATTACH;FMTTYPE=image/png:https://thepinestimes.com/wp-content/uploads/Bowling.png
END:VEVENT
BEGIN:VEVENT
DTSTART;TZID=America/New_York:20251101T180000
DTEND;TZID=America/New_York:20251101T180000
DTSTAMP:20260424T192445
CREATED:20241009T144015Z
LAST-MODIFIED:20260407T171930Z
UID:10076787-1762020000-1762020000@thepinestimes.com
SUMMARY:Cosmic Bowling
DESCRIPTION:Enjoy fun for the whole family with Cosmic Bowling at Sandhills Bowling Center! Cosmic Bowling takes place every Friday and Saturday beginning at 6:00pm.
URL:https://thepinestimes.com/event/cosmic-bowling-2-2-2/2025-11-01/
LOCATION:Sandhills Bowling Center\, 1680 NC Highway 5\, Aberdeen\, NC\, 28315\, United States
CATEGORIES:Aberdeen Events,Adults,Bowling,Children,Family,Games,Health & Wellness,Hobby/Enthusiast,Live Entertainment,Senior,Social
ATTACH;FMTTYPE=image/png:https://thepinestimes.com/wp-content/uploads/Bowling.png
END:VEVENT
BEGIN:VEVENT
DTSTART;TZID=America/New_York:20251031T180000
DTEND;TZID=America/New_York:20251031T180000
DTSTAMP:20260424T192445
CREATED:20241009T144015Z
LAST-MODIFIED:20260407T171930Z
UID:10076786-1761933600-1761933600@thepinestimes.com
SUMMARY:Cosmic Bowling
DESCRIPTION:Enjoy fun for the whole family with Cosmic Bowling at Sandhills Bowling Center! Cosmic Bowling takes place every Friday and Saturday beginning at 6:00pm.
URL:https://thepinestimes.com/event/cosmic-bowling-2-2-2/2025-10-31/
LOCATION:Sandhills Bowling Center\, 1680 NC Highway 5\, Aberdeen\, NC\, 28315\, United States
CATEGORIES:Aberdeen Events,Adults,Bowling,Children,Family,Games,Health & Wellness,Hobby/Enthusiast,Live Entertainment,Senior,Social
ATTACH;FMTTYPE=image/png:https://thepinestimes.com/wp-content/uploads/Bowling.png
END:VEVENT
BEGIN:VEVENT
DTSTART;TZID=America/New_York:20251025T180000
DTEND;TZID=America/New_York:20251025T180000
DTSTAMP:20260424T192445
CREATED:20241009T144015Z
LAST-MODIFIED:20260407T171930Z
UID:10076785-1761415200-1761415200@thepinestimes.com
SUMMARY:Cosmic Bowling
DESCRIPTION:Enjoy fun for the whole family with Cosmic Bowling at Sandhills Bowling Center! Cosmic Bowling takes place every Friday and Saturday beginning at 6:00pm.
URL:https://thepinestimes.com/event/cosmic-bowling-2-2-2/2025-10-25/
LOCATION:Sandhills Bowling Center\, 1680 NC Highway 5\, Aberdeen\, NC\, 28315\, United States
CATEGORIES:Aberdeen Events,Adults,Bowling,Children,Family,Games,Health & Wellness,Hobby/Enthusiast,Live Entertainment,Senior,Social
ATTACH;FMTTYPE=image/png:https://thepinestimes.com/wp-content/uploads/Bowling.png
END:VEVENT
BEGIN:VEVENT
DTSTART;TZID=America/New_York:20251024T180000
DTEND;TZID=America/New_York:20251024T180000
DTSTAMP:20260424T192445
CREATED:20241009T144015Z
LAST-MODIFIED:20260407T171930Z
UID:10076784-1761328800-1761328800@thepinestimes.com
SUMMARY:Cosmic Bowling
DESCRIPTION:Enjoy fun for the whole family with Cosmic Bowling at Sandhills Bowling Center! Cosmic Bowling takes place every Friday and Saturday beginning at 6:00pm.
URL:https://thepinestimes.com/event/cosmic-bowling-2-2-2/2025-10-24/
LOCATION:Sandhills Bowling Center\, 1680 NC Highway 5\, Aberdeen\, NC\, 28315\, United States
CATEGORIES:Aberdeen Events,Adults,Bowling,Children,Family,Games,Health & Wellness,Hobby/Enthusiast,Live Entertainment,Senior,Social
ATTACH;FMTTYPE=image/png:https://thepinestimes.com/wp-content/uploads/Bowling.png
END:VEVENT
BEGIN:VEVENT
DTSTART;TZID=America/New_York:20251018T180000
DTEND;TZID=America/New_York:20251018T180000
DTSTAMP:20260424T192445
CREATED:20241009T144015Z
LAST-MODIFIED:20260407T171930Z
UID:10076783-1760810400-1760810400@thepinestimes.com
SUMMARY:Cosmic Bowling
DESCRIPTION:Enjoy fun for the whole family with Cosmic Bowling at Sandhills Bowling Center! Cosmic Bowling takes place every Friday and Saturday beginning at 6:00pm.
URL:https://thepinestimes.com/event/cosmic-bowling-2-2-2/2025-10-18/
LOCATION:Sandhills Bowling Center\, 1680 NC Highway 5\, Aberdeen\, NC\, 28315\, United States
CATEGORIES:Aberdeen Events,Adults,Bowling,Children,Family,Games,Health & Wellness,Hobby/Enthusiast,Live Entertainment,Senior,Social
ATTACH;FMTTYPE=image/png:https://thepinestimes.com/wp-content/uploads/Bowling.png
END:VEVENT
BEGIN:VEVENT
DTSTART;TZID=America/New_York:20251017T180000
DTEND;TZID=America/New_York:20251017T180000
DTSTAMP:20260424T192445
CREATED:20241009T144015Z
LAST-MODIFIED:20260407T171930Z
UID:10076782-1760724000-1760724000@thepinestimes.com
SUMMARY:Cosmic Bowling
DESCRIPTION:Enjoy fun for the whole family with Cosmic Bowling at Sandhills Bowling Center! Cosmic Bowling takes place every Friday and Saturday beginning at 6:00pm.
URL:https://thepinestimes.com/event/cosmic-bowling-2-2-2/2025-10-17/
LOCATION:Sandhills Bowling Center\, 1680 NC Highway 5\, Aberdeen\, NC\, 28315\, United States
CATEGORIES:Aberdeen Events,Adults,Bowling,Children,Family,Games,Health & Wellness,Hobby/Enthusiast,Live Entertainment,Senior,Social
ATTACH;FMTTYPE=image/png:https://thepinestimes.com/wp-content/uploads/Bowling.png
END:VEVENT
BEGIN:VEVENT
DTSTART;TZID=America/New_York:20251011T180000
DTEND;TZID=America/New_York:20251011T180000
DTSTAMP:20260424T192445
CREATED:20241009T144015Z
LAST-MODIFIED:20260407T171930Z
UID:10076781-1760205600-1760205600@thepinestimes.com
SUMMARY:Cosmic Bowling
DESCRIPTION:Enjoy fun for the whole family with Cosmic Bowling at Sandhills Bowling Center! Cosmic Bowling takes place every Friday and Saturday beginning at 6:00pm.
URL:https://thepinestimes.com/event/cosmic-bowling-2-2-2/2025-10-11/
LOCATION:Sandhills Bowling Center\, 1680 NC Highway 5\, Aberdeen\, NC\, 28315\, United States
CATEGORIES:Aberdeen Events,Adults,Bowling,Children,Family,Games,Health & Wellness,Hobby/Enthusiast,Live Entertainment,Senior,Social
ATTACH;FMTTYPE=image/png:https://thepinestimes.com/wp-content/uploads/Bowling.png
END:VEVENT
BEGIN:VEVENT
DTSTART;TZID=America/New_York:20251010T180000
DTEND;TZID=America/New_York:20251010T180000
DTSTAMP:20260424T192445
CREATED:20241009T144015Z
LAST-MODIFIED:20260407T171930Z
UID:10076780-1760119200-1760119200@thepinestimes.com
SUMMARY:Cosmic Bowling
DESCRIPTION:Enjoy fun for the whole family with Cosmic Bowling at Sandhills Bowling Center! Cosmic Bowling takes place every Friday and Saturday beginning at 6:00pm.
URL:https://thepinestimes.com/event/cosmic-bowling-2-2-2/2025-10-10/
LOCATION:Sandhills Bowling Center\, 1680 NC Highway 5\, Aberdeen\, NC\, 28315\, United States
CATEGORIES:Aberdeen Events,Adults,Bowling,Children,Family,Games,Health & Wellness,Hobby/Enthusiast,Live Entertainment,Senior,Social
ATTACH;FMTTYPE=image/png:https://thepinestimes.com/wp-content/uploads/Bowling.png
END:VEVENT
BEGIN:VEVENT
DTSTART;TZID=America/New_York:20251004T180000
DTEND;TZID=America/New_York:20251004T180000
DTSTAMP:20260424T192445
CREATED:20241009T144015Z
LAST-MODIFIED:20260407T171930Z
UID:10076779-1759600800-1759600800@thepinestimes.com
SUMMARY:Cosmic Bowling
DESCRIPTION:Enjoy fun for the whole family with Cosmic Bowling at Sandhills Bowling Center! Cosmic Bowling takes place every Friday and Saturday beginning at 6:00pm.
URL:https://thepinestimes.com/event/cosmic-bowling-2-2-2/2025-10-04/
LOCATION:Sandhills Bowling Center\, 1680 NC Highway 5\, Aberdeen\, NC\, 28315\, United States
CATEGORIES:Aberdeen Events,Adults,Bowling,Children,Family,Games,Health & Wellness,Hobby/Enthusiast,Live Entertainment,Senior,Social
ATTACH;FMTTYPE=image/png:https://thepinestimes.com/wp-content/uploads/Bowling.png
END:VEVENT
BEGIN:VEVENT
DTSTART;TZID=America/New_York:20251003T180000
DTEND;TZID=America/New_York:20251003T180000
DTSTAMP:20260424T192445
CREATED:20241009T144015Z
LAST-MODIFIED:20260407T171930Z
UID:10076778-1759514400-1759514400@thepinestimes.com
SUMMARY:Cosmic Bowling
DESCRIPTION:Enjoy fun for the whole family with Cosmic Bowling at Sandhills Bowling Center! Cosmic Bowling takes place every Friday and Saturday beginning at 6:00pm.
URL:https://thepinestimes.com/event/cosmic-bowling-2-2-2/2025-10-03/
LOCATION:Sandhills Bowling Center\, 1680 NC Highway 5\, Aberdeen\, NC\, 28315\, United States
CATEGORIES:Aberdeen Events,Adults,Bowling,Children,Family,Games,Health & Wellness,Hobby/Enthusiast,Live Entertainment,Senior,Social
ATTACH;FMTTYPE=image/png:https://thepinestimes.com/wp-content/uploads/Bowling.png
END:VEVENT
BEGIN:VEVENT
DTSTART;TZID=America/New_York:20250927T180000
DTEND;TZID=America/New_York:20250927T180000
DTSTAMP:20260424T192445
CREATED:20241009T144015Z
LAST-MODIFIED:20260407T171930Z
UID:10060548-1758996000-1758996000@thepinestimes.com
SUMMARY:Cosmic Bowling
DESCRIPTION:Enjoy fun for the whole family with Cosmic Bowling at Sandhills Bowling Center! Cosmic Bowling takes place every Friday and Saturday beginning at 6:00pm.
URL:https://thepinestimes.com/event/cosmic-bowling-2-2-2/2025-09-27/
LOCATION:Sandhills Bowling Center\, 1680 NC Highway 5\, Aberdeen\, NC\, 28315\, United States
CATEGORIES:Aberdeen Events,Adults,Bowling,Children,Family,Games,Health & Wellness,Hobby/Enthusiast,Live Entertainment,Senior,Social
ATTACH;FMTTYPE=image/png:https://thepinestimes.com/wp-content/uploads/Bowling.png
END:VEVENT
BEGIN:VEVENT
DTSTART;TZID=America/New_York:20250926T180000
DTEND;TZID=America/New_York:20250926T180000
DTSTAMP:20260424T192445
CREATED:20241009T144015Z
LAST-MODIFIED:20260407T171930Z
UID:10060547-1758909600-1758909600@thepinestimes.com
SUMMARY:Cosmic Bowling
DESCRIPTION:Enjoy fun for the whole family with Cosmic Bowling at Sandhills Bowling Center! Cosmic Bowling takes place every Friday and Saturday beginning at 6:00pm.
URL:https://thepinestimes.com/event/cosmic-bowling-2-2-2/2025-09-26/
LOCATION:Sandhills Bowling Center\, 1680 NC Highway 5\, Aberdeen\, NC\, 28315\, United States
CATEGORIES:Aberdeen Events,Adults,Bowling,Children,Family,Games,Health & Wellness,Hobby/Enthusiast,Live Entertainment,Senior,Social
ATTACH;FMTTYPE=image/png:https://thepinestimes.com/wp-content/uploads/Bowling.png
END:VEVENT
BEGIN:VEVENT
DTSTART;TZID=America/New_York:20250920T180000
DTEND;TZID=America/New_York:20250920T180000
DTSTAMP:20260424T192445
CREATED:20241009T144015Z
LAST-MODIFIED:20260407T171930Z
UID:10060546-1758391200-1758391200@thepinestimes.com
SUMMARY:Cosmic Bowling
DESCRIPTION:Enjoy fun for the whole family with Cosmic Bowling at Sandhills Bowling Center! Cosmic Bowling takes place every Friday and Saturday beginning at 6:00pm.
URL:https://thepinestimes.com/event/cosmic-bowling-2-2-2/2025-09-20/
LOCATION:Sandhills Bowling Center\, 1680 NC Highway 5\, Aberdeen\, NC\, 28315\, United States
CATEGORIES:Aberdeen Events,Adults,Bowling,Children,Family,Games,Health & Wellness,Hobby/Enthusiast,Live Entertainment,Senior,Social
ATTACH;FMTTYPE=image/png:https://thepinestimes.com/wp-content/uploads/Bowling.png
END:VEVENT
BEGIN:VEVENT
DTSTART;TZID=America/New_York:20250919T180000
DTEND;TZID=America/New_York:20250919T180000
DTSTAMP:20260424T192445
CREATED:20241009T144015Z
LAST-MODIFIED:20260407T171930Z
UID:10060545-1758304800-1758304800@thepinestimes.com
SUMMARY:Cosmic Bowling
DESCRIPTION:Enjoy fun for the whole family with Cosmic Bowling at Sandhills Bowling Center! Cosmic Bowling takes place every Friday and Saturday beginning at 6:00pm.
URL:https://thepinestimes.com/event/cosmic-bowling-2-2-2/2025-09-19/
LOCATION:Sandhills Bowling Center\, 1680 NC Highway 5\, Aberdeen\, NC\, 28315\, United States
CATEGORIES:Aberdeen Events,Adults,Bowling,Children,Family,Games,Health & Wellness,Hobby/Enthusiast,Live Entertainment,Senior,Social
ATTACH;FMTTYPE=image/png:https://thepinestimes.com/wp-content/uploads/Bowling.png
END:VEVENT
BEGIN:VEVENT
DTSTART;TZID=America/New_York:20250913T180000
DTEND;TZID=America/New_York:20250913T180000
DTSTAMP:20260424T192445
CREATED:20241009T144015Z
LAST-MODIFIED:20260407T171930Z
UID:10060544-1757786400-1757786400@thepinestimes.com
SUMMARY:Cosmic Bowling
DESCRIPTION:Enjoy fun for the whole family with Cosmic Bowling at Sandhills Bowling Center! Cosmic Bowling takes place every Friday and Saturday beginning at 6:00pm.
URL:https://thepinestimes.com/event/cosmic-bowling-2-2-2/2025-09-13/
LOCATION:Sandhills Bowling Center\, 1680 NC Highway 5\, Aberdeen\, NC\, 28315\, United States
CATEGORIES:Aberdeen Events,Adults,Bowling,Children,Family,Games,Health & Wellness,Hobby/Enthusiast,Live Entertainment,Senior,Social
ATTACH;FMTTYPE=image/png:https://thepinestimes.com/wp-content/uploads/Bowling.png
END:VEVENT
BEGIN:VEVENT
DTSTART;TZID=America/New_York:20250912T180000
DTEND;TZID=America/New_York:20250912T180000
DTSTAMP:20260424T192445
CREATED:20241009T144015Z
LAST-MODIFIED:20260407T171930Z
UID:10060543-1757700000-1757700000@thepinestimes.com
SUMMARY:Cosmic Bowling
DESCRIPTION:Enjoy fun for the whole family with Cosmic Bowling at Sandhills Bowling Center! Cosmic Bowling takes place every Friday and Saturday beginning at 6:00pm.
URL:https://thepinestimes.com/event/cosmic-bowling-2-2-2/2025-09-12/
LOCATION:Sandhills Bowling Center\, 1680 NC Highway 5\, Aberdeen\, NC\, 28315\, United States
CATEGORIES:Aberdeen Events,Adults,Bowling,Children,Family,Games,Health & Wellness,Hobby/Enthusiast,Live Entertainment,Senior,Social
ATTACH;FMTTYPE=image/png:https://thepinestimes.com/wp-content/uploads/Bowling.png
END:VEVENT
BEGIN:VEVENT
DTSTART;TZID=America/New_York:20250906T180000
DTEND;TZID=America/New_York:20250906T180000
DTSTAMP:20260424T192445
CREATED:20241009T144015Z
LAST-MODIFIED:20260407T171930Z
UID:10060542-1757181600-1757181600@thepinestimes.com
SUMMARY:Cosmic Bowling
DESCRIPTION:Enjoy fun for the whole family with Cosmic Bowling at Sandhills Bowling Center! Cosmic Bowling takes place every Friday and Saturday beginning at 6:00pm.
URL:https://thepinestimes.com/event/cosmic-bowling-2-2-2/2025-09-06/
LOCATION:Sandhills Bowling Center\, 1680 NC Highway 5\, Aberdeen\, NC\, 28315\, United States
CATEGORIES:Aberdeen Events,Adults,Bowling,Children,Family,Games,Health & Wellness,Hobby/Enthusiast,Live Entertainment,Senior,Social
ATTACH;FMTTYPE=image/png:https://thepinestimes.com/wp-content/uploads/Bowling.png
END:VEVENT
BEGIN:VEVENT
DTSTART;TZID=America/New_York:20250905T180000
DTEND;TZID=America/New_York:20250905T180000
DTSTAMP:20260424T192445
CREATED:20241009T144015Z
LAST-MODIFIED:20260407T171930Z
UID:10060541-1757095200-1757095200@thepinestimes.com
SUMMARY:Cosmic Bowling
DESCRIPTION:Enjoy fun for the whole family with Cosmic Bowling at Sandhills Bowling Center! Cosmic Bowling takes place every Friday and Saturday beginning at 6:00pm.
URL:https://thepinestimes.com/event/cosmic-bowling-2-2-2/2025-09-05/
LOCATION:Sandhills Bowling Center\, 1680 NC Highway 5\, Aberdeen\, NC\, 28315\, United States
CATEGORIES:Aberdeen Events,Adults,Bowling,Children,Family,Games,Health & Wellness,Hobby/Enthusiast,Live Entertainment,Senior,Social
ATTACH;FMTTYPE=image/png:https://thepinestimes.com/wp-content/uploads/Bowling.png
END:VEVENT
BEGIN:VEVENT
DTSTART;TZID=America/New_York:20250830T180000
DTEND;TZID=America/New_York:20250830T180000
DTSTAMP:20260424T192445
CREATED:20241009T144015Z
LAST-MODIFIED:20260407T171930Z
UID:10060540-1756576800-1756576800@thepinestimes.com
SUMMARY:Cosmic Bowling
DESCRIPTION:Enjoy fun for the whole family with Cosmic Bowling at Sandhills Bowling Center! Cosmic Bowling takes place every Friday and Saturday beginning at 6:00pm.
URL:https://thepinestimes.com/event/cosmic-bowling-2-2-2/2025-08-30/
LOCATION:Sandhills Bowling Center\, 1680 NC Highway 5\, Aberdeen\, NC\, 28315\, United States
CATEGORIES:Aberdeen Events,Adults,Bowling,Children,Family,Games,Health & Wellness,Hobby/Enthusiast,Live Entertainment,Senior,Social
ATTACH;FMTTYPE=image/png:https://thepinestimes.com/wp-content/uploads/Bowling.png
END:VEVENT
BEGIN:VEVENT
DTSTART;TZID=America/New_York:20250829T180000
DTEND;TZID=America/New_York:20250829T180000
DTSTAMP:20260424T192445
CREATED:20241009T144015Z
LAST-MODIFIED:20260407T171930Z
UID:10060539-1756490400-1756490400@thepinestimes.com
SUMMARY:Cosmic Bowling
DESCRIPTION:Enjoy fun for the whole family with Cosmic Bowling at Sandhills Bowling Center! Cosmic Bowling takes place every Friday and Saturday beginning at 6:00pm.
URL:https://thepinestimes.com/event/cosmic-bowling-2-2-2/2025-08-29/
LOCATION:Sandhills Bowling Center\, 1680 NC Highway 5\, Aberdeen\, NC\, 28315\, United States
CATEGORIES:Aberdeen Events,Adults,Bowling,Children,Family,Games,Health & Wellness,Hobby/Enthusiast,Live Entertainment,Senior,Social
ATTACH;FMTTYPE=image/png:https://thepinestimes.com/wp-content/uploads/Bowling.png
END:VEVENT
BEGIN:VEVENT
DTSTART;TZID=America/New_York:20250823T180000
DTEND;TZID=America/New_York:20250823T180000
DTSTAMP:20260424T192445
CREATED:20241009T144015Z
LAST-MODIFIED:20260407T171930Z
UID:10060538-1755972000-1755972000@thepinestimes.com
SUMMARY:Cosmic Bowling
DESCRIPTION:Enjoy fun for the whole family with Cosmic Bowling at Sandhills Bowling Center! Cosmic Bowling takes place every Friday and Saturday beginning at 6:00pm.
URL:https://thepinestimes.com/event/cosmic-bowling-2-2-2/2025-08-23/
LOCATION:Sandhills Bowling Center\, 1680 NC Highway 5\, Aberdeen\, NC\, 28315\, United States
CATEGORIES:Aberdeen Events,Adults,Bowling,Children,Family,Games,Health & Wellness,Hobby/Enthusiast,Live Entertainment,Senior,Social
ATTACH;FMTTYPE=image/png:https://thepinestimes.com/wp-content/uploads/Bowling.png
END:VEVENT
BEGIN:VEVENT
DTSTART;TZID=America/New_York:20250822T180000
DTEND;TZID=America/New_York:20250822T180000
DTSTAMP:20260424T192445
CREATED:20241009T144015Z
LAST-MODIFIED:20260407T171930Z
UID:10060537-1755885600-1755885600@thepinestimes.com
SUMMARY:Cosmic Bowling
DESCRIPTION:Enjoy fun for the whole family with Cosmic Bowling at Sandhills Bowling Center! Cosmic Bowling takes place every Friday and Saturday beginning at 6:00pm.
URL:https://thepinestimes.com/event/cosmic-bowling-2-2-2/2025-08-22/
LOCATION:Sandhills Bowling Center\, 1680 NC Highway 5\, Aberdeen\, NC\, 28315\, United States
CATEGORIES:Aberdeen Events,Adults,Bowling,Children,Family,Games,Health & Wellness,Hobby/Enthusiast,Live Entertainment,Senior,Social
ATTACH;FMTTYPE=image/png:https://thepinestimes.com/wp-content/uploads/Bowling.png
END:VEVENT
BEGIN:VEVENT
DTSTART;TZID=America/New_York:20250816T180000
DTEND;TZID=America/New_York:20250816T180000
DTSTAMP:20260424T192445
CREATED:20241009T144015Z
LAST-MODIFIED:20260407T171930Z
UID:10060536-1755367200-1755367200@thepinestimes.com
SUMMARY:Cosmic Bowling
DESCRIPTION:Enjoy fun for the whole family with Cosmic Bowling at Sandhills Bowling Center! Cosmic Bowling takes place every Friday and Saturday beginning at 6:00pm.
URL:https://thepinestimes.com/event/cosmic-bowling-2-2-2/2025-08-16/
LOCATION:Sandhills Bowling Center\, 1680 NC Highway 5\, Aberdeen\, NC\, 28315\, United States
CATEGORIES:Aberdeen Events,Adults,Bowling,Children,Family,Games,Health & Wellness,Hobby/Enthusiast,Live Entertainment,Senior,Social
ATTACH;FMTTYPE=image/png:https://thepinestimes.com/wp-content/uploads/Bowling.png
END:VEVENT
BEGIN:VEVENT
DTSTART;TZID=America/New_York:20250815T180000
DTEND;TZID=America/New_York:20250815T180000
DTSTAMP:20260424T192445
CREATED:20241009T144015Z
LAST-MODIFIED:20260407T171930Z
UID:10060535-1755280800-1755280800@thepinestimes.com
SUMMARY:Cosmic Bowling
DESCRIPTION:Enjoy fun for the whole family with Cosmic Bowling at Sandhills Bowling Center! Cosmic Bowling takes place every Friday and Saturday beginning at 6:00pm.
URL:https://thepinestimes.com/event/cosmic-bowling-2-2-2/2025-08-15/
LOCATION:Sandhills Bowling Center\, 1680 NC Highway 5\, Aberdeen\, NC\, 28315\, United States
CATEGORIES:Aberdeen Events,Adults,Bowling,Children,Family,Games,Health & Wellness,Hobby/Enthusiast,Live Entertainment,Senior,Social
ATTACH;FMTTYPE=image/png:https://thepinestimes.com/wp-content/uploads/Bowling.png
END:VEVENT
BEGIN:VEVENT
DTSTART;TZID=America/New_York:20250809T180000
DTEND;TZID=America/New_York:20250809T180000
DTSTAMP:20260424T192445
CREATED:20241009T144015Z
LAST-MODIFIED:20260407T171930Z
UID:10060534-1754762400-1754762400@thepinestimes.com
SUMMARY:Cosmic Bowling
DESCRIPTION:Enjoy fun for the whole family with Cosmic Bowling at Sandhills Bowling Center! Cosmic Bowling takes place every Friday and Saturday beginning at 6:00pm.
URL:https://thepinestimes.com/event/cosmic-bowling-2-2-2/2025-08-09/
LOCATION:Sandhills Bowling Center\, 1680 NC Highway 5\, Aberdeen\, NC\, 28315\, United States
CATEGORIES:Aberdeen Events,Adults,Bowling,Children,Family,Games,Health & Wellness,Hobby/Enthusiast,Live Entertainment,Senior,Social
ATTACH;FMTTYPE=image/png:https://thepinestimes.com/wp-content/uploads/Bowling.png
END:VEVENT
BEGIN:VEVENT
DTSTART;TZID=America/New_York:20250808T180000
DTEND;TZID=America/New_York:20250808T180000
DTSTAMP:20260424T192445
CREATED:20241009T144015Z
LAST-MODIFIED:20260407T171930Z
UID:10060533-1754676000-1754676000@thepinestimes.com
SUMMARY:Cosmic Bowling
DESCRIPTION:Enjoy fun for the whole family with Cosmic Bowling at Sandhills Bowling Center! Cosmic Bowling takes place every Friday and Saturday beginning at 6:00pm.
URL:https://thepinestimes.com/event/cosmic-bowling-2-2-2/2025-08-08/
LOCATION:Sandhills Bowling Center\, 1680 NC Highway 5\, Aberdeen\, NC\, 28315\, United States
CATEGORIES:Aberdeen Events,Adults,Bowling,Children,Family,Games,Health & Wellness,Hobby/Enthusiast,Live Entertainment,Senior,Social
ATTACH;FMTTYPE=image/png:https://thepinestimes.com/wp-content/uploads/Bowling.png
END:VEVENT
END:VCALENDAR