BEGIN:VCALENDAR
VERSION:2.0
PRODID:-//The Pines Times - ECPv6.15.20//NONSGML v1.0//EN
CALSCALE:GREGORIAN
METHOD:PUBLISH
X-WR-CALNAME:The Pines Times
X-ORIGINAL-URL:https://thepinestimes.com
X-WR-CALDESC:Events for The Pines Times
REFRESH-INTERVAL;VALUE=DURATION:PT1H
X-Robots-Tag:noindex
X-PUBLISHED-TTL:PT1H
BEGIN:VTIMEZONE
TZID:America/New_York
BEGIN:DAYLIGHT
TZOFFSETFROM:-0500
TZOFFSETTO:-0400
TZNAME:EDT
DTSTART:20250309T070000
END:DAYLIGHT
BEGIN:STANDARD
TZOFFSETFROM:-0400
TZOFFSETTO:-0500
TZNAME:EST
DTSTART:20251102T060000
END:STANDARD
BEGIN:DAYLIGHT
TZOFFSETFROM:-0500
TZOFFSETTO:-0400
TZNAME:EDT
DTSTART:20260308T070000
END:DAYLIGHT
BEGIN:STANDARD
TZOFFSETFROM:-0400
TZOFFSETTO:-0500
TZNAME:EST
DTSTART:20261101T060000
END:STANDARD
BEGIN:DAYLIGHT
TZOFFSETFROM:-0500
TZOFFSETTO:-0400
TZNAME:EDT
DTSTART:20270314T070000
END:DAYLIGHT
BEGIN:STANDARD
TZOFFSETFROM:-0400
TZOFFSETTO:-0500
TZNAME:EST
DTSTART:20271107T060000
END:STANDARD
END:VTIMEZONE
BEGIN:VEVENT
DTSTART;TZID=America/New_York:20260503T160000
DTEND;TZID=America/New_York:20260503T173000
DTSTAMP:20260423T022904
CREATED:20260420T135933Z
LAST-MODIFIED:20260420T140249Z
UID:10086992-1777824000-1777829400@thepinestimes.com
SUMMARY:SCC Music Department Spring Concert 2026
DESCRIPTION:Join as Sandhills Community College Music Department presents the Spring Concert 2026 on Sunday\, May 3rd at 4:00PM in BPAC’s Owens Auditorium! The program will feature choral works performed by the Sandhills Community College Choir\, piano students\, and faculty. You’ll thrill to a wide variety of vocal and piano selections from a multiplicity of musical genres. \nAdmission is free; however\, tickets are required to enter. Donations for Sandhills Community College’s Music Program are much needed and most welcome. Seating is general admission. \nLOBBY DOORS and the BOX OFFICE open 1 hour before showtime. THEATER DOORS open for seating approximately 30 minutes before showtime. \nFull details and online ticket purchases can be found through the event website link below.
URL:https://thepinestimes.com/event/scc-music-department-spring-concert-2026/
LOCATION:Owens Auditorium\, Bradshaw Performing Arts Center\, 3395 Airport Road\, Pinehurst\, NC\, 28374\, United States
CATEGORIES:Arts,Concert,Live Entertainment,Music,Pinehurst Events,School
ATTACH;FMTTYPE=image/jpeg:https://thepinestimes.com/wp-content/uploads/SCCMusicDepartmentFeature1.jpg
END:VEVENT
END:VCALENDAR