BEGIN:VCALENDAR
VERSION:2.0
PRODID:-//The Pines Times - ECPv6.15.20//NONSGML v1.0//EN
CALSCALE:GREGORIAN
METHOD:PUBLISH
X-WR-CALNAME:The Pines Times
X-ORIGINAL-URL:https://thepinestimes.com
X-WR-CALDESC:Events for The Pines Times
REFRESH-INTERVAL;VALUE=DURATION:PT1H
X-Robots-Tag:noindex
X-PUBLISHED-TTL:PT1H
BEGIN:VTIMEZONE
TZID:America/New_York
BEGIN:DAYLIGHT
TZOFFSETFROM:-0500
TZOFFSETTO:-0400
TZNAME:EDT
DTSTART:20250309T070000
END:DAYLIGHT
BEGIN:STANDARD
TZOFFSETFROM:-0400
TZOFFSETTO:-0500
TZNAME:EST
DTSTART:20251102T060000
END:STANDARD
BEGIN:DAYLIGHT
TZOFFSETFROM:-0500
TZOFFSETTO:-0400
TZNAME:EDT
DTSTART:20260308T070000
END:DAYLIGHT
BEGIN:STANDARD
TZOFFSETFROM:-0400
TZOFFSETTO:-0500
TZNAME:EST
DTSTART:20261101T060000
END:STANDARD
BEGIN:DAYLIGHT
TZOFFSETFROM:-0500
TZOFFSETTO:-0400
TZNAME:EDT
DTSTART:20270314T070000
END:DAYLIGHT
BEGIN:STANDARD
TZOFFSETFROM:-0400
TZOFFSETTO:-0500
TZNAME:EST
DTSTART:20271107T060000
END:STANDARD
END:VTIMEZONE
BEGIN:VEVENT
DTSTART;TZID=America/New_York:20260425T100000
DTEND;TZID=America/New_York:20260425T140000
DTSTAMP:20260420T112855
CREATED:20260403T130717Z
LAST-MODIFIED:20260403T131811Z
UID:10086058-1777111200-1777125600@thepinestimes.com
SUMMARY:Garden Carnival 2026 at Sandhills Horticultural Gardens
DESCRIPTION:Let the fun begin! Join us at the Sandhills Horticultural Gardens for an action-packed “Garden Carnival”. Bring the entire family for a day of fun with games\, music\, face painting\, crafts\, and storytelling. Learn about bluebirds\, bugs and bees. Pot up your very own plant to take home and learn about vermicomposting. Do not miss the chance to view live animals\, visit the food trucks and embark on a special garden scavenger hunt. This lively event is perfect for children aged 5-12 (others are welcome)\, offering a hands-on\, outdoor adventure that will delight all of your senses! Children must be accompanied by an adult. \nCost: Garden members $5 per family | Non-members $15 per family. Can be purchased through the event website link provided below. This event will be held rain or shine.
URL:https://thepinestimes.com/event/garden-carnival-2026-at-sandhills-horticultural-gardens/
LOCATION:Sandhills Horticultural Gardens\, 3245 Airport Rd\, Pinehurst\, 28374
CATEGORIES:Children,Fair/Festival,Family,Games,Nature/Outdoors,Pinehurst Events,Piney's Kids,Piney's Tiny's,Pop Ups,Social
ATTACH;FMTTYPE=image/jpeg:https://thepinestimes.com/wp-content/uploads/SCCGardenCarnivalFeature.jpg
END:VEVENT
BEGIN:VEVENT
DTSTART;TZID=America/New_York:20260501T110000
DTEND;TZID=America/New_York:20260501T120000
DTSTAMP:20260420T112855
CREATED:20260414T163801Z
LAST-MODIFIED:20260414T164123Z
UID:10086880-1777633200-1777636800@thepinestimes.com
SUMMARY:Beyond the Box Store Mum: Gardening for a Lifetime
DESCRIPTION:Join Sandhills Horticultural Gardens for Beyond the Box Store Mum: Gardening for a Lifetime on Friday\, May 1st from 11AM-12PM. Step into the captivating world of rare exhibition chrysanthemums—far beyond the familiar garden-center mum. \nIn this engaging presentation\, Joan Matthews explores the history\, extraordinary forms\, and specialized growing techniques behind these stunning\, award‑winning blooms. Learn what makes them so remarkable and how they can shine not only in exhibitions\, but also as dramatic additions to bouquets and garden borders in your home landscape. As a special highlight\, every attendee will receive two complimentary chrysanthemum plants\, generously provided by KingsMums.com\, to take home and grow. \nBeyond chrysanthemums\, Joan brings years of hands-on experience to share practical\, age‑friendly strategies for continuing to garden safely\, successfully\, and joyfully. Discover smart adaptations to tools\, techniques\, and expectations that reduce physical strain while increasing satisfaction and success in the garden. \nBlending floral artistry\, horticultural expertise\, and practical wisdom\, this inspiring program encourages gardeners to grow beautifully—and confidently—at every stage of life. \nFree for Garden Members | $15 for Non-Members
URL:https://thepinestimes.com/event/153287/
LOCATION:SCC Horticulture Gardens\, Ball Visitor Center\, 3395 Airport Road\, Pinehurst\, NC\, 28374\, United States
CATEGORIES:Adults,Discussion,Educational,Gardening,Hobby/Enthusiast,Pinehurst Events,Presentation,Social
ATTACH;FMTTYPE=image/jpeg:https://thepinestimes.com/wp-content/uploads/SandhillsHorticulturalGardensFeature.jpg
END:VEVENT
END:VCALENDAR