BEGIN:VCALENDAR
VERSION:2.0
PRODID:-//The Pines Times - ECPv6.15.20//NONSGML v1.0//EN
CALSCALE:GREGORIAN
METHOD:PUBLISH
X-WR-CALNAME:The Pines Times
X-ORIGINAL-URL:https://thepinestimes.com
X-WR-CALDESC:Events for The Pines Times
REFRESH-INTERVAL;VALUE=DURATION:PT1H
X-Robots-Tag:noindex
X-PUBLISHED-TTL:PT1H
BEGIN:VTIMEZONE
TZID:America/New_York
BEGIN:DAYLIGHT
TZOFFSETFROM:-0500
TZOFFSETTO:-0400
TZNAME:EDT
DTSTART:20240310T070000
END:DAYLIGHT
BEGIN:STANDARD
TZOFFSETFROM:-0400
TZOFFSETTO:-0500
TZNAME:EST
DTSTART:20241103T060000
END:STANDARD
BEGIN:DAYLIGHT
TZOFFSETFROM:-0500
TZOFFSETTO:-0400
TZNAME:EDT
DTSTART:20250309T070000
END:DAYLIGHT
BEGIN:STANDARD
TZOFFSETFROM:-0400
TZOFFSETTO:-0500
TZNAME:EST
DTSTART:20251102T060000
END:STANDARD
BEGIN:DAYLIGHT
TZOFFSETFROM:-0500
TZOFFSETTO:-0400
TZNAME:EDT
DTSTART:20260308T070000
END:DAYLIGHT
BEGIN:STANDARD
TZOFFSETFROM:-0400
TZOFFSETTO:-0500
TZNAME:EST
DTSTART:20261101T060000
END:STANDARD
END:VTIMEZONE
BEGIN:VEVENT
DTSTART;TZID=America/New_York:20251019T080000
DTEND;TZID=America/New_York:20251019T190000
DTSTAMP:20260424T031247
CREATED:20250925T003558Z
LAST-MODIFIED:20250928T130920Z
UID:10071013-1760860800-1760900400@thepinestimes.com
SUMMARY:Sandhills Horticultural Garden: Sandhills Scarecrow Stroll
DESCRIPTION:Celebrate the fall season by strolling through the Sandhills Horticultural Gardens’ creative scarecrow collection\, on display October 2nd-October 31st. They have teamed up with some local garden clubs to bring you the inaugural “Scarecrow Stroll”\, which will consist of 10 scarecrows throughout the Gardens\, each with a theme and name chosen by its creators. The staff and students will each be making one as well\, of course. Come on through to see the scarecrows amidst the beautiful seasonal changes and vote for your favorite! Make sure to pick up the specially made map and brochure for this event to find the scarecrows throughout the gardens and vote through the QR code. This event is free. \n 
URL:https://thepinestimes.com/event/sandhills-horticultural-garden-sandhills-scarecrow-stroll/2025-10-19/
LOCATION:Sandhills Horticultural Gardens\, 3245 Airport Rd\, Pinehurst\, 28374
CATEGORIES:Children,Fall,Fall in the Sandhills,Family,Halloween,Nature/Outdoors,Pinehurst Events,Piney's Kids,Piney's Tiny's,Teen Activities,Young Adults
ATTACH;FMTTYPE=image/jpeg:https://thepinestimes.com/wp-content/uploads/SandhillsHorticulturalGardensFeature.jpg
END:VEVENT
BEGIN:VEVENT
DTSTART;TZID=America/New_York:20251017T080000
DTEND;TZID=America/New_York:20251017T190000
DTSTAMP:20260424T031247
CREATED:20250925T003558Z
LAST-MODIFIED:20250928T130920Z
UID:10071012-1760688000-1760727600@thepinestimes.com
SUMMARY:Sandhills Horticultural Garden: Sandhills Scarecrow Stroll
DESCRIPTION:Celebrate the fall season by strolling through the Sandhills Horticultural Gardens’ creative scarecrow collection\, on display October 2nd-October 31st. They have teamed up with some local garden clubs to bring you the inaugural “Scarecrow Stroll”\, which will consist of 10 scarecrows throughout the Gardens\, each with a theme and name chosen by its creators. The staff and students will each be making one as well\, of course. Come on through to see the scarecrows amidst the beautiful seasonal changes and vote for your favorite! Make sure to pick up the specially made map and brochure for this event to find the scarecrows throughout the gardens and vote through the QR code. This event is free. \n 
URL:https://thepinestimes.com/event/sandhills-horticultural-garden-sandhills-scarecrow-stroll/2025-10-17/
LOCATION:Sandhills Horticultural Gardens\, 3245 Airport Rd\, Pinehurst\, 28374
CATEGORIES:Children,Fall,Fall in the Sandhills,Family,Halloween,Nature/Outdoors,Pinehurst Events,Piney's Kids,Piney's Tiny's,Teen Activities,Young Adults
ATTACH;FMTTYPE=image/jpeg:https://thepinestimes.com/wp-content/uploads/SandhillsHorticulturalGardensFeature.jpg
END:VEVENT
BEGIN:VEVENT
DTSTART;TZID=America/New_York:20251016T080000
DTEND;TZID=America/New_York:20251016T190000
DTSTAMP:20260424T031247
CREATED:20250925T003558Z
LAST-MODIFIED:20250928T130920Z
UID:10071011-1760601600-1760641200@thepinestimes.com
SUMMARY:Sandhills Horticultural Garden: Sandhills Scarecrow Stroll
DESCRIPTION:Celebrate the fall season by strolling through the Sandhills Horticultural Gardens’ creative scarecrow collection\, on display October 2nd-October 31st. They have teamed up with some local garden clubs to bring you the inaugural “Scarecrow Stroll”\, which will consist of 10 scarecrows throughout the Gardens\, each with a theme and name chosen by its creators. The staff and students will each be making one as well\, of course. Come on through to see the scarecrows amidst the beautiful seasonal changes and vote for your favorite! Make sure to pick up the specially made map and brochure for this event to find the scarecrows throughout the gardens and vote through the QR code. This event is free. \n 
URL:https://thepinestimes.com/event/sandhills-horticultural-garden-sandhills-scarecrow-stroll/2025-10-16/
LOCATION:Sandhills Horticultural Gardens\, 3245 Airport Rd\, Pinehurst\, 28374
CATEGORIES:Children,Fall,Fall in the Sandhills,Family,Halloween,Nature/Outdoors,Pinehurst Events,Piney's Kids,Piney's Tiny's,Teen Activities,Young Adults
ATTACH;FMTTYPE=image/jpeg:https://thepinestimes.com/wp-content/uploads/SandhillsHorticulturalGardensFeature.jpg
END:VEVENT
BEGIN:VEVENT
DTSTART;TZID=America/New_York:20251014T080000
DTEND;TZID=America/New_York:20251014T190000
DTSTAMP:20260424T031247
CREATED:20250925T003558Z
LAST-MODIFIED:20250928T130920Z
UID:10071010-1760428800-1760468400@thepinestimes.com
SUMMARY:Sandhills Horticultural Garden: Sandhills Scarecrow Stroll
DESCRIPTION:Celebrate the fall season by strolling through the Sandhills Horticultural Gardens’ creative scarecrow collection\, on display October 2nd-October 31st. They have teamed up with some local garden clubs to bring you the inaugural “Scarecrow Stroll”\, which will consist of 10 scarecrows throughout the Gardens\, each with a theme and name chosen by its creators. The staff and students will each be making one as well\, of course. Come on through to see the scarecrows amidst the beautiful seasonal changes and vote for your favorite! Make sure to pick up the specially made map and brochure for this event to find the scarecrows throughout the gardens and vote through the QR code. This event is free. \n 
URL:https://thepinestimes.com/event/sandhills-horticultural-garden-sandhills-scarecrow-stroll/2025-10-14/
LOCATION:Sandhills Horticultural Gardens\, 3245 Airport Rd\, Pinehurst\, 28374
CATEGORIES:Children,Fall,Fall in the Sandhills,Family,Halloween,Nature/Outdoors,Pinehurst Events,Piney's Kids,Piney's Tiny's,Teen Activities,Young Adults
ATTACH;FMTTYPE=image/jpeg:https://thepinestimes.com/wp-content/uploads/SandhillsHorticulturalGardensFeature.jpg
END:VEVENT
BEGIN:VEVENT
DTSTART;TZID=America/New_York:20251012T080000
DTEND;TZID=America/New_York:20251012T190000
DTSTAMP:20260424T031247
CREATED:20250925T003558Z
LAST-MODIFIED:20250928T130920Z
UID:10071009-1760256000-1760295600@thepinestimes.com
SUMMARY:Sandhills Horticultural Garden: Sandhills Scarecrow Stroll
DESCRIPTION:Celebrate the fall season by strolling through the Sandhills Horticultural Gardens’ creative scarecrow collection\, on display October 2nd-October 31st. They have teamed up with some local garden clubs to bring you the inaugural “Scarecrow Stroll”\, which will consist of 10 scarecrows throughout the Gardens\, each with a theme and name chosen by its creators. The staff and students will each be making one as well\, of course. Come on through to see the scarecrows amidst the beautiful seasonal changes and vote for your favorite! Make sure to pick up the specially made map and brochure for this event to find the scarecrows throughout the gardens and vote through the QR code. This event is free. \n 
URL:https://thepinestimes.com/event/sandhills-horticultural-garden-sandhills-scarecrow-stroll/2025-10-12/
LOCATION:Sandhills Horticultural Gardens\, 3245 Airport Rd\, Pinehurst\, 28374
CATEGORIES:Children,Fall,Fall in the Sandhills,Family,Halloween,Nature/Outdoors,Pinehurst Events,Piney's Kids,Piney's Tiny's,Teen Activities,Young Adults
ATTACH;FMTTYPE=image/jpeg:https://thepinestimes.com/wp-content/uploads/SandhillsHorticulturalGardensFeature.jpg
END:VEVENT
BEGIN:VEVENT
DTSTART;TZID=America/New_York:20251010T080000
DTEND;TZID=America/New_York:20251010T190000
DTSTAMP:20260424T031247
CREATED:20250925T003558Z
LAST-MODIFIED:20250928T130920Z
UID:10071008-1760083200-1760122800@thepinestimes.com
SUMMARY:Sandhills Horticultural Garden: Sandhills Scarecrow Stroll
DESCRIPTION:Celebrate the fall season by strolling through the Sandhills Horticultural Gardens’ creative scarecrow collection\, on display October 2nd-October 31st. They have teamed up with some local garden clubs to bring you the inaugural “Scarecrow Stroll”\, which will consist of 10 scarecrows throughout the Gardens\, each with a theme and name chosen by its creators. The staff and students will each be making one as well\, of course. Come on through to see the scarecrows amidst the beautiful seasonal changes and vote for your favorite! Make sure to pick up the specially made map and brochure for this event to find the scarecrows throughout the gardens and vote through the QR code. This event is free. \n 
URL:https://thepinestimes.com/event/sandhills-horticultural-garden-sandhills-scarecrow-stroll/2025-10-10/
LOCATION:Sandhills Horticultural Gardens\, 3245 Airport Rd\, Pinehurst\, 28374
CATEGORIES:Children,Fall,Fall in the Sandhills,Family,Halloween,Nature/Outdoors,Pinehurst Events,Piney's Kids,Piney's Tiny's,Teen Activities,Young Adults
ATTACH;FMTTYPE=image/jpeg:https://thepinestimes.com/wp-content/uploads/SandhillsHorticulturalGardensFeature.jpg
END:VEVENT
BEGIN:VEVENT
DTSTART;TZID=America/New_York:20251009T080000
DTEND;TZID=America/New_York:20251009T190000
DTSTAMP:20260424T031247
CREATED:20250925T003558Z
LAST-MODIFIED:20250928T130920Z
UID:10071007-1759996800-1760036400@thepinestimes.com
SUMMARY:Sandhills Horticultural Garden: Sandhills Scarecrow Stroll
DESCRIPTION:Celebrate the fall season by strolling through the Sandhills Horticultural Gardens’ creative scarecrow collection\, on display October 2nd-October 31st. They have teamed up with some local garden clubs to bring you the inaugural “Scarecrow Stroll”\, which will consist of 10 scarecrows throughout the Gardens\, each with a theme and name chosen by its creators. The staff and students will each be making one as well\, of course. Come on through to see the scarecrows amidst the beautiful seasonal changes and vote for your favorite! Make sure to pick up the specially made map and brochure for this event to find the scarecrows throughout the gardens and vote through the QR code. This event is free. \n 
URL:https://thepinestimes.com/event/sandhills-horticultural-garden-sandhills-scarecrow-stroll/2025-10-09/
LOCATION:Sandhills Horticultural Gardens\, 3245 Airport Rd\, Pinehurst\, 28374
CATEGORIES:Children,Fall,Fall in the Sandhills,Family,Halloween,Nature/Outdoors,Pinehurst Events,Piney's Kids,Piney's Tiny's,Teen Activities,Young Adults
ATTACH;FMTTYPE=image/jpeg:https://thepinestimes.com/wp-content/uploads/SandhillsHorticulturalGardensFeature.jpg
END:VEVENT
BEGIN:VEVENT
DTSTART;TZID=America/New_York:20251007T080000
DTEND;TZID=America/New_York:20251007T190000
DTSTAMP:20260424T031247
CREATED:20250925T003558Z
LAST-MODIFIED:20250928T130920Z
UID:10071006-1759824000-1759863600@thepinestimes.com
SUMMARY:Sandhills Horticultural Garden: Sandhills Scarecrow Stroll
DESCRIPTION:Celebrate the fall season by strolling through the Sandhills Horticultural Gardens’ creative scarecrow collection\, on display October 2nd-October 31st. They have teamed up with some local garden clubs to bring you the inaugural “Scarecrow Stroll”\, which will consist of 10 scarecrows throughout the Gardens\, each with a theme and name chosen by its creators. The staff and students will each be making one as well\, of course. Come on through to see the scarecrows amidst the beautiful seasonal changes and vote for your favorite! Make sure to pick up the specially made map and brochure for this event to find the scarecrows throughout the gardens and vote through the QR code. This event is free. \n 
URL:https://thepinestimes.com/event/sandhills-horticultural-garden-sandhills-scarecrow-stroll/2025-10-07/
LOCATION:Sandhills Horticultural Gardens\, 3245 Airport Rd\, Pinehurst\, 28374
CATEGORIES:Children,Fall,Fall in the Sandhills,Family,Halloween,Nature/Outdoors,Pinehurst Events,Piney's Kids,Piney's Tiny's,Teen Activities,Young Adults
ATTACH;FMTTYPE=image/jpeg:https://thepinestimes.com/wp-content/uploads/SandhillsHorticulturalGardensFeature.jpg
END:VEVENT
BEGIN:VEVENT
DTSTART;TZID=America/New_York:20251005T080000
DTEND;TZID=America/New_York:20251005T190000
DTSTAMP:20260424T031247
CREATED:20250925T003558Z
LAST-MODIFIED:20250928T130920Z
UID:10071005-1759651200-1759690800@thepinestimes.com
SUMMARY:Sandhills Horticultural Garden: Sandhills Scarecrow Stroll
DESCRIPTION:Celebrate the fall season by strolling through the Sandhills Horticultural Gardens’ creative scarecrow collection\, on display October 2nd-October 31st. They have teamed up with some local garden clubs to bring you the inaugural “Scarecrow Stroll”\, which will consist of 10 scarecrows throughout the Gardens\, each with a theme and name chosen by its creators. The staff and students will each be making one as well\, of course. Come on through to see the scarecrows amidst the beautiful seasonal changes and vote for your favorite! Make sure to pick up the specially made map and brochure for this event to find the scarecrows throughout the gardens and vote through the QR code. This event is free. \n 
URL:https://thepinestimes.com/event/sandhills-horticultural-garden-sandhills-scarecrow-stroll/2025-10-05/
LOCATION:Sandhills Horticultural Gardens\, 3245 Airport Rd\, Pinehurst\, 28374
CATEGORIES:Children,Fall,Fall in the Sandhills,Family,Halloween,Nature/Outdoors,Pinehurst Events,Piney's Kids,Piney's Tiny's,Teen Activities,Young Adults
ATTACH;FMTTYPE=image/jpeg:https://thepinestimes.com/wp-content/uploads/SandhillsHorticulturalGardensFeature.jpg
END:VEVENT
BEGIN:VEVENT
DTSTART;TZID=America/New_York:20251003T080000
DTEND;TZID=America/New_York:20251003T190000
DTSTAMP:20260424T031247
CREATED:20250925T003558Z
LAST-MODIFIED:20250928T130920Z
UID:10071004-1759478400-1759518000@thepinestimes.com
SUMMARY:Sandhills Horticultural Garden: Sandhills Scarecrow Stroll
DESCRIPTION:Celebrate the fall season by strolling through the Sandhills Horticultural Gardens’ creative scarecrow collection\, on display October 2nd-October 31st. They have teamed up with some local garden clubs to bring you the inaugural “Scarecrow Stroll”\, which will consist of 10 scarecrows throughout the Gardens\, each with a theme and name chosen by its creators. The staff and students will each be making one as well\, of course. Come on through to see the scarecrows amidst the beautiful seasonal changes and vote for your favorite! Make sure to pick up the specially made map and brochure for this event to find the scarecrows throughout the gardens and vote through the QR code. This event is free. \n 
URL:https://thepinestimes.com/event/sandhills-horticultural-garden-sandhills-scarecrow-stroll/2025-10-03/
LOCATION:Sandhills Horticultural Gardens\, 3245 Airport Rd\, Pinehurst\, 28374
CATEGORIES:Children,Fall,Fall in the Sandhills,Family,Halloween,Nature/Outdoors,Pinehurst Events,Piney's Kids,Piney's Tiny's,Teen Activities,Young Adults
ATTACH;FMTTYPE=image/jpeg:https://thepinestimes.com/wp-content/uploads/SandhillsHorticulturalGardensFeature.jpg
END:VEVENT
BEGIN:VEVENT
DTSTART;TZID=America/New_York:20251002T080000
DTEND;TZID=America/New_York:20251002T190000
DTSTAMP:20260424T031247
CREATED:20250925T003558Z
LAST-MODIFIED:20250928T130920Z
UID:10071003-1759392000-1759431600@thepinestimes.com
SUMMARY:Sandhills Horticultural Garden: Sandhills Scarecrow Stroll
DESCRIPTION:Celebrate the fall season by strolling through the Sandhills Horticultural Gardens’ creative scarecrow collection\, on display October 2nd-October 31st. They have teamed up with some local garden clubs to bring you the inaugural “Scarecrow Stroll”\, which will consist of 10 scarecrows throughout the Gardens\, each with a theme and name chosen by its creators. The staff and students will each be making one as well\, of course. Come on through to see the scarecrows amidst the beautiful seasonal changes and vote for your favorite! Make sure to pick up the specially made map and brochure for this event to find the scarecrows throughout the gardens and vote through the QR code. This event is free. \n 
URL:https://thepinestimes.com/event/sandhills-horticultural-garden-sandhills-scarecrow-stroll/2025-10-02/
LOCATION:Sandhills Horticultural Gardens\, 3245 Airport Rd\, Pinehurst\, 28374
CATEGORIES:Children,Fall,Fall in the Sandhills,Family,Halloween,Nature/Outdoors,Pinehurst Events,Piney's Kids,Piney's Tiny's,Teen Activities,Young Adults
ATTACH;FMTTYPE=image/jpeg:https://thepinestimes.com/wp-content/uploads/SandhillsHorticulturalGardensFeature.jpg
END:VEVENT
BEGIN:VEVENT
DTSTART;TZID=America/New_York:20250823T090000
DTEND;TZID=America/New_York:20250823T110000
DTSTAMP:20260424T031247
CREATED:20230719T021737Z
LAST-MODIFIED:20250818T154910Z
UID:10063972-1755939600-1755946800@thepinestimes.com
SUMMARY:Great Southeast Pollinator Census
DESCRIPTION:Be a part of The Great Southeast Pollinator Census! For the third year in a row\, the Sandhills Horticultural Society will be participating in this “Citizen Science Project” created by the University of Georgia\, joining others in North Carolina\, as well as the southeastern states of South Carolina\, Georgia\, Florida and Alabama. Come learn about the different types of pollinators\, what they look like\, how they contribute to food production and help make a difference in pollinator conservation. Help protect the Southeast’s pollinators one count at a time. Prepare for the count days on August 22nd & 23rd\, 9am-11am both days. For full details and to join the count\, follow the website event link provided below.
URL:https://thepinestimes.com/event/great-southeast-pollinator-census/2025-08-23/
LOCATION:Sandhills Horticultural Gardens\, 3245 Airport Rd\, Pinehurst\, 28374
CATEGORIES:Adults,Educational,Family,Hobby/Enthusiast,Live Entertainment,Nature/Outdoors,Pets/Animals,Pinehurst Events,Senior,Social,Volunteer
ATTACH;FMTTYPE=image/jpeg:https://thepinestimes.com/wp-content/uploads/PollinatorCensusFeature.jpg
END:VEVENT
BEGIN:VEVENT
DTSTART;TZID=America/New_York:20250822T090000
DTEND;TZID=America/New_York:20250822T110000
DTSTAMP:20260424T031247
CREATED:20230719T021737Z
LAST-MODIFIED:20250818T154910Z
UID:10063971-1755853200-1755860400@thepinestimes.com
SUMMARY:Great Southeast Pollinator Census
DESCRIPTION:Be a part of The Great Southeast Pollinator Census! For the third year in a row\, the Sandhills Horticultural Society will be participating in this “Citizen Science Project” created by the University of Georgia\, joining others in North Carolina\, as well as the southeastern states of South Carolina\, Georgia\, Florida and Alabama. Come learn about the different types of pollinators\, what they look like\, how they contribute to food production and help make a difference in pollinator conservation. Help protect the Southeast’s pollinators one count at a time. Prepare for the count days on August 22nd & 23rd\, 9am-11am both days. For full details and to join the count\, follow the website event link provided below.
URL:https://thepinestimes.com/event/great-southeast-pollinator-census/2025-08-22/
LOCATION:Sandhills Horticultural Gardens\, 3245 Airport Rd\, Pinehurst\, 28374
CATEGORIES:Adults,Educational,Family,Hobby/Enthusiast,Live Entertainment,Nature/Outdoors,Pets/Animals,Pinehurst Events,Senior,Social,Volunteer
ATTACH;FMTTYPE=image/jpeg:https://thepinestimes.com/wp-content/uploads/PollinatorCensusFeature.jpg
END:VEVENT
END:VCALENDAR