BEGIN:VCALENDAR
VERSION:2.0
PRODID:-//The Pines Times - ECPv6.15.20//NONSGML v1.0//EN
CALSCALE:GREGORIAN
METHOD:PUBLISH
X-ORIGINAL-URL:https://thepinestimes.com
X-WR-CALDESC:Events for The Pines Times
REFRESH-INTERVAL;VALUE=DURATION:PT1H
X-Robots-Tag:noindex
X-PUBLISHED-TTL:PT1H
BEGIN:VTIMEZONE
TZID:America/New_York
BEGIN:DAYLIGHT
TZOFFSETFROM:-0500
TZOFFSETTO:-0400
TZNAME:EDT
DTSTART:20240310T070000
END:DAYLIGHT
BEGIN:STANDARD
TZOFFSETFROM:-0400
TZOFFSETTO:-0500
TZNAME:EST
DTSTART:20241103T060000
END:STANDARD
BEGIN:DAYLIGHT
TZOFFSETFROM:-0500
TZOFFSETTO:-0400
TZNAME:EDT
DTSTART:20250309T070000
END:DAYLIGHT
BEGIN:STANDARD
TZOFFSETFROM:-0400
TZOFFSETTO:-0500
TZNAME:EST
DTSTART:20251102T060000
END:STANDARD
BEGIN:DAYLIGHT
TZOFFSETFROM:-0500
TZOFFSETTO:-0400
TZNAME:EDT
DTSTART:20260308T070000
END:DAYLIGHT
BEGIN:STANDARD
TZOFFSETFROM:-0400
TZOFFSETTO:-0500
TZNAME:EST
DTSTART:20261101T060000
END:STANDARD
BEGIN:DAYLIGHT
TZOFFSETFROM:-0500
TZOFFSETTO:-0400
TZNAME:EDT
DTSTART:20270314T070000
END:DAYLIGHT
BEGIN:STANDARD
TZOFFSETFROM:-0400
TZOFFSETTO:-0500
TZNAME:EST
DTSTART:20271107T060000
END:STANDARD
END:VTIMEZONE
BEGIN:VEVENT
DTSTART;TZID=America/New_York:20260405T090000
DTEND;TZID=America/New_York:20260405T110000
DTSTAMP:20260420T195929
CREATED:20230827T193100Z
LAST-MODIFIED:20251229T173653Z
UID:10077905-1775379600-1775386800@thepinestimes.com
SUMMARY:Cars & Coffee
DESCRIPTION:Join Sandhills Motoring Club for the monthly Cars & Coffee event in the Village of Pinehurst. The event takes place the first Sunday of each month\, 9am-11am. Join fellow enthusiasts for a relaxed morning of great automobiles and conversation in the heart of the Village. All makes and models are welcome – bring your favorite ride and enjoy the camaraderie. This is a rain or shine event.
URL:https://thepinestimes.com/event/cars-coffee-2/2026-04-05/
LOCATION:Village of Pinehurst\, 100 Chinquapin Road\, Pinehurst\, NC\, 28374\, United States
CATEGORIES:Adults,Car Show/Motorcycle Show/Cruise In,Exhibits,Family,Hobby/Enthusiast,Live Entertainment,Nature/Outdoors,Pinehurst Events,Senior,Social
ATTACH;FMTTYPE=image/jpeg:https://thepinestimes.com/wp-content/uploads/CarsAndCoffeeFeature-2.jpg
END:VEVENT
BEGIN:VEVENT
DTSTART;TZID=America/New_York:20260301T090000
DTEND;TZID=America/New_York:20260301T110000
DTSTAMP:20260420T195929
CREATED:20230827T193100Z
LAST-MODIFIED:20251229T173653Z
UID:10077904-1772355600-1772362800@thepinestimes.com
SUMMARY:Cars & Coffee
DESCRIPTION:Join Sandhills Motoring Club for the monthly Cars & Coffee event in the Village of Pinehurst. The event takes place the first Sunday of each month\, 9am-11am. Join fellow enthusiasts for a relaxed morning of great automobiles and conversation in the heart of the Village. All makes and models are welcome – bring your favorite ride and enjoy the camaraderie. This is a rain or shine event.
URL:https://thepinestimes.com/event/cars-coffee-2/2026-03-01/
LOCATION:Village of Pinehurst\, 100 Chinquapin Road\, Pinehurst\, NC\, 28374\, United States
CATEGORIES:Adults,Car Show/Motorcycle Show/Cruise In,Exhibits,Family,Hobby/Enthusiast,Live Entertainment,Nature/Outdoors,Pinehurst Events,Senior,Social
ATTACH;FMTTYPE=image/jpeg:https://thepinestimes.com/wp-content/uploads/CarsAndCoffeeFeature-2.jpg
END:VEVENT
BEGIN:VEVENT
DTSTART;TZID=America/New_York:20260201T090000
DTEND;TZID=America/New_York:20260201T110000
DTSTAMP:20260420T195929
CREATED:20230827T193100Z
LAST-MODIFIED:20251229T173653Z
UID:10077903-1769936400-1769943600@thepinestimes.com
SUMMARY:Cars & Coffee
DESCRIPTION:Join Sandhills Motoring Club for the monthly Cars & Coffee event in the Village of Pinehurst. The event takes place the first Sunday of each month\, 9am-11am. Join fellow enthusiasts for a relaxed morning of great automobiles and conversation in the heart of the Village. All makes and models are welcome – bring your favorite ride and enjoy the camaraderie. This is a rain or shine event.
URL:https://thepinestimes.com/event/cars-coffee-2/2026-02-01/
LOCATION:Village of Pinehurst\, 100 Chinquapin Road\, Pinehurst\, NC\, 28374\, United States
CATEGORIES:Adults,Car Show/Motorcycle Show/Cruise In,Exhibits,Family,Hobby/Enthusiast,Live Entertainment,Nature/Outdoors,Pinehurst Events,Senior,Social
ATTACH;FMTTYPE=image/jpeg:https://thepinestimes.com/wp-content/uploads/CarsAndCoffeeFeature-2.jpg
END:VEVENT
BEGIN:VEVENT
DTSTART;TZID=America/New_York:20260104T090000
DTEND;TZID=America/New_York:20260104T110000
DTSTAMP:20260420T195929
CREATED:20230827T193100Z
LAST-MODIFIED:20251229T173653Z
UID:10026509-1767517200-1767524400@thepinestimes.com
SUMMARY:Cars & Coffee
DESCRIPTION:Join Sandhills Motoring Club for the monthly Cars & Coffee event in the Village of Pinehurst. The event takes place the first Sunday of each month\, 9am-11am. Join fellow enthusiasts for a relaxed morning of great automobiles and conversation in the heart of the Village. All makes and models are welcome – bring your favorite ride and enjoy the camaraderie. This is a rain or shine event.
URL:https://thepinestimes.com/event/cars-coffee-2/2026-01-04/
LOCATION:Village of Pinehurst\, 100 Chinquapin Road\, Pinehurst\, NC\, 28374\, United States
CATEGORIES:Adults,Car Show/Motorcycle Show/Cruise In,Exhibits,Family,Hobby/Enthusiast,Live Entertainment,Nature/Outdoors,Pinehurst Events,Senior,Social
ATTACH;FMTTYPE=image/jpeg:https://thepinestimes.com/wp-content/uploads/CarsAndCoffeeFeature-2.jpg
END:VEVENT
BEGIN:VEVENT
DTSTART;TZID=America/New_York:20250823T090000
DTEND;TZID=America/New_York:20250823T110000
DTSTAMP:20260420T195929
CREATED:20250817T141932Z
LAST-MODIFIED:20250817T141932Z
UID:10064723-1755939600-1755946800@thepinestimes.com
SUMMARY:Motors and Moore "On the Ramp" at the Moore County Airport
DESCRIPTION:Come out for the Motors and Moore event with Sandhills Motoring Club this Saturday\, August 23rd\, 9am-11am\, at the Moore County Airport. Enjoy a gathering of vehicles with no registration required. Parking is available “On the Ramp” behind the main terminal—just follow the signs and remember the 5MPH airport speed limit. This is a family friendly event and open to the public.
URL:https://thepinestimes.com/event/motors-and-moore-on-the-ramp-at-the-moore-county-airport/
LOCATION:Moore County Airport SOP\, 7825 Aviation Drive\, Carthage\, NC\, 28327\, United States
CATEGORIES:Adult Connections,Adults,Car Show/Motorcycle Show/Cruise In,Clubs,Exhibits,Family,Hobby/Enthusiast,Social,Southern Pines Events
ATTACH;FMTTYPE=image/jpeg:https://thepinestimes.com/wp-content/uploads/Sandhills-Motoring-Club-feature.jpg
END:VEVENT
END:VCALENDAR