BEGIN:VCALENDAR
VERSION:2.0
PRODID:-//The Pines Times - ECPv6.15.20//NONSGML v1.0//EN
CALSCALE:GREGORIAN
METHOD:PUBLISH
X-WR-CALNAME:The Pines Times
X-ORIGINAL-URL:https://thepinestimes.com
X-WR-CALDESC:Events for The Pines Times
REFRESH-INTERVAL;VALUE=DURATION:PT1H
X-Robots-Tag:noindex
X-PUBLISHED-TTL:PT1H
BEGIN:VTIMEZONE
TZID:America/New_York
BEGIN:DAYLIGHT
TZOFFSETFROM:-0500
TZOFFSETTO:-0400
TZNAME:EDT
DTSTART:20250309T070000
END:DAYLIGHT
BEGIN:STANDARD
TZOFFSETFROM:-0400
TZOFFSETTO:-0500
TZNAME:EST
DTSTART:20251102T060000
END:STANDARD
BEGIN:DAYLIGHT
TZOFFSETFROM:-0500
TZOFFSETTO:-0400
TZNAME:EDT
DTSTART:20260308T070000
END:DAYLIGHT
BEGIN:STANDARD
TZOFFSETFROM:-0400
TZOFFSETTO:-0500
TZNAME:EST
DTSTART:20261101T060000
END:STANDARD
BEGIN:DAYLIGHT
TZOFFSETFROM:-0500
TZOFFSETTO:-0400
TZNAME:EDT
DTSTART:20270314T070000
END:DAYLIGHT
BEGIN:STANDARD
TZOFFSETFROM:-0400
TZOFFSETTO:-0500
TZNAME:EST
DTSTART:20271107T060000
END:STANDARD
END:VTIMEZONE
BEGIN:VEVENT
DTSTART;TZID=America/New_York:20260516T130000
DTEND;TZID=America/New_York:20260516T150000
DTSTAMP:20260423T033245
CREATED:20260331T215823Z
LAST-MODIFIED:20260401T141518Z
UID:10085940-1778936400-1778943600@thepinestimes.com
SUMMARY:Raise a Cup to the Cabin at the Sandhills Woman’s Exchange
DESCRIPTION:☕ Raise a Cup to the Cabin – Spring Tea Party \nGather your friends and enjoy a charming afternoon at the Sandhills Woman’s Exchange Cabin for a delightful spring tea party. Guests will be treated to tea and a selection of delicious nibbles in a beautiful\, welcoming setting. \n“Don’t miss this special time with friends to enjoy tea and wonderful nibbles on a spring day\,” shares the SWE. \n🗓 Saturday\, May 16\, 2026⏰ 1:00 PM – 3:00 PM📍 Sandhills Woman’s Exchange Cabin15 Azalea Road\, Pinehurst \n💲 $65 per person🎩 Hats are encouraged for this festive occasion! \nReservations are required due to limited seating. To reserve your spot\, call 910-295-4677. \n✨ Piney Tip: The historic cabin will be closing for the summer on June 5\, so this is a lovely opportunity to visit before the season wraps up!
URL:https://thepinestimes.com/event/raise-a-cup-to-the-cabin-at-the-sandhills-womans-exchange/
LOCATION:Sandhills Woman’s Exchange\, 15 Azalea Road\, Pinehurst\, NC\, 28374
CATEGORIES:Adult Connections,Moore County Events,Pinehurst Events,Presentation,Social,Women
ATTACH;FMTTYPE=image/jpeg:https://thepinestimes.com/wp-content/uploads/SandhillsWomansExchangeFeature1.jpg
END:VEVENT
END:VCALENDAR