BEGIN:VCALENDAR
VERSION:2.0
PRODID:-//The Pines Times - ECPv6.15.20//NONSGML v1.0//EN
CALSCALE:GREGORIAN
METHOD:PUBLISH
X-ORIGINAL-URL:https://thepinestimes.com
X-WR-CALDESC:Events for The Pines Times
REFRESH-INTERVAL;VALUE=DURATION:PT1H
X-Robots-Tag:noindex
X-PUBLISHED-TTL:PT1H
BEGIN:VTIMEZONE
TZID:America/New_York
BEGIN:DAYLIGHT
TZOFFSETFROM:-0500
TZOFFSETTO:-0400
TZNAME:EDT
DTSTART:20240310T070000
END:DAYLIGHT
BEGIN:STANDARD
TZOFFSETFROM:-0400
TZOFFSETTO:-0500
TZNAME:EST
DTSTART:20241103T060000
END:STANDARD
BEGIN:DAYLIGHT
TZOFFSETFROM:-0500
TZOFFSETTO:-0400
TZNAME:EDT
DTSTART:20250309T070000
END:DAYLIGHT
BEGIN:STANDARD
TZOFFSETFROM:-0400
TZOFFSETTO:-0500
TZNAME:EST
DTSTART:20251102T060000
END:STANDARD
BEGIN:DAYLIGHT
TZOFFSETFROM:-0500
TZOFFSETTO:-0400
TZNAME:EDT
DTSTART:20260308T070000
END:DAYLIGHT
BEGIN:STANDARD
TZOFFSETFROM:-0400
TZOFFSETTO:-0500
TZNAME:EST
DTSTART:20261101T060000
END:STANDARD
END:VTIMEZONE
BEGIN:VEVENT
DTSTART;TZID=America/New_York:20250914T130000
DTEND;TZID=America/New_York:20250914T140000
DTSTAMP:20260422T095142
CREATED:20250819T155840Z
LAST-MODIFIED:20250819T155840Z
UID:10064758-1757854800-1757858400@thepinestimes.com
SUMMARY:Miss Lee Regional Fair Pageants
DESCRIPTION:Come out for the Miss Lee Regional Fair Pageants\, presented by the Sanford Lions Club! This year’s pageants will take place during the Lee Regional Fair\, running from September 10th-14th. \nThe pageant schedule is as follows: \nWednesday\, September 10th: Junior Miss Pageant at 6:30pm\, followed by the Miss Pageant at 8:00pm. \nThursday\, September 11th: Tiny Miss Pageant at 6:30pm\, followed by the Young Miss Pageant at 8:00pm. \nSunday\, September 14th: Petite Miss Pageant at 1:00pm. \nApplications for contestants were made available on August 1st. The deadline to submit completed applications is August 23rd. Don’t miss your chance to be a part of this community tradition! \n  \n 
URL:https://thepinestimes.com/event/miss-lee-regional-fair-pageants/2025-09-14/
LOCATION:Lee County Fair Grounds\, 505 N 7th St\, Sanford\, NC\, 27330\, United States
CATEGORIES:Adults,Children,Contest,Fair/Festival,Fall in the Sandhills,Family,Hobby/Enthusiast,Live Entertainment,Out of Town,Pageant,Piney's Kids,Sanford Events,Social
END:VEVENT
BEGIN:VEVENT
DTSTART;TZID=America/New_York:20250912T190000
DTEND;TZID=America/New_York:20250912T210000
DTSTAMP:20260422T095142
CREATED:20250901T130858Z
LAST-MODIFIED:20250901T130858Z
UID:10067156-1757703600-1757710800@thepinestimes.com
SUMMARY:Live Pro Wrestling at the Lee Regional Fair
DESCRIPTION:The Sanford Lions Award-Winning Lee Regional Fair is turning up the excitement! On Friday\, September 12th\, don’t miss live pro wrestling featuring WWE Hall of Famer Ricky Morton and his son\, NWA’s Kerry Morton. Bell time is 7:00pm\, and the action is free with your $5 fair admission. Join us at the Sanford Lions Club Fairgrounds for an unforgettable night.
URL:https://thepinestimes.com/event/live-pro-wrestling-at-the-lee-regional-fair/
LOCATION:Lee County Fair Grounds\, 505 N 7th St\, Sanford\, NC\, 27330\, United States
CATEGORIES:Adults,Fair/Festival,Family,Games,Hobby/Enthusiast,Live Entertainment,Sanford Events,Social,Sports,Teen Activities,Wrestling,Young Adults
END:VEVENT
BEGIN:VEVENT
DTSTART;TZID=America/New_York:20250911T183000
DTEND;TZID=America/New_York:20250911T210000
DTSTAMP:20260422T095142
CREATED:20250819T155840Z
LAST-MODIFIED:20250819T155840Z
UID:10064757-1757615400-1757624400@thepinestimes.com
SUMMARY:Miss Lee Regional Fair Pageants
DESCRIPTION:Come out for the Miss Lee Regional Fair Pageants\, presented by the Sanford Lions Club! This year’s pageants will take place during the Lee Regional Fair\, running from September 10th-14th. \nThe pageant schedule is as follows: \nWednesday\, September 10th: Junior Miss Pageant at 6:30pm\, followed by the Miss Pageant at 8:00pm. \nThursday\, September 11th: Tiny Miss Pageant at 6:30pm\, followed by the Young Miss Pageant at 8:00pm. \nSunday\, September 14th: Petite Miss Pageant at 1:00pm. \nApplications for contestants were made available on August 1st. The deadline to submit completed applications is August 23rd. Don’t miss your chance to be a part of this community tradition! \n  \n 
URL:https://thepinestimes.com/event/miss-lee-regional-fair-pageants/2025-09-11/
LOCATION:Lee County Fair Grounds\, 505 N 7th St\, Sanford\, NC\, 27330\, United States
CATEGORIES:Adults,Children,Contest,Fair/Festival,Fall in the Sandhills,Family,Hobby/Enthusiast,Live Entertainment,Out of Town,Pageant,Piney's Kids,Sanford Events,Social
END:VEVENT
BEGIN:VEVENT
DTSTART;TZID=America/New_York:20250910T183000
DTEND;TZID=America/New_York:20250910T210000
DTSTAMP:20260422T095142
CREATED:20250819T155840Z
LAST-MODIFIED:20250819T155840Z
UID:10064756-1757529000-1757538000@thepinestimes.com
SUMMARY:Miss Lee Regional Fair Pageants
DESCRIPTION:Come out for the Miss Lee Regional Fair Pageants\, presented by the Sanford Lions Club! This year’s pageants will take place during the Lee Regional Fair\, running from September 10th-14th. \nThe pageant schedule is as follows: \nWednesday\, September 10th: Junior Miss Pageant at 6:30pm\, followed by the Miss Pageant at 8:00pm. \nThursday\, September 11th: Tiny Miss Pageant at 6:30pm\, followed by the Young Miss Pageant at 8:00pm. \nSunday\, September 14th: Petite Miss Pageant at 1:00pm. \nApplications for contestants were made available on August 1st. The deadline to submit completed applications is August 23rd. Don’t miss your chance to be a part of this community tradition! \n  \n 
URL:https://thepinestimes.com/event/miss-lee-regional-fair-pageants/2025-09-10/
LOCATION:Lee County Fair Grounds\, 505 N 7th St\, Sanford\, NC\, 27330\, United States
CATEGORIES:Adults,Children,Contest,Fair/Festival,Fall in the Sandhills,Family,Hobby/Enthusiast,Live Entertainment,Out of Town,Pageant,Piney's Kids,Sanford Events,Social
END:VEVENT
END:VCALENDAR