BEGIN:VCALENDAR
VERSION:2.0
PRODID:-//The Pines Times - ECPv6.15.20//NONSGML v1.0//EN
CALSCALE:GREGORIAN
METHOD:PUBLISH
X-ORIGINAL-URL:https://thepinestimes.com
X-WR-CALDESC:Events for The Pines Times
REFRESH-INTERVAL;VALUE=DURATION:PT1H
X-Robots-Tag:noindex
X-PUBLISHED-TTL:PT1H
BEGIN:VTIMEZONE
TZID:America/New_York
BEGIN:DAYLIGHT
TZOFFSETFROM:-0500
TZOFFSETTO:-0400
TZNAME:EDT
DTSTART:20250309T070000
END:DAYLIGHT
BEGIN:STANDARD
TZOFFSETFROM:-0400
TZOFFSETTO:-0500
TZNAME:EST
DTSTART:20251102T060000
END:STANDARD
BEGIN:DAYLIGHT
TZOFFSETFROM:-0500
TZOFFSETTO:-0400
TZNAME:EDT
DTSTART:20260308T070000
END:DAYLIGHT
BEGIN:STANDARD
TZOFFSETFROM:-0400
TZOFFSETTO:-0500
TZNAME:EST
DTSTART:20261101T060000
END:STANDARD
BEGIN:DAYLIGHT
TZOFFSETFROM:-0500
TZOFFSETTO:-0400
TZNAME:EDT
DTSTART:20270314T070000
END:DAYLIGHT
BEGIN:STANDARD
TZOFFSETFROM:-0400
TZOFFSETTO:-0500
TZNAME:EST
DTSTART:20271107T060000
END:STANDARD
END:VTIMEZONE
BEGIN:VEVENT
DTSTART;TZID=America/New_York:20260424T130000
DTEND;TZID=America/New_York:20260424T150000
DTSTAMP:20260419T101112
CREATED:20260305T154416Z
LAST-MODIFIED:20260305T154416Z
UID:10082347-1777035600-1777042800@thepinestimes.com
SUMMARY:Dementia-Friendly Cinema at Sunrise Theater: "Mary Poppins"
DESCRIPTION:SanStone Health & Rehabilitation presents a series of Dementia-Friendly Cinema events at the Sunrise Theater\, designed specifically for guests with memory loss and their caregivers. These screenings feature softer lighting\, lower sound\, and a relaxed atmosphere to ensure a comfortable experience for all attendees. \nThe Dementia-Friendly Cinema series features the following screenings: \n“Some Like It Hot”- Friday\, March 27th at 1:00PM \n“Mary Poppins”-Friday\, April 24th at 1:00PM To reserve your free ticket\, CLICK HERE. \n“The Odd Couple”-Friday\, May 22nd at 1:00PM \nGuests can enjoy free entry\, free popcorn\, and free valet parking at the theater where trained staff and volunteers will be on hand to assist. \n \n 
URL:https://thepinestimes.com/event/dementia-friendly-cinema-at-sunrise-theater-mary-poppins/
LOCATION:Sunrise Theater\, 250 NW Broad St\, Southern Pines\, NC\, 28387\, United States
CATEGORIES:Adults,Brain Change,Educational,Health & Wellness,Movie,Senior,Southern Pines Events
ATTACH;FMTTYPE=image/jpeg:https://thepinestimes.com/wp-content/uploads/DementiaCinemaSunriseFeature.jpg
END:VEVENT
BEGIN:VEVENT
DTSTART;TZID=America/New_York:20260522T130000
DTEND;TZID=America/New_York:20260522T150000
DTSTAMP:20260419T101112
CREATED:20260305T155619Z
LAST-MODIFIED:20260305T155619Z
UID:10082350-1779454800-1779462000@thepinestimes.com
SUMMARY:Dementia-Friendly Cinema at Sunrise Theater: "The Odd Couple"
DESCRIPTION:SanStone Health & Rehabilitation presents a series of Dementia-Friendly Cinema events at the Sunrise Theater\, designed specifically for guests with memory loss and their caregivers. These screenings feature softer lighting\, lower sound\, and a relaxed atmosphere to ensure a comfortable experience for all attendees. \nThe Dementia-Friendly Cinema series features the following screenings: \n“Some Like It Hot”- Friday\, March 27th at 1:00PM \n“Mary Poppins”-Friday\, April 24th at 1:00PM \n“The Odd Couple”-Friday\, May 22nd at 1:00PM “Two friends try sharing an apartment\, but their ideas of housekeeping and lifestyles are as different as night and day.” To reserve your free ticket\, CLICK HERE. \nGuests can enjoy free entry\, free popcorn\, and free valet parking at the theater where trained staff and volunteers will be on hand to assist. \n \n 
URL:https://thepinestimes.com/event/dementia-friendly-cinema-at-sunrise-theater-the-odd-couple/
LOCATION:Sunrise Theater\, 250 NW Broad St\, Southern Pines\, NC\, 28387\, United States
CATEGORIES:Adults,Brain Change,Educational,Health & Wellness,Movie,Senior,Southern Pines Events
ATTACH;FMTTYPE=image/jpeg:https://thepinestimes.com/wp-content/uploads/DementiaCinemaSunriseFeature.jpg
END:VEVENT
END:VCALENDAR