BEGIN:VCALENDAR
VERSION:2.0
PRODID:-//The Pines Times - ECPv6.15.20//NONSGML v1.0//EN
CALSCALE:GREGORIAN
METHOD:PUBLISH
X-ORIGINAL-URL:https://thepinestimes.com
X-WR-CALDESC:Events for The Pines Times
REFRESH-INTERVAL;VALUE=DURATION:PT1H
X-Robots-Tag:noindex
X-PUBLISHED-TTL:PT1H
BEGIN:VTIMEZONE
TZID:America/New_York
BEGIN:DAYLIGHT
TZOFFSETFROM:-0500
TZOFFSETTO:-0400
TZNAME:EDT
DTSTART:20240310T070000
END:DAYLIGHT
BEGIN:STANDARD
TZOFFSETFROM:-0400
TZOFFSETTO:-0500
TZNAME:EST
DTSTART:20241103T060000
END:STANDARD
BEGIN:DAYLIGHT
TZOFFSETFROM:-0500
TZOFFSETTO:-0400
TZNAME:EDT
DTSTART:20250309T070000
END:DAYLIGHT
BEGIN:STANDARD
TZOFFSETFROM:-0400
TZOFFSETTO:-0500
TZNAME:EST
DTSTART:20251102T060000
END:STANDARD
BEGIN:DAYLIGHT
TZOFFSETFROM:-0500
TZOFFSETTO:-0400
TZNAME:EDT
DTSTART:20260308T070000
END:DAYLIGHT
BEGIN:STANDARD
TZOFFSETFROM:-0400
TZOFFSETTO:-0500
TZNAME:EST
DTSTART:20261101T060000
END:STANDARD
END:VTIMEZONE
BEGIN:VEVENT
DTSTART;TZID=America/New_York:20250515T100000
DTEND;TZID=America/New_York:20250515T110000
DTSTAMP:20260422T205248
CREATED:20250508T130340Z
LAST-MODIFIED:20250508T130617Z
UID:10057644-1747303200-1747306800@thepinestimes.com
SUMMARY:"Remembering Mama" Candlelight Coffee Hour
DESCRIPTION:The I. Ellis Johnson Community Center in Laurinburg will host “Remembering Mama\,” a special candle lighting coffee hour on Thursday\, May 15th | 10am-11am. This heartfelt gathering honors the memory of mothers who have passed. Guests are invited to bring a photo or meaningful item to share during the event\, which will include coffee and light refreshments. Presented by Scotland County Parks & Recreation\, this event offers a warm and reflective space for remembrance and connection.
URL:https://thepinestimes.com/event/remembering-mama/
LOCATION:I. Ellis Johnson Community Center\, 815 McGirts Bridge Road\, Laurinburg\, 28352\, United States
CATEGORIES:Adults,Ceremony,Children,Family,Holiday Events,Laurinburg,Mother's Day,Senior,Social
END:VEVENT
END:VCALENDAR