BEGIN:VCALENDAR
VERSION:2.0
PRODID:-//The Pines Times - ECPv6.15.20//NONSGML v1.0//EN
CALSCALE:GREGORIAN
METHOD:PUBLISH
X-ORIGINAL-URL:https://thepinestimes.com
X-WR-CALDESC:Events for The Pines Times
REFRESH-INTERVAL;VALUE=DURATION:PT1H
X-Robots-Tag:noindex
X-PUBLISHED-TTL:PT1H
BEGIN:VTIMEZONE
TZID:America/New_York
BEGIN:DAYLIGHT
TZOFFSETFROM:-0500
TZOFFSETTO:-0400
TZNAME:EDT
DTSTART:20240310T070000
END:DAYLIGHT
BEGIN:STANDARD
TZOFFSETFROM:-0400
TZOFFSETTO:-0500
TZNAME:EST
DTSTART:20241103T060000
END:STANDARD
BEGIN:DAYLIGHT
TZOFFSETFROM:-0500
TZOFFSETTO:-0400
TZNAME:EDT
DTSTART:20250309T070000
END:DAYLIGHT
BEGIN:STANDARD
TZOFFSETFROM:-0400
TZOFFSETTO:-0500
TZNAME:EST
DTSTART:20251102T060000
END:STANDARD
BEGIN:DAYLIGHT
TZOFFSETFROM:-0500
TZOFFSETTO:-0400
TZNAME:EDT
DTSTART:20260308T070000
END:DAYLIGHT
BEGIN:STANDARD
TZOFFSETFROM:-0400
TZOFFSETTO:-0500
TZNAME:EST
DTSTART:20261101T060000
END:STANDARD
END:VTIMEZONE
BEGIN:VEVENT
DTSTART;TZID=America/New_York:20250913T100000
DTEND;TZID=America/New_York:20250913T180000
DTSTAMP:20260419T123420
CREATED:20250801T144323Z
LAST-MODIFIED:20250801T144323Z
UID:10063913-1757757600-1757786400@thepinestimes.com
SUMMARY:Drive a Race Car at The Rock
DESCRIPTION:Experience the Thrill: Drive a Race Car at Rockingham Speedway! America’s only 5-star rated racing experience\, Seat Time Racing Experience\, is returning to Rockingham Speedway on Saturday\, September 13th | 10am-6pm. This is your chance to learn to drive or ride like a pro in a real retired NASCAR race car. Friends and family are welcome to watch all the action from pit road. Secure your spot now by calling 704-998-1957 or visit the event website link provided below.
URL:https://thepinestimes.com/event/drive-a-race-car-at-the-rock/
LOCATION:Rockingham Speedway & Entertainment Complex\, 2152 N 1 Hwy\, Rockingham\, NC\, 28379\, United States
CATEGORIES:Adults,Family,Hobby/Enthusiast,Live Entertainment,Out of Town,Racing,Rockingham,Social,Sports
ATTACH;FMTTYPE=image/jpeg:https://thepinestimes.com/wp-content/uploads/SeatTimeRacingFeature.jpg
ORGANIZER;CN="Seat Time Racing Experience":MAILTO:info@seattimeracingschool.com
END:VEVENT
END:VCALENDAR