BEGIN:VCALENDAR
VERSION:2.0
PRODID:-//The Pines Times - ECPv6.15.20//NONSGML v1.0//EN
CALSCALE:GREGORIAN
METHOD:PUBLISH
X-ORIGINAL-URL:https://thepinestimes.com
X-WR-CALDESC:Events for The Pines Times
REFRESH-INTERVAL;VALUE=DURATION:PT1H
X-Robots-Tag:noindex
X-PUBLISHED-TTL:PT1H
BEGIN:VTIMEZONE
TZID:America/New_York
BEGIN:DAYLIGHT
TZOFFSETFROM:-0500
TZOFFSETTO:-0400
TZNAME:EDT
DTSTART:20240310T070000
END:DAYLIGHT
BEGIN:STANDARD
TZOFFSETFROM:-0400
TZOFFSETTO:-0500
TZNAME:EST
DTSTART:20241103T060000
END:STANDARD
BEGIN:DAYLIGHT
TZOFFSETFROM:-0500
TZOFFSETTO:-0400
TZNAME:EDT
DTSTART:20250309T070000
END:DAYLIGHT
BEGIN:STANDARD
TZOFFSETFROM:-0400
TZOFFSETTO:-0500
TZNAME:EST
DTSTART:20251102T060000
END:STANDARD
BEGIN:DAYLIGHT
TZOFFSETFROM:-0500
TZOFFSETTO:-0400
TZNAME:EDT
DTSTART:20260308T070000
END:DAYLIGHT
BEGIN:STANDARD
TZOFFSETFROM:-0400
TZOFFSETTO:-0500
TZNAME:EST
DTSTART:20261101T060000
END:STANDARD
BEGIN:DAYLIGHT
TZOFFSETFROM:-0500
TZOFFSETTO:-0400
TZNAME:EDT
DTSTART:20270314T070000
END:DAYLIGHT
BEGIN:STANDARD
TZOFFSETFROM:-0400
TZOFFSETTO:-0500
TZNAME:EST
DTSTART:20271107T060000
END:STANDARD
END:VTIMEZONE
BEGIN:VEVENT
DTSTART;TZID=America/New_York:20260418T090000
DTEND;TZID=America/New_York:20260418T150000
DTSTAMP:20260419T082254
CREATED:20260408T214013Z
LAST-MODIFIED:20260408T214108Z
UID:10086673-1776502800-1776524400@thepinestimes.com
SUMMARY:Equestrian Event: Prime Time Dressage
DESCRIPTION:Come out to the Carolina Horse Park in Raeford for Prime Time Dressage! Enjoy a weekend of equestrian competition. April 18th & 19th. \nSpectators are encouraged\, fun for all ages. Vendors and a food truck are typically on site. For additional information\, email info@sedgefieldshowgrounds.com or call 336-707-2056. \n  \n  \n 
URL:https://thepinestimes.com/event/equestrian-event-prime-time-dressage/2026-04-18/
LOCATION:Carolina Horse Park\, 2814 Montrose Road\, Raeford\, NC North Carolina
CATEGORIES:Adults,Equestrian,Family,Hobby/Enthusiast,Nature/Outdoors,Pets/Animals,Raeford Events,Senior,Social,Vendors
ATTACH;FMTTYPE=image/jpeg:https://thepinestimes.com/wp-content/uploads/Carolina-Horse-Park-Feature.jpg
END:VEVENT
BEGIN:VEVENT
DTSTART;TZID=America/New_York:20260412T090000
DTEND;TZID=America/New_York:20260412T150000
DTSTAMP:20260419T082254
CREATED:20260407T195101Z
LAST-MODIFIED:20260408T214319Z
UID:10086645-1775984400-1776006000@thepinestimes.com
SUMMARY:Equestrian Event: Longleaf Pines Horse Trials
DESCRIPTION:Come out to the Carolina Horse Park in Raeford for the Longleaf Pines Horse Trials! Enjoy a weekend of equestrian competition. The Longleaf Pines Horse Trials\, part of the Treehouse Event Series\, is a premier USEA Recognized Horse Trials hosted at the Carolina Horse Park\, presented by Breezeway Sporthorse & Diagnostic Clinic & Friendship Veterinary Imaging. April 10th-April 12th. \nSpectators are encouraged\, fun for all ages. Vendors and a food truck are typically on site. For additional information\, email info@sedgefieldshowgrounds.com or call 336-707-2056. \n \n  \n 
URL:https://thepinestimes.com/event/equestrian-event-longleaf-pines-horse-trials/2026-04-12/
LOCATION:Carolina Horse Park\, 2814 Montrose Road\, Raeford\, NC North Carolina
CATEGORIES:Adults,Equestrian,Family,Hobby/Enthusiast,Nature/Outdoors,Pets/Animals,Raeford Events,Senior,Social,Vendors
ATTACH;FMTTYPE=image/jpeg:https://thepinestimes.com/wp-content/uploads/Carolina-Horse-Park-Feature.jpg
END:VEVENT
BEGIN:VEVENT
DTSTART;TZID=America/New_York:20260411T090000
DTEND;TZID=America/New_York:20260411T150000
DTSTAMP:20260419T082254
CREATED:20260407T195101Z
LAST-MODIFIED:20260408T214319Z
UID:10086644-1775898000-1775919600@thepinestimes.com
SUMMARY:Equestrian Event: Longleaf Pines Horse Trials
DESCRIPTION:Come out to the Carolina Horse Park in Raeford for the Longleaf Pines Horse Trials! Enjoy a weekend of equestrian competition. The Longleaf Pines Horse Trials\, part of the Treehouse Event Series\, is a premier USEA Recognized Horse Trials hosted at the Carolina Horse Park\, presented by Breezeway Sporthorse & Diagnostic Clinic & Friendship Veterinary Imaging. April 10th-April 12th. \nSpectators are encouraged\, fun for all ages. Vendors and a food truck are typically on site. For additional information\, email info@sedgefieldshowgrounds.com or call 336-707-2056. \n \n  \n 
URL:https://thepinestimes.com/event/equestrian-event-longleaf-pines-horse-trials/2026-04-11/
LOCATION:Carolina Horse Park\, 2814 Montrose Road\, Raeford\, NC North Carolina
CATEGORIES:Adults,Equestrian,Family,Hobby/Enthusiast,Nature/Outdoors,Pets/Animals,Raeford Events,Senior,Social,Vendors
ATTACH;FMTTYPE=image/jpeg:https://thepinestimes.com/wp-content/uploads/Carolina-Horse-Park-Feature.jpg
END:VEVENT
BEGIN:VEVENT
DTSTART;TZID=America/New_York:20260410T090000
DTEND;TZID=America/New_York:20260410T150000
DTSTAMP:20260419T082254
CREATED:20260407T195101Z
LAST-MODIFIED:20260408T214319Z
UID:10086643-1775811600-1775833200@thepinestimes.com
SUMMARY:Equestrian Event: Longleaf Pines Horse Trials
DESCRIPTION:Come out to the Carolina Horse Park in Raeford for the Longleaf Pines Horse Trials! Enjoy a weekend of equestrian competition. The Longleaf Pines Horse Trials\, part of the Treehouse Event Series\, is a premier USEA Recognized Horse Trials hosted at the Carolina Horse Park\, presented by Breezeway Sporthorse & Diagnostic Clinic & Friendship Veterinary Imaging. April 10th-April 12th. \nSpectators are encouraged\, fun for all ages. Vendors and a food truck are typically on site. For additional information\, email info@sedgefieldshowgrounds.com or call 336-707-2056. \n \n  \n 
URL:https://thepinestimes.com/event/equestrian-event-longleaf-pines-horse-trials/2026-04-10/
LOCATION:Carolina Horse Park\, 2814 Montrose Road\, Raeford\, NC North Carolina
CATEGORIES:Adults,Equestrian,Family,Hobby/Enthusiast,Nature/Outdoors,Pets/Animals,Raeford Events,Senior,Social,Vendors
ATTACH;FMTTYPE=image/jpeg:https://thepinestimes.com/wp-content/uploads/Carolina-Horse-Park-Feature.jpg
END:VEVENT
BEGIN:VEVENT
DTSTART;TZID=America/New_York:20260404T090000
DTEND;TZID=America/New_York:20260404T150000
DTSTAMP:20260419T082254
CREATED:20230816T155420Z
LAST-MODIFIED:20260330T125151Z
UID:10085682-1775293200-1775314800@thepinestimes.com
SUMMARY:Equestrian Event: Sedgefield at the Park 'C'
DESCRIPTION:Come out to the Carolina Horse Park in Raeford for the Sedgefield at the Park ‘C’! Enjoy a weekend of equestrian competition. The Sedgefield at the Park Hunter Jumper Series offers a premier show experience at the Carolina Horse Park\, featuring top-notch competition in a welcoming atmosphere. Sanctioned by the United States Equestrian Federation (USEF) and the United States Hunter Jumper Association (USHJA)\, this series provides riders of all levels with the opportunity to compete in a professionally run\, high-quality event. \nSpectators are encouraged\, fun for all ages. Vendors and a food truck are typically on site. For additional information\, email info@sedgefieldshowgrounds.com or call 336-707-2056. \n \n  \n 
URL:https://thepinestimes.com/event/equestrian-event-sedgefield-at-the-park-c/2026-04-04/
LOCATION:Carolina Horse Park\, 2814 Montrose Road\, Raeford\, NC North Carolina
CATEGORIES:Adults,Equestrian,Family,Hobby/Enthusiast,Nature/Outdoors,Pets/Animals,Raeford Events,Senior,Social,Vendors
ATTACH;FMTTYPE=image/jpeg:https://thepinestimes.com/wp-content/uploads/Carolina-Horse-Park-Feature.jpg
END:VEVENT
BEGIN:VEVENT
DTSTART;TZID=America/New_York:20260403T090000
DTEND;TZID=America/New_York:20260403T150000
DTSTAMP:20260419T082254
CREATED:20230816T155420Z
LAST-MODIFIED:20260330T125151Z
UID:10085681-1775206800-1775228400@thepinestimes.com
SUMMARY:Equestrian Event: Sedgefield at the Park 'C'
DESCRIPTION:Come out to the Carolina Horse Park in Raeford for the Sedgefield at the Park ‘C’! Enjoy a weekend of equestrian competition. The Sedgefield at the Park Hunter Jumper Series offers a premier show experience at the Carolina Horse Park\, featuring top-notch competition in a welcoming atmosphere. Sanctioned by the United States Equestrian Federation (USEF) and the United States Hunter Jumper Association (USHJA)\, this series provides riders of all levels with the opportunity to compete in a professionally run\, high-quality event. \nSpectators are encouraged\, fun for all ages. Vendors and a food truck are typically on site. For additional information\, email info@sedgefieldshowgrounds.com or call 336-707-2056. \n \n  \n 
URL:https://thepinestimes.com/event/equestrian-event-sedgefield-at-the-park-c/2026-04-03/
LOCATION:Carolina Horse Park\, 2814 Montrose Road\, Raeford\, NC North Carolina
CATEGORIES:Adults,Equestrian,Family,Hobby/Enthusiast,Nature/Outdoors,Pets/Animals,Raeford Events,Senior,Social,Vendors
ATTACH;FMTTYPE=image/jpeg:https://thepinestimes.com/wp-content/uploads/Carolina-Horse-Park-Feature.jpg
END:VEVENT
BEGIN:VEVENT
DTSTART;TZID=America/New_York:20250524T090000
DTEND;TZID=America/New_York:20250524T170000
DTSTAMP:20260419T082254
CREATED:20240524T125028Z
LAST-MODIFIED:20250520T161618Z
UID:10058949-1748077200-1748106000@thepinestimes.com
SUMMARY:Carolina Horse Park: Sedgefield at the Park Memorial Day Classic
DESCRIPTION:Come out to the Carolina Horse Park in Raeford for the Sedgefield at the Park “NCHJA/SCHJA C Show” Red\, White & Blue Memorial Day Classic! The show runs May 23rd-May 25th. Ride\, remember and connect as a community! Enjoy a festive weekend filled with exciting competition and celebration\, all classics and derbies will embrace a “Show Your Patriotic Pride” theme\, so wear your best red\, white and blue. Be sure to join us Saturday afternoon for a cookout under the Pavilion- delicious food\, great company and a perfect way to celebrate the holiday weekend. \nThe Sedgefield at the Park Hunter Jumper Series offers a premier show experience at the Carolina Horse Park\, featuring top-notch competition in a welcoming atmosphere. Sanctioned by the United States Equestrian Federation (USEF) and the United States Hunter Jumper Association (USHJA)\, this series provides riders of all levels with the opportunity to compete in a professionally run\, high-quality event. \n  \n  \n 
URL:https://thepinestimes.com/event/carolina-horse-park-sedgefield-at-the-park-memorial-day-classic/2025-05-24/
LOCATION:Carolina Horse Park\, 2814 Montrose Road\, Raeford\, NC North Carolina
CATEGORIES:Adults,Equestrian,Family,Hobby/Enthusiast,HOMEPAGE Featured,Live Entertainment,Memorial Day,Nature/Outdoors,Pets/Animals,Raeford Events,Senior,Social,Vendors
ATTACH;FMTTYPE=image/jpeg:https://thepinestimes.com/wp-content/uploads/Carolina-Horse-Park-Feature.jpg
END:VEVENT
BEGIN:VEVENT
DTSTART;TZID=America/New_York:20250523T090000
DTEND;TZID=America/New_York:20250523T170000
DTSTAMP:20260419T082254
CREATED:20240524T125028Z
LAST-MODIFIED:20250520T161618Z
UID:10058948-1747990800-1748019600@thepinestimes.com
SUMMARY:Carolina Horse Park: Sedgefield at the Park Memorial Day Classic
DESCRIPTION:Come out to the Carolina Horse Park in Raeford for the Sedgefield at the Park “NCHJA/SCHJA C Show” Red\, White & Blue Memorial Day Classic! The show runs May 23rd-May 25th. Ride\, remember and connect as a community! Enjoy a festive weekend filled with exciting competition and celebration\, all classics and derbies will embrace a “Show Your Patriotic Pride” theme\, so wear your best red\, white and blue. Be sure to join us Saturday afternoon for a cookout under the Pavilion- delicious food\, great company and a perfect way to celebrate the holiday weekend. \nThe Sedgefield at the Park Hunter Jumper Series offers a premier show experience at the Carolina Horse Park\, featuring top-notch competition in a welcoming atmosphere. Sanctioned by the United States Equestrian Federation (USEF) and the United States Hunter Jumper Association (USHJA)\, this series provides riders of all levels with the opportunity to compete in a professionally run\, high-quality event. \n  \n  \n 
URL:https://thepinestimes.com/event/carolina-horse-park-sedgefield-at-the-park-memorial-day-classic/2025-05-23/
LOCATION:Carolina Horse Park\, 2814 Montrose Road\, Raeford\, NC North Carolina
CATEGORIES:Adults,Equestrian,Family,Hobby/Enthusiast,HOMEPAGE Featured,Live Entertainment,Memorial Day,Nature/Outdoors,Pets/Animals,Raeford Events,Senior,Social,Vendors
ATTACH;FMTTYPE=image/jpeg:https://thepinestimes.com/wp-content/uploads/Carolina-Horse-Park-Feature.jpg
END:VEVENT
END:VCALENDAR