BEGIN:VCALENDAR
VERSION:2.0
PRODID:-//The Pines Times - ECPv6.15.20//NONSGML v1.0//EN
CALSCALE:GREGORIAN
METHOD:PUBLISH
X-ORIGINAL-URL:https://thepinestimes.com
X-WR-CALDESC:Events for The Pines Times
REFRESH-INTERVAL;VALUE=DURATION:PT1H
X-Robots-Tag:noindex
X-PUBLISHED-TTL:PT1H
BEGIN:VTIMEZONE
TZID:America/New_York
BEGIN:DAYLIGHT
TZOFFSETFROM:-0500
TZOFFSETTO:-0400
TZNAME:EDT
DTSTART:20240310T070000
END:DAYLIGHT
BEGIN:STANDARD
TZOFFSETFROM:-0400
TZOFFSETTO:-0500
TZNAME:EST
DTSTART:20241103T060000
END:STANDARD
BEGIN:DAYLIGHT
TZOFFSETFROM:-0500
TZOFFSETTO:-0400
TZNAME:EDT
DTSTART:20250309T070000
END:DAYLIGHT
BEGIN:STANDARD
TZOFFSETFROM:-0400
TZOFFSETTO:-0500
TZNAME:EST
DTSTART:20251102T060000
END:STANDARD
BEGIN:DAYLIGHT
TZOFFSETFROM:-0500
TZOFFSETTO:-0400
TZNAME:EDT
DTSTART:20260308T070000
END:DAYLIGHT
BEGIN:STANDARD
TZOFFSETFROM:-0400
TZOFFSETTO:-0500
TZNAME:EST
DTSTART:20261101T060000
END:STANDARD
END:VTIMEZONE
BEGIN:VEVENT
DTSTART;TZID=America/New_York:20251005T100000
DTEND;TZID=America/New_York:20251005T130000
DTSTAMP:20260419T210303
CREATED:20250904T172341Z
LAST-MODIFIED:20250904T172341Z
UID:10067644-1759658400-1759669200@thepinestimes.com
SUMMARY:21st Annual Fall Shakori Hills GrassRoots Festival of Music & Dance
DESCRIPTION:Join for the 21st Annual Fall Shakori Hills GrassRoots Festival of Music & Dance October 2nd-5th! The Shakori Hills GrassRoots Festival of Music & Dance is a collaboration between the Shakori Hills Community Arts Center and the GrassRoots Festival Organization\, providing a family-friendly celebration of music\, dance\, art and education; a Music Lovers’ Paradise! There will be also be vendors to shop and support\, food\, workshops\, children’s activities\, yoga and more. Full details and online ticket options can be found through the event website link provided below. \nThe Shakori Hills Community Arts Center is a 501(c)(3) not-for-profit organization. Make a donation to the SHCAC! \nThe Finger Lakes GrassRoots Festival Organization is also a 501(c)(3) not-for-profit. Find out more about the GrassRoots Family.
URL:https://thepinestimes.com/event/21st-annual-fall-shakori-hills-grassroots-festival-of-music-dance/2025-10-05/
LOCATION:Shakori Hills Community Arts Center\, 1439 Henderson Tanyard Road\, Pittsboro\, 27312\, United States
CATEGORIES:Adult Connections,Adults,Art/Photography,Arts,Concert,Crafts,Dance,Fair/Festival,Fall,Fall in the Sandhills,Family,Hobby/Enthusiast,Live Music,Music,Nature/Outdoors,Out of Town,Pittsboro,Social,Teen Activities,Vendors,Young Adults
ATTACH;FMTTYPE=image/jpeg:https://thepinestimes.com/wp-content/uploads/ShakoriHillsFeature.jpg
ORGANIZER;CN="Shakori Hills Grassroots Festival of Music and Dance":MAILTO:shakorihills@grassrootsfest.org
END:VEVENT
BEGIN:VEVENT
DTSTART;TZID=America/New_York:20251004T100000
DTEND;TZID=America/New_York:20251004T235900
DTSTAMP:20260419T210303
CREATED:20250904T172341Z
LAST-MODIFIED:20250904T172341Z
UID:10067643-1759572000-1759622340@thepinestimes.com
SUMMARY:21st Annual Fall Shakori Hills GrassRoots Festival of Music & Dance
DESCRIPTION:Join for the 21st Annual Fall Shakori Hills GrassRoots Festival of Music & Dance October 2nd-5th! The Shakori Hills GrassRoots Festival of Music & Dance is a collaboration between the Shakori Hills Community Arts Center and the GrassRoots Festival Organization\, providing a family-friendly celebration of music\, dance\, art and education; a Music Lovers’ Paradise! There will be also be vendors to shop and support\, food\, workshops\, children’s activities\, yoga and more. Full details and online ticket options can be found through the event website link provided below. \nThe Shakori Hills Community Arts Center is a 501(c)(3) not-for-profit organization. Make a donation to the SHCAC! \nThe Finger Lakes GrassRoots Festival Organization is also a 501(c)(3) not-for-profit. Find out more about the GrassRoots Family.
URL:https://thepinestimes.com/event/21st-annual-fall-shakori-hills-grassroots-festival-of-music-dance/2025-10-04/
LOCATION:Shakori Hills Community Arts Center\, 1439 Henderson Tanyard Road\, Pittsboro\, 27312\, United States
CATEGORIES:Adult Connections,Adults,Art/Photography,Arts,Concert,Crafts,Dance,Fair/Festival,Fall,Fall in the Sandhills,Family,Hobby/Enthusiast,Live Music,Music,Nature/Outdoors,Out of Town,Pittsboro,Social,Teen Activities,Vendors,Young Adults
ATTACH;FMTTYPE=image/jpeg:https://thepinestimes.com/wp-content/uploads/ShakoriHillsFeature.jpg
ORGANIZER;CN="Shakori Hills Grassroots Festival of Music and Dance":MAILTO:shakorihills@grassrootsfest.org
END:VEVENT
BEGIN:VEVENT
DTSTART;TZID=America/New_York:20251003T090000
DTEND;TZID=America/New_York:20251003T235900
DTSTAMP:20260419T210303
CREATED:20250904T172341Z
LAST-MODIFIED:20250904T172341Z
UID:10067642-1759482000-1759535940@thepinestimes.com
SUMMARY:21st Annual Fall Shakori Hills GrassRoots Festival of Music & Dance
DESCRIPTION:Join for the 21st Annual Fall Shakori Hills GrassRoots Festival of Music & Dance October 2nd-5th! The Shakori Hills GrassRoots Festival of Music & Dance is a collaboration between the Shakori Hills Community Arts Center and the GrassRoots Festival Organization\, providing a family-friendly celebration of music\, dance\, art and education; a Music Lovers’ Paradise! There will be also be vendors to shop and support\, food\, workshops\, children’s activities\, yoga and more. Full details and online ticket options can be found through the event website link provided below. \nThe Shakori Hills Community Arts Center is a 501(c)(3) not-for-profit organization. Make a donation to the SHCAC! \nThe Finger Lakes GrassRoots Festival Organization is also a 501(c)(3) not-for-profit. Find out more about the GrassRoots Family.
URL:https://thepinestimes.com/event/21st-annual-fall-shakori-hills-grassroots-festival-of-music-dance/2025-10-03/
LOCATION:Shakori Hills Community Arts Center\, 1439 Henderson Tanyard Road\, Pittsboro\, 27312\, United States
CATEGORIES:Adult Connections,Adults,Art/Photography,Arts,Concert,Crafts,Dance,Fair/Festival,Fall,Fall in the Sandhills,Family,Hobby/Enthusiast,Live Music,Music,Nature/Outdoors,Out of Town,Pittsboro,Social,Teen Activities,Vendors,Young Adults
ATTACH;FMTTYPE=image/jpeg:https://thepinestimes.com/wp-content/uploads/ShakoriHillsFeature.jpg
ORGANIZER;CN="Shakori Hills Grassroots Festival of Music and Dance":MAILTO:shakorihills@grassrootsfest.org
END:VEVENT
BEGIN:VEVENT
DTSTART;TZID=America/New_York:20251002T160000
DTEND;TZID=America/New_York:20251002T235900
DTSTAMP:20260419T210303
CREATED:20250904T172341Z
LAST-MODIFIED:20250904T172341Z
UID:10067641-1759420800-1759449540@thepinestimes.com
SUMMARY:21st Annual Fall Shakori Hills GrassRoots Festival of Music & Dance
DESCRIPTION:Join for the 21st Annual Fall Shakori Hills GrassRoots Festival of Music & Dance October 2nd-5th! The Shakori Hills GrassRoots Festival of Music & Dance is a collaboration between the Shakori Hills Community Arts Center and the GrassRoots Festival Organization\, providing a family-friendly celebration of music\, dance\, art and education; a Music Lovers’ Paradise! There will be also be vendors to shop and support\, food\, workshops\, children’s activities\, yoga and more. Full details and online ticket options can be found through the event website link provided below. \nThe Shakori Hills Community Arts Center is a 501(c)(3) not-for-profit organization. Make a donation to the SHCAC! \nThe Finger Lakes GrassRoots Festival Organization is also a 501(c)(3) not-for-profit. Find out more about the GrassRoots Family.
URL:https://thepinestimes.com/event/21st-annual-fall-shakori-hills-grassroots-festival-of-music-dance/2025-10-02/
LOCATION:Shakori Hills Community Arts Center\, 1439 Henderson Tanyard Road\, Pittsboro\, 27312\, United States
CATEGORIES:Adult Connections,Adults,Art/Photography,Arts,Concert,Crafts,Dance,Fair/Festival,Fall,Fall in the Sandhills,Family,Hobby/Enthusiast,Live Music,Music,Nature/Outdoors,Out of Town,Pittsboro,Social,Teen Activities,Vendors,Young Adults
ATTACH;FMTTYPE=image/jpeg:https://thepinestimes.com/wp-content/uploads/ShakoriHillsFeature.jpg
ORGANIZER;CN="Shakori Hills Grassroots Festival of Music and Dance":MAILTO:shakorihills@grassrootsfest.org
END:VEVENT
END:VCALENDAR