BEGIN:VCALENDAR
VERSION:2.0
PRODID:-//The Pines Times - ECPv6.15.20//NONSGML v1.0//EN
CALSCALE:GREGORIAN
METHOD:PUBLISH
X-WR-CALNAME:The Pines Times
X-ORIGINAL-URL:https://thepinestimes.com
X-WR-CALDESC:Events for The Pines Times
REFRESH-INTERVAL;VALUE=DURATION:PT1H
X-Robots-Tag:noindex
X-PUBLISHED-TTL:PT1H
BEGIN:VTIMEZONE
TZID:America/New_York
BEGIN:DAYLIGHT
TZOFFSETFROM:-0500
TZOFFSETTO:-0400
TZNAME:EDT
DTSTART:20250309T070000
END:DAYLIGHT
BEGIN:STANDARD
TZOFFSETFROM:-0400
TZOFFSETTO:-0500
TZNAME:EST
DTSTART:20251102T060000
END:STANDARD
BEGIN:DAYLIGHT
TZOFFSETFROM:-0500
TZOFFSETTO:-0400
TZNAME:EDT
DTSTART:20260308T070000
END:DAYLIGHT
BEGIN:STANDARD
TZOFFSETFROM:-0400
TZOFFSETTO:-0500
TZNAME:EST
DTSTART:20261101T060000
END:STANDARD
BEGIN:DAYLIGHT
TZOFFSETFROM:-0500
TZOFFSETTO:-0400
TZNAME:EDT
DTSTART:20270314T070000
END:DAYLIGHT
BEGIN:STANDARD
TZOFFSETFROM:-0400
TZOFFSETTO:-0500
TZNAME:EST
DTSTART:20271107T060000
END:STANDARD
END:VTIMEZONE
BEGIN:VEVENT
DTSTART;TZID=America/New_York:20260307T183000
DTEND;TZID=America/New_York:20260307T183000
DTSTAMP:20260423T161108
CREATED:20260302T170806Z
LAST-MODIFIED:20260302T171555Z
UID:10082169-1772908200-1772908200@thepinestimes.com
SUMMARY:Southern Middle School Theater: "Disney’s The Little Mermaid Jr."
DESCRIPTION:Southern Middle School invites the community to dive into their upcoming production of Disney’s The Little Mermaid Jr. taking place this March. Come out and support local student performers in a beloved musical classic! \nThere are three chances to catch the show: Friday\, March 6th at 6:30PM\, and Saturday\, March 7th with performances at both 12:30PM and 6:30PM. \nTickets are available for purchase in the front office starting this Tuesday\, priced at $10 for adults and $7 for students. Please note that the box office only accepts payment by cash or check.
URL:https://thepinestimes.com/event/southern-middle-school-theater-disneys-the-little-mermaid-jr/2026-03-07/2/
LOCATION:Southern Middle School\, 717 Johnson St.\, Aberdeen\, NC\, 28315\, United States
CATEGORIES:Children,Family,Live Entertainment,Live Theater,Piney's Kids,School,Southern Pines Events,Teen Activities
ATTACH;FMTTYPE=image/jpeg:https://thepinestimes.com/wp-content/uploads/SouthernMiddleTheaterFeature.jpg
END:VEVENT
BEGIN:VEVENT
DTSTART;TZID=America/New_York:20260307T123000
DTEND;TZID=America/New_York:20260307T123000
DTSTAMP:20260423T161108
CREATED:20260302T170806Z
LAST-MODIFIED:20260302T171555Z
UID:10082168-1772886600-1772886600@thepinestimes.com
SUMMARY:Southern Middle School Theater: "Disney’s The Little Mermaid Jr."
DESCRIPTION:Southern Middle School invites the community to dive into their upcoming production of Disney’s The Little Mermaid Jr. taking place this March. Come out and support local student performers in a beloved musical classic! \nThere are three chances to catch the show: Friday\, March 6th at 6:30PM\, and Saturday\, March 7th with performances at both 12:30PM and 6:30PM. \nTickets are available for purchase in the front office starting this Tuesday\, priced at $10 for adults and $7 for students. Please note that the box office only accepts payment by cash or check.
URL:https://thepinestimes.com/event/southern-middle-school-theater-disneys-the-little-mermaid-jr/2026-03-07/1/
LOCATION:Southern Middle School\, 717 Johnson St.\, Aberdeen\, NC\, 28315\, United States
CATEGORIES:Children,Family,Live Entertainment,Live Theater,Piney's Kids,School,Southern Pines Events,Teen Activities
ATTACH;FMTTYPE=image/jpeg:https://thepinestimes.com/wp-content/uploads/SouthernMiddleTheaterFeature.jpg
END:VEVENT
BEGIN:VEVENT
DTSTART;TZID=America/New_York:20260306T183000
DTEND;TZID=America/New_York:20260306T183000
DTSTAMP:20260423T161108
CREATED:20260302T170806Z
LAST-MODIFIED:20260302T171555Z
UID:10082167-1772821800-1772821800@thepinestimes.com
SUMMARY:Southern Middle School Theater: "Disney’s The Little Mermaid Jr."
DESCRIPTION:Southern Middle School invites the community to dive into their upcoming production of Disney’s The Little Mermaid Jr. taking place this March. Come out and support local student performers in a beloved musical classic! \nThere are three chances to catch the show: Friday\, March 6th at 6:30PM\, and Saturday\, March 7th with performances at both 12:30PM and 6:30PM. \nTickets are available for purchase in the front office starting this Tuesday\, priced at $10 for adults and $7 for students. Please note that the box office only accepts payment by cash or check.
URL:https://thepinestimes.com/event/southern-middle-school-theater-disneys-the-little-mermaid-jr/2026-03-06/
LOCATION:Southern Middle School\, 717 Johnson St.\, Aberdeen\, NC\, 28315\, United States
CATEGORIES:Children,Family,Live Entertainment,Live Theater,Piney's Kids,School,Southern Pines Events,Teen Activities
ATTACH;FMTTYPE=image/jpeg:https://thepinestimes.com/wp-content/uploads/SouthernMiddleTheaterFeature.jpg
END:VEVENT
END:VCALENDAR