BEGIN:VCALENDAR
VERSION:2.0
PRODID:-//The Pines Times - ECPv6.15.20//NONSGML v1.0//EN
CALSCALE:GREGORIAN
METHOD:PUBLISH
X-WR-CALNAME:The Pines Times
X-ORIGINAL-URL:https://thepinestimes.com
X-WR-CALDESC:Events for The Pines Times
REFRESH-INTERVAL;VALUE=DURATION:PT1H
X-Robots-Tag:noindex
X-PUBLISHED-TTL:PT1H
BEGIN:VTIMEZONE
TZID:America/New_York
BEGIN:DAYLIGHT
TZOFFSETFROM:-0500
TZOFFSETTO:-0400
TZNAME:EDT
DTSTART:20240310T070000
END:DAYLIGHT
BEGIN:STANDARD
TZOFFSETFROM:-0400
TZOFFSETTO:-0500
TZNAME:EST
DTSTART:20241103T060000
END:STANDARD
BEGIN:DAYLIGHT
TZOFFSETFROM:-0500
TZOFFSETTO:-0400
TZNAME:EDT
DTSTART:20250309T070000
END:DAYLIGHT
BEGIN:STANDARD
TZOFFSETFROM:-0400
TZOFFSETTO:-0500
TZNAME:EST
DTSTART:20251102T060000
END:STANDARD
BEGIN:DAYLIGHT
TZOFFSETFROM:-0500
TZOFFSETTO:-0400
TZNAME:EDT
DTSTART:20260308T070000
END:DAYLIGHT
BEGIN:STANDARD
TZOFFSETFROM:-0400
TZOFFSETTO:-0500
TZNAME:EST
DTSTART:20261101T060000
END:STANDARD
END:VTIMEZONE
BEGIN:VEVENT
DTSTART;TZID=America/New_York:20250925T180000
DTEND;TZID=America/New_York:20250925T200000
DTSTAMP:20260424T095305
CREATED:20240104T002348Z
LAST-MODIFIED:20250806T173344Z
UID:10064166-1758823200-1758830400@thepinestimes.com
SUMMARY:Trivia Thursday at the Brewery
DESCRIPTION:Have fun at Southern Pines Brewery with Trivia. Trivia takes place every Thursday evening at 6:00pm at the Production Brewery.
URL:https://thepinestimes.com/event/trivia-thursday-at-the-brewery-2-2-2/2025-09-25/
LOCATION:Southern Pines Brewing Company\, 565 Air Tool Dr.\, Southern Pines\, NC\, 28387\, United States
CATEGORIES:Adults,Beer and Wine,Games,Hobby/Enthusiast,Night Life,Senior,Social,Southern Pines Events
ATTACH;FMTTYPE=image/png:https://thepinestimes.com/wp-content/uploads/Trivia-Night-e1754408009763.png
ORGANIZER;CN="Southern Pines Brewing Company":MAILTO:info@southernpinesbrewing.com
END:VEVENT
BEGIN:VEVENT
DTSTART;TZID=America/New_York:20250918T180000
DTEND;TZID=America/New_York:20250918T200000
DTSTAMP:20260424T095306
CREATED:20240104T002348Z
LAST-MODIFIED:20250806T173344Z
UID:10064165-1758218400-1758225600@thepinestimes.com
SUMMARY:Trivia Thursday at the Brewery
DESCRIPTION:Have fun at Southern Pines Brewery with Trivia. Trivia takes place every Thursday evening at 6:00pm at the Production Brewery.
URL:https://thepinestimes.com/event/trivia-thursday-at-the-brewery-2-2-2/2025-09-18/
LOCATION:Southern Pines Brewing Company\, 565 Air Tool Dr.\, Southern Pines\, NC\, 28387\, United States
CATEGORIES:Adults,Beer and Wine,Games,Hobby/Enthusiast,Night Life,Senior,Social,Southern Pines Events
ATTACH;FMTTYPE=image/png:https://thepinestimes.com/wp-content/uploads/Trivia-Night-e1754408009763.png
ORGANIZER;CN="Southern Pines Brewing Company":MAILTO:info@southernpinesbrewing.com
END:VEVENT
BEGIN:VEVENT
DTSTART;TZID=America/New_York:20250911T180000
DTEND;TZID=America/New_York:20250911T200000
DTSTAMP:20260424T095306
CREATED:20240104T002348Z
LAST-MODIFIED:20250806T173344Z
UID:10064164-1757613600-1757620800@thepinestimes.com
SUMMARY:Trivia Thursday at the Brewery
DESCRIPTION:Have fun at Southern Pines Brewery with Trivia. Trivia takes place every Thursday evening at 6:00pm at the Production Brewery.
URL:https://thepinestimes.com/event/trivia-thursday-at-the-brewery-2-2-2/2025-09-11/
LOCATION:Southern Pines Brewing Company\, 565 Air Tool Dr.\, Southern Pines\, NC\, 28387\, United States
CATEGORIES:Adults,Beer and Wine,Games,Hobby/Enthusiast,Night Life,Senior,Social,Southern Pines Events
ATTACH;FMTTYPE=image/png:https://thepinestimes.com/wp-content/uploads/Trivia-Night-e1754408009763.png
ORGANIZER;CN="Southern Pines Brewing Company":MAILTO:info@southernpinesbrewing.com
END:VEVENT
BEGIN:VEVENT
DTSTART;TZID=America/New_York:20250904T180000
DTEND;TZID=America/New_York:20250904T200000
DTSTAMP:20260424T095306
CREATED:20240104T002348Z
LAST-MODIFIED:20250806T173344Z
UID:10064163-1757008800-1757016000@thepinestimes.com
SUMMARY:Trivia Thursday at the Brewery
DESCRIPTION:Have fun at Southern Pines Brewery with Trivia. Trivia takes place every Thursday evening at 6:00pm at the Production Brewery.
URL:https://thepinestimes.com/event/trivia-thursday-at-the-brewery-2-2-2/2025-09-04/
LOCATION:Southern Pines Brewing Company\, 565 Air Tool Dr.\, Southern Pines\, NC\, 28387\, United States
CATEGORIES:Adults,Beer and Wine,Games,Hobby/Enthusiast,Night Life,Senior,Social,Southern Pines Events
ATTACH;FMTTYPE=image/png:https://thepinestimes.com/wp-content/uploads/Trivia-Night-e1754408009763.png
ORGANIZER;CN="Southern Pines Brewing Company":MAILTO:info@southernpinesbrewing.com
END:VEVENT
BEGIN:VEVENT
DTSTART;TZID=America/New_York:20250828T180000
DTEND;TZID=America/New_York:20250828T200000
DTSTAMP:20260424T095306
CREATED:20240104T002348Z
LAST-MODIFIED:20250806T173344Z
UID:10060291-1756404000-1756411200@thepinestimes.com
SUMMARY:Trivia Thursday at the Brewery
DESCRIPTION:Have fun at Southern Pines Brewery with Trivia. Trivia takes place every Thursday evening at 6:00pm at the Production Brewery.
URL:https://thepinestimes.com/event/trivia-thursday-at-the-brewery-2-2-2/2025-08-28/
LOCATION:Southern Pines Brewing Company\, 565 Air Tool Dr.\, Southern Pines\, NC\, 28387\, United States
CATEGORIES:Adults,Beer and Wine,Games,Hobby/Enthusiast,Night Life,Senior,Social,Southern Pines Events
ATTACH;FMTTYPE=image/png:https://thepinestimes.com/wp-content/uploads/Trivia-Night-e1754408009763.png
ORGANIZER;CN="Southern Pines Brewing Company":MAILTO:info@southernpinesbrewing.com
END:VEVENT
BEGIN:VEVENT
DTSTART;TZID=America/New_York:20250821T180000
DTEND;TZID=America/New_York:20250821T200000
DTSTAMP:20260424T095306
CREATED:20240104T002348Z
LAST-MODIFIED:20250806T173344Z
UID:10060290-1755799200-1755806400@thepinestimes.com
SUMMARY:Trivia Thursday at the Brewery
DESCRIPTION:Have fun at Southern Pines Brewery with Trivia. Trivia takes place every Thursday evening at 6:00pm at the Production Brewery.
URL:https://thepinestimes.com/event/trivia-thursday-at-the-brewery-2-2-2/2025-08-21/
LOCATION:Southern Pines Brewing Company\, 565 Air Tool Dr.\, Southern Pines\, NC\, 28387\, United States
CATEGORIES:Adults,Beer and Wine,Games,Hobby/Enthusiast,Night Life,Senior,Social,Southern Pines Events
ATTACH;FMTTYPE=image/png:https://thepinestimes.com/wp-content/uploads/Trivia-Night-e1754408009763.png
ORGANIZER;CN="Southern Pines Brewing Company":MAILTO:info@southernpinesbrewing.com
END:VEVENT
BEGIN:VEVENT
DTSTART;TZID=America/New_York:20250814T180000
DTEND;TZID=America/New_York:20250814T200000
DTSTAMP:20260424T095306
CREATED:20240104T002348Z
LAST-MODIFIED:20250806T173344Z
UID:10060289-1755194400-1755201600@thepinestimes.com
SUMMARY:Trivia Thursday at the Brewery
DESCRIPTION:Have fun at Southern Pines Brewery with Trivia. Trivia takes place every Thursday evening at 6:00pm at the Production Brewery.
URL:https://thepinestimes.com/event/trivia-thursday-at-the-brewery-2-2-2/2025-08-14/
LOCATION:Southern Pines Brewing Company\, 565 Air Tool Dr.\, Southern Pines\, NC\, 28387\, United States
CATEGORIES:Adults,Beer and Wine,Games,Hobby/Enthusiast,Night Life,Senior,Social,Southern Pines Events
ATTACH;FMTTYPE=image/png:https://thepinestimes.com/wp-content/uploads/Trivia-Night-e1754408009763.png
ORGANIZER;CN="Southern Pines Brewing Company":MAILTO:info@southernpinesbrewing.com
END:VEVENT
BEGIN:VEVENT
DTSTART;TZID=America/New_York:20250807T180000
DTEND;TZID=America/New_York:20250807T200000
DTSTAMP:20260424T095306
CREATED:20240104T002348Z
LAST-MODIFIED:20250806T173344Z
UID:10060288-1754589600-1754596800@thepinestimes.com
SUMMARY:Trivia Thursday at the Brewery
DESCRIPTION:Have fun at Southern Pines Brewery with Trivia. Trivia takes place every Thursday evening at 6:00pm at the Production Brewery.
URL:https://thepinestimes.com/event/trivia-thursday-at-the-brewery-2-2-2/2025-08-07/
LOCATION:Southern Pines Brewing Company\, 565 Air Tool Dr.\, Southern Pines\, NC\, 28387\, United States
CATEGORIES:Adults,Beer and Wine,Games,Hobby/Enthusiast,Night Life,Senior,Social,Southern Pines Events
ATTACH;FMTTYPE=image/png:https://thepinestimes.com/wp-content/uploads/Trivia-Night-e1754408009763.png
ORGANIZER;CN="Southern Pines Brewing Company":MAILTO:info@southernpinesbrewing.com
END:VEVENT
BEGIN:VEVENT
DTSTART;TZID=America/New_York:20250731T180000
DTEND;TZID=America/New_York:20250731T200000
DTSTAMP:20260424T095306
CREATED:20240104T002348Z
LAST-MODIFIED:20250806T173344Z
UID:10060287-1753984800-1753992000@thepinestimes.com
SUMMARY:Trivia Thursday at the Brewery
DESCRIPTION:Have fun at Southern Pines Brewery with Trivia. Trivia takes place every Thursday evening at 6:00pm at the Production Brewery.
URL:https://thepinestimes.com/event/trivia-thursday-at-the-brewery-2-2-2/2025-07-31/
LOCATION:Southern Pines Brewing Company\, 565 Air Tool Dr.\, Southern Pines\, NC\, 28387\, United States
CATEGORIES:Adults,Beer and Wine,Games,Hobby/Enthusiast,Night Life,Senior,Social,Southern Pines Events
ATTACH;FMTTYPE=image/png:https://thepinestimes.com/wp-content/uploads/Trivia-Night-e1754408009763.png
ORGANIZER;CN="Southern Pines Brewing Company":MAILTO:info@southernpinesbrewing.com
END:VEVENT
BEGIN:VEVENT
DTSTART;TZID=America/New_York:20250724T180000
DTEND;TZID=America/New_York:20250724T200000
DTSTAMP:20260424T095306
CREATED:20240104T002348Z
LAST-MODIFIED:20250806T173344Z
UID:10060286-1753380000-1753387200@thepinestimes.com
SUMMARY:Trivia Thursday at the Brewery
DESCRIPTION:Have fun at Southern Pines Brewery with Trivia. Trivia takes place every Thursday evening at 6:00pm at the Production Brewery.
URL:https://thepinestimes.com/event/trivia-thursday-at-the-brewery-2-2-2/2025-07-24/
LOCATION:Southern Pines Brewing Company\, 565 Air Tool Dr.\, Southern Pines\, NC\, 28387\, United States
CATEGORIES:Adults,Beer and Wine,Games,Hobby/Enthusiast,Night Life,Senior,Social,Southern Pines Events
ATTACH;FMTTYPE=image/png:https://thepinestimes.com/wp-content/uploads/Trivia-Night-e1754408009763.png
ORGANIZER;CN="Southern Pines Brewing Company":MAILTO:info@southernpinesbrewing.com
END:VEVENT
BEGIN:VEVENT
DTSTART;TZID=America/New_York:20250717T180000
DTEND;TZID=America/New_York:20250717T200000
DTSTAMP:20260424T095306
CREATED:20240104T002348Z
LAST-MODIFIED:20250806T173344Z
UID:10060285-1752775200-1752782400@thepinestimes.com
SUMMARY:Trivia Thursday at the Brewery
DESCRIPTION:Have fun at Southern Pines Brewery with Trivia. Trivia takes place every Thursday evening at 6:00pm at the Production Brewery.
URL:https://thepinestimes.com/event/trivia-thursday-at-the-brewery-2-2-2/2025-07-17/
LOCATION:Southern Pines Brewing Company\, 565 Air Tool Dr.\, Southern Pines\, NC\, 28387\, United States
CATEGORIES:Adults,Beer and Wine,Games,Hobby/Enthusiast,Night Life,Senior,Social,Southern Pines Events
ATTACH;FMTTYPE=image/png:https://thepinestimes.com/wp-content/uploads/Trivia-Night-e1754408009763.png
ORGANIZER;CN="Southern Pines Brewing Company":MAILTO:info@southernpinesbrewing.com
END:VEVENT
BEGIN:VEVENT
DTSTART;TZID=America/New_York:20250710T180000
DTEND;TZID=America/New_York:20250710T200000
DTSTAMP:20260424T095306
CREATED:20240104T002348Z
LAST-MODIFIED:20250806T173344Z
UID:10060284-1752170400-1752177600@thepinestimes.com
SUMMARY:Trivia Thursday at the Brewery
DESCRIPTION:Have fun at Southern Pines Brewery with Trivia. Trivia takes place every Thursday evening at 6:00pm at the Production Brewery.
URL:https://thepinestimes.com/event/trivia-thursday-at-the-brewery-2-2-2/2025-07-10/
LOCATION:Southern Pines Brewing Company\, 565 Air Tool Dr.\, Southern Pines\, NC\, 28387\, United States
CATEGORIES:Adults,Beer and Wine,Games,Hobby/Enthusiast,Night Life,Senior,Social,Southern Pines Events
ATTACH;FMTTYPE=image/png:https://thepinestimes.com/wp-content/uploads/Trivia-Night-e1754408009763.png
ORGANIZER;CN="Southern Pines Brewing Company":MAILTO:info@southernpinesbrewing.com
END:VEVENT
BEGIN:VEVENT
DTSTART;TZID=America/New_York:20250703T180000
DTEND;TZID=America/New_York:20250703T200000
DTSTAMP:20260424T095306
CREATED:20240104T002348Z
LAST-MODIFIED:20250806T173344Z
UID:10060283-1751565600-1751572800@thepinestimes.com
SUMMARY:Trivia Thursday at the Brewery
DESCRIPTION:Have fun at Southern Pines Brewery with Trivia. Trivia takes place every Thursday evening at 6:00pm at the Production Brewery.
URL:https://thepinestimes.com/event/trivia-thursday-at-the-brewery-2-2-2/2025-07-03/
LOCATION:Southern Pines Brewing Company\, 565 Air Tool Dr.\, Southern Pines\, NC\, 28387\, United States
CATEGORIES:Adults,Beer and Wine,Games,Hobby/Enthusiast,Night Life,Senior,Social,Southern Pines Events
ATTACH;FMTTYPE=image/png:https://thepinestimes.com/wp-content/uploads/Trivia-Night-e1754408009763.png
ORGANIZER;CN="Southern Pines Brewing Company":MAILTO:info@southernpinesbrewing.com
END:VEVENT
BEGIN:VEVENT
DTSTART;TZID=America/New_York:20250626T180000
DTEND;TZID=America/New_York:20250626T200000
DTSTAMP:20260424T095306
CREATED:20240104T002348Z
LAST-MODIFIED:20250806T173344Z
UID:10060282-1750960800-1750968000@thepinestimes.com
SUMMARY:Trivia Thursday at the Brewery
DESCRIPTION:Have fun at Southern Pines Brewery with Trivia. Trivia takes place every Thursday evening at 6:00pm at the Production Brewery.
URL:https://thepinestimes.com/event/trivia-thursday-at-the-brewery-2-2-2/2025-06-26/
LOCATION:Southern Pines Brewing Company\, 565 Air Tool Dr.\, Southern Pines\, NC\, 28387\, United States
CATEGORIES:Adults,Beer and Wine,Games,Hobby/Enthusiast,Night Life,Senior,Social,Southern Pines Events
ATTACH;FMTTYPE=image/png:https://thepinestimes.com/wp-content/uploads/Trivia-Night-e1754408009763.png
ORGANIZER;CN="Southern Pines Brewing Company":MAILTO:info@southernpinesbrewing.com
END:VEVENT
BEGIN:VEVENT
DTSTART;TZID=America/New_York:20250619T180000
DTEND;TZID=America/New_York:20250619T200000
DTSTAMP:20260424T095306
CREATED:20240104T002348Z
LAST-MODIFIED:20250806T173344Z
UID:10060281-1750356000-1750363200@thepinestimes.com
SUMMARY:Trivia Thursday at the Brewery
DESCRIPTION:Have fun at Southern Pines Brewery with Trivia. Trivia takes place every Thursday evening at 6:00pm at the Production Brewery.
URL:https://thepinestimes.com/event/trivia-thursday-at-the-brewery-2-2-2/2025-06-19/
LOCATION:Southern Pines Brewing Company\, 565 Air Tool Dr.\, Southern Pines\, NC\, 28387\, United States
CATEGORIES:Adults,Beer and Wine,Games,Hobby/Enthusiast,Night Life,Senior,Social,Southern Pines Events
ATTACH;FMTTYPE=image/png:https://thepinestimes.com/wp-content/uploads/Trivia-Night-e1754408009763.png
ORGANIZER;CN="Southern Pines Brewing Company":MAILTO:info@southernpinesbrewing.com
END:VEVENT
BEGIN:VEVENT
DTSTART;TZID=America/New_York:20250612T180000
DTEND;TZID=America/New_York:20250612T200000
DTSTAMP:20260424T095306
CREATED:20240104T002348Z
LAST-MODIFIED:20250806T173344Z
UID:10060280-1749751200-1749758400@thepinestimes.com
SUMMARY:Trivia Thursday at the Brewery
DESCRIPTION:Have fun at Southern Pines Brewery with Trivia. Trivia takes place every Thursday evening at 6:00pm at the Production Brewery.
URL:https://thepinestimes.com/event/trivia-thursday-at-the-brewery-2-2-2/2025-06-12/
LOCATION:Southern Pines Brewing Company\, 565 Air Tool Dr.\, Southern Pines\, NC\, 28387\, United States
CATEGORIES:Adults,Beer and Wine,Games,Hobby/Enthusiast,Night Life,Senior,Social,Southern Pines Events
ATTACH;FMTTYPE=image/png:https://thepinestimes.com/wp-content/uploads/Trivia-Night-e1754408009763.png
ORGANIZER;CN="Southern Pines Brewing Company":MAILTO:info@southernpinesbrewing.com
END:VEVENT
BEGIN:VEVENT
DTSTART;TZID=America/New_York:20250605T180000
DTEND;TZID=America/New_York:20250605T200000
DTSTAMP:20260424T095306
CREATED:20240104T002348Z
LAST-MODIFIED:20250806T173344Z
UID:10060279-1749146400-1749153600@thepinestimes.com
SUMMARY:Trivia Thursday at the Brewery
DESCRIPTION:Have fun at Southern Pines Brewery with Trivia. Trivia takes place every Thursday evening at 6:00pm at the Production Brewery.
URL:https://thepinestimes.com/event/trivia-thursday-at-the-brewery-2-2-2/2025-06-05/
LOCATION:Southern Pines Brewing Company\, 565 Air Tool Dr.\, Southern Pines\, NC\, 28387\, United States
CATEGORIES:Adults,Beer and Wine,Games,Hobby/Enthusiast,Night Life,Senior,Social,Southern Pines Events
ATTACH;FMTTYPE=image/png:https://thepinestimes.com/wp-content/uploads/Trivia-Night-e1754408009763.png
ORGANIZER;CN="Southern Pines Brewing Company":MAILTO:info@southernpinesbrewing.com
END:VEVENT
BEGIN:VEVENT
DTSTART;TZID=America/New_York:20250529T180000
DTEND;TZID=America/New_York:20250529T200000
DTSTAMP:20260424T095306
CREATED:20240104T002348Z
LAST-MODIFIED:20250806T173344Z
UID:10057314-1748541600-1748548800@thepinestimes.com
SUMMARY:Trivia Thursday at the Brewery
DESCRIPTION:Have fun at Southern Pines Brewery with Trivia. Trivia takes place every Thursday evening at 6:00pm at the Production Brewery.
URL:https://thepinestimes.com/event/trivia-thursday-at-the-brewery-2-2-2/2025-05-29/
LOCATION:Southern Pines Brewing Company\, 565 Air Tool Dr.\, Southern Pines\, NC\, 28387\, United States
CATEGORIES:Adults,Beer and Wine,Games,Hobby/Enthusiast,Night Life,Senior,Social,Southern Pines Events
ATTACH;FMTTYPE=image/png:https://thepinestimes.com/wp-content/uploads/Trivia-Night-e1754408009763.png
ORGANIZER;CN="Southern Pines Brewing Company":MAILTO:info@southernpinesbrewing.com
END:VEVENT
BEGIN:VEVENT
DTSTART;TZID=America/New_York:20250515T180000
DTEND;TZID=America/New_York:20250515T200000
DTSTAMP:20260424T095306
CREATED:20240104T002348Z
LAST-MODIFIED:20250806T173344Z
UID:10057312-1747332000-1747339200@thepinestimes.com
SUMMARY:Trivia Thursday at the Brewery
DESCRIPTION:Have fun at Southern Pines Brewery with Trivia. Trivia takes place every Thursday evening at 6:00pm at the Production Brewery.
URL:https://thepinestimes.com/event/trivia-thursday-at-the-brewery-2-2-2/2025-05-15/
LOCATION:Southern Pines Brewing Company\, 565 Air Tool Dr.\, Southern Pines\, NC\, 28387\, United States
CATEGORIES:Adults,Beer and Wine,Games,Hobby/Enthusiast,Night Life,Senior,Social,Southern Pines Events
ATTACH;FMTTYPE=image/png:https://thepinestimes.com/wp-content/uploads/Trivia-Night-e1754408009763.png
ORGANIZER;CN="Southern Pines Brewing Company":MAILTO:info@southernpinesbrewing.com
END:VEVENT
BEGIN:VEVENT
DTSTART;TZID=America/New_York:20250508T180000
DTEND;TZID=America/New_York:20250508T200000
DTSTAMP:20260424T095306
CREATED:20240104T002348Z
LAST-MODIFIED:20250806T173344Z
UID:10057311-1746727200-1746734400@thepinestimes.com
SUMMARY:Trivia Thursday at the Brewery
DESCRIPTION:Have fun at Southern Pines Brewery with Trivia. Trivia takes place every Thursday evening at 6:00pm at the Production Brewery.
URL:https://thepinestimes.com/event/trivia-thursday-at-the-brewery-2-2-2/2025-05-08/
LOCATION:Southern Pines Brewing Company\, 565 Air Tool Dr.\, Southern Pines\, NC\, 28387\, United States
CATEGORIES:Adults,Beer and Wine,Games,Hobby/Enthusiast,Night Life,Senior,Social,Southern Pines Events
ATTACH;FMTTYPE=image/png:https://thepinestimes.com/wp-content/uploads/Trivia-Night-e1754408009763.png
ORGANIZER;CN="Southern Pines Brewing Company":MAILTO:info@southernpinesbrewing.com
END:VEVENT
BEGIN:VEVENT
DTSTART;TZID=America/New_York:20250501T180000
DTEND;TZID=America/New_York:20250501T200000
DTSTAMP:20260424T095306
CREATED:20240104T002348Z
LAST-MODIFIED:20250806T173344Z
UID:10057310-1746122400-1746129600@thepinestimes.com
SUMMARY:Trivia Thursday at the Brewery
DESCRIPTION:Have fun at Southern Pines Brewery with Trivia. Trivia takes place every Thursday evening at 6:00pm at the Production Brewery.
URL:https://thepinestimes.com/event/trivia-thursday-at-the-brewery-2-2-2/2025-05-01/
LOCATION:Southern Pines Brewing Company\, 565 Air Tool Dr.\, Southern Pines\, NC\, 28387\, United States
CATEGORIES:Adults,Beer and Wine,Games,Hobby/Enthusiast,Night Life,Senior,Social,Southern Pines Events
ATTACH;FMTTYPE=image/png:https://thepinestimes.com/wp-content/uploads/Trivia-Night-e1754408009763.png
ORGANIZER;CN="Southern Pines Brewing Company":MAILTO:info@southernpinesbrewing.com
END:VEVENT
END:VCALENDAR