BEGIN:VCALENDAR
VERSION:2.0
PRODID:-//The Pines Times - ECPv6.15.20//NONSGML v1.0//EN
CALSCALE:GREGORIAN
METHOD:PUBLISH
X-WR-CALNAME:The Pines Times
X-ORIGINAL-URL:https://thepinestimes.com
X-WR-CALDESC:Events for The Pines Times
REFRESH-INTERVAL;VALUE=DURATION:PT1H
X-Robots-Tag:noindex
X-PUBLISHED-TTL:PT1H
BEGIN:VTIMEZONE
TZID:America/New_York
BEGIN:DAYLIGHT
TZOFFSETFROM:-0500
TZOFFSETTO:-0400
TZNAME:EDT
DTSTART:20240310T070000
END:DAYLIGHT
BEGIN:STANDARD
TZOFFSETFROM:-0400
TZOFFSETTO:-0500
TZNAME:EST
DTSTART:20241103T060000
END:STANDARD
BEGIN:DAYLIGHT
TZOFFSETFROM:-0500
TZOFFSETTO:-0400
TZNAME:EDT
DTSTART:20250309T070000
END:DAYLIGHT
BEGIN:STANDARD
TZOFFSETFROM:-0400
TZOFFSETTO:-0500
TZNAME:EST
DTSTART:20251102T060000
END:STANDARD
BEGIN:DAYLIGHT
TZOFFSETFROM:-0500
TZOFFSETTO:-0400
TZNAME:EDT
DTSTART:20260308T070000
END:DAYLIGHT
BEGIN:STANDARD
TZOFFSETFROM:-0400
TZOFFSETTO:-0500
TZNAME:EST
DTSTART:20261101T060000
END:STANDARD
END:VTIMEZONE
BEGIN:VEVENT
DTSTART;TZID=America/New_York:20251109T090000
DTEND;TZID=America/New_York:20251109T170000
DTSTAMP:20260420T230002
CREATED:20230511T011652Z
LAST-MODIFIED:20251031T160508Z
UID:10074137-1762678800-1762707600@thepinestimes.com
SUMMARY:Carolina Horse Park: War Horse Event Series-November Horse Trials
DESCRIPTION:Join at the Carolina Horse Park in Raeford for the Southern Pines Equine Associates War Horse Event Series November Horse Trial on Friday\, November 7th-Sunday\, November 9th! Enjoy a weekend of equestrian competition. A food truck is typically on site with a vendor village to shop. The event is open to the public and offers fun for all ages. Spectating and parking are free. \n“Carolina Horse Park (CHP)\, the Southeast’s premier equestrian facility in North Carolina is a 501(c)(3) dedicated to fostering a deep connection between people\, horses\, and the environment. With over 315 acres of beautiful landscapes\, CHP hosts top-tier events and horse shows like Eventing\, Dressage\, Hunter/Jumper\, and Driving.” \n“The Southern Pines Equine Associates War Horse Event Series (WHES)\, presented by Adequan®\, is a premier competition series that continues to elevate the sport of eventing across the Southeast and Mid-Atlantic regions. The WHES has grown exponentially year after year\, attracting competitors\, sponsors\, and volunteers who are passionate about the sport and its development. In partnership with the United States Eventing Association (USEA)\, WHES is proud to be a registered schooling show\, providing competitors with an exceptional opportunity to gain experience in a recognized competition setting.” “With a strong commitment to education\, safety\, and excellence\, WHES provides riders of all levels with a supportive and competitive environment to develop their skills\, train young horses\, and achieve their personal best.” \n \n  \n 
URL:https://thepinestimes.com/event/carolina-horse-park-war-horse-event-series-october-horse-trials/2025-11-09/
LOCATION:Carolina Horse Park\, 2814 Montrose Road\, Raeford\, NC North Carolina
CATEGORIES:Adults,Equestrian,Family,Hobby/Enthusiast,Live Entertainment,Nature/Outdoors,Pets/Animals,Raeford Events,Senior,Social
ATTACH;FMTTYPE=image/jpeg:https://thepinestimes.com/wp-content/uploads/Carolina-Horse-Park-Feature.jpg
END:VEVENT
BEGIN:VEVENT
DTSTART;TZID=America/New_York:20251108T090000
DTEND;TZID=America/New_York:20251108T170000
DTSTAMP:20260420T230002
CREATED:20230511T011652Z
LAST-MODIFIED:20251031T160508Z
UID:10074136-1762592400-1762621200@thepinestimes.com
SUMMARY:Carolina Horse Park: War Horse Event Series-November Horse Trials
DESCRIPTION:Join at the Carolina Horse Park in Raeford for the Southern Pines Equine Associates War Horse Event Series November Horse Trial on Friday\, November 7th-Sunday\, November 9th! Enjoy a weekend of equestrian competition. A food truck is typically on site with a vendor village to shop. The event is open to the public and offers fun for all ages. Spectating and parking are free. \n“Carolina Horse Park (CHP)\, the Southeast’s premier equestrian facility in North Carolina is a 501(c)(3) dedicated to fostering a deep connection between people\, horses\, and the environment. With over 315 acres of beautiful landscapes\, CHP hosts top-tier events and horse shows like Eventing\, Dressage\, Hunter/Jumper\, and Driving.” \n“The Southern Pines Equine Associates War Horse Event Series (WHES)\, presented by Adequan®\, is a premier competition series that continues to elevate the sport of eventing across the Southeast and Mid-Atlantic regions. The WHES has grown exponentially year after year\, attracting competitors\, sponsors\, and volunteers who are passionate about the sport and its development. In partnership with the United States Eventing Association (USEA)\, WHES is proud to be a registered schooling show\, providing competitors with an exceptional opportunity to gain experience in a recognized competition setting.” “With a strong commitment to education\, safety\, and excellence\, WHES provides riders of all levels with a supportive and competitive environment to develop their skills\, train young horses\, and achieve their personal best.” \n \n  \n 
URL:https://thepinestimes.com/event/carolina-horse-park-war-horse-event-series-october-horse-trials/2025-11-08/
LOCATION:Carolina Horse Park\, 2814 Montrose Road\, Raeford\, NC North Carolina
CATEGORIES:Adults,Equestrian,Family,Hobby/Enthusiast,Live Entertainment,Nature/Outdoors,Pets/Animals,Raeford Events,Senior,Social
ATTACH;FMTTYPE=image/jpeg:https://thepinestimes.com/wp-content/uploads/Carolina-Horse-Park-Feature.jpg
END:VEVENT
BEGIN:VEVENT
DTSTART;TZID=America/New_York:20251107T090000
DTEND;TZID=America/New_York:20251107T170000
DTSTAMP:20260420T230002
CREATED:20230511T011652Z
LAST-MODIFIED:20251031T160508Z
UID:10074135-1762506000-1762534800@thepinestimes.com
SUMMARY:Carolina Horse Park: War Horse Event Series-November Horse Trials
DESCRIPTION:Join at the Carolina Horse Park in Raeford for the Southern Pines Equine Associates War Horse Event Series November Horse Trial on Friday\, November 7th-Sunday\, November 9th! Enjoy a weekend of equestrian competition. A food truck is typically on site with a vendor village to shop. The event is open to the public and offers fun for all ages. Spectating and parking are free. \n“Carolina Horse Park (CHP)\, the Southeast’s premier equestrian facility in North Carolina is a 501(c)(3) dedicated to fostering a deep connection between people\, horses\, and the environment. With over 315 acres of beautiful landscapes\, CHP hosts top-tier events and horse shows like Eventing\, Dressage\, Hunter/Jumper\, and Driving.” \n“The Southern Pines Equine Associates War Horse Event Series (WHES)\, presented by Adequan®\, is a premier competition series that continues to elevate the sport of eventing across the Southeast and Mid-Atlantic regions. The WHES has grown exponentially year after year\, attracting competitors\, sponsors\, and volunteers who are passionate about the sport and its development. In partnership with the United States Eventing Association (USEA)\, WHES is proud to be a registered schooling show\, providing competitors with an exceptional opportunity to gain experience in a recognized competition setting.” “With a strong commitment to education\, safety\, and excellence\, WHES provides riders of all levels with a supportive and competitive environment to develop their skills\, train young horses\, and achieve their personal best.” \n \n  \n 
URL:https://thepinestimes.com/event/carolina-horse-park-war-horse-event-series-october-horse-trials/2025-11-07/
LOCATION:Carolina Horse Park\, 2814 Montrose Road\, Raeford\, NC North Carolina
CATEGORIES:Adults,Equestrian,Family,Hobby/Enthusiast,Live Entertainment,Nature/Outdoors,Pets/Animals,Raeford Events,Senior,Social
ATTACH;FMTTYPE=image/jpeg:https://thepinestimes.com/wp-content/uploads/Carolina-Horse-Park-Feature.jpg
END:VEVENT
BEGIN:VEVENT
DTSTART;TZID=America/New_York:20251004T110000
DTEND;TZID=America/New_York:20251004T170000
DTSTAMP:20260420T230002
CREATED:20230729T000949Z
LAST-MODIFIED:20251003T132634Z
UID:10015490-1759575600-1759597200@thepinestimes.com
SUMMARY:Carolina Horse Park: SPEA "War Horse Event Series" Schooling Day
DESCRIPTION:Join at the Carolina Horse Park in Raeford for the Southern Pines Equine Associates War Horse Event Series Schooling Days. WHES Schooling Days are open to everyone. A WHES Schooling Day has been added to the schedule before each WHES competition which allows competitors to school any or all phases. Schooling will be held from 11:00am-5:00pm. There will be a show jumping course set in the ring that may be different from that of competition. \nFor more information\, follow the link provided below.
URL:https://thepinestimes.com/event/carolina-horse-park-spea-war-horse-event-series-august-schooling-day/
LOCATION:Carolina Horse Park\, 2814 Montrose Road\, Raeford\, NC North Carolina
CATEGORIES:Adults,Art/Craft Workshops,Equestrian,Hobby/Enthusiast,Nature/Outdoors,Raeford Events,School,Senior,Social
ATTACH;FMTTYPE=image/jpeg:https://thepinestimes.com/wp-content/uploads/Carolina-Horse-Park-Feature.jpg
END:VEVENT
END:VCALENDAR