BEGIN:VCALENDAR
VERSION:2.0
PRODID:-//The Pines Times - ECPv6.15.20//NONSGML v1.0//EN
CALSCALE:GREGORIAN
METHOD:PUBLISH
X-WR-CALNAME:The Pines Times
X-ORIGINAL-URL:https://thepinestimes.com
X-WR-CALDESC:Events for The Pines Times
REFRESH-INTERVAL;VALUE=DURATION:PT1H
X-Robots-Tag:noindex
X-PUBLISHED-TTL:PT1H
BEGIN:VTIMEZONE
TZID:America/New_York
BEGIN:DAYLIGHT
TZOFFSETFROM:-0500
TZOFFSETTO:-0400
TZNAME:EDT
DTSTART:20250309T070000
END:DAYLIGHT
BEGIN:STANDARD
TZOFFSETFROM:-0400
TZOFFSETTO:-0500
TZNAME:EST
DTSTART:20251102T060000
END:STANDARD
BEGIN:DAYLIGHT
TZOFFSETFROM:-0500
TZOFFSETTO:-0400
TZNAME:EDT
DTSTART:20260308T070000
END:DAYLIGHT
BEGIN:STANDARD
TZOFFSETFROM:-0400
TZOFFSETTO:-0500
TZNAME:EST
DTSTART:20261101T060000
END:STANDARD
BEGIN:DAYLIGHT
TZOFFSETFROM:-0500
TZOFFSETTO:-0400
TZNAME:EDT
DTSTART:20270314T070000
END:DAYLIGHT
BEGIN:STANDARD
TZOFFSETFROM:-0400
TZOFFSETTO:-0500
TZNAME:EST
DTSTART:20271107T060000
END:STANDARD
END:VTIMEZONE
BEGIN:VEVENT
DTSTART;TZID=America/New_York:20260430T183000
DTEND;TZID=America/New_York:20260430T203000
DTSTAMP:20260424T095310
CREATED:20251230T143645Z
LAST-MODIFIED:20260407T134239Z
UID:10082194-1777573800-1777581000@thepinestimes.com
SUMMARY:Line Dancing Thursday
DESCRIPTION:Get ready to step\, slide\, and vibe at Line Dancing at the WSP Center Auditorium in Southern Pines! Join each Thursday from 6:30pm-8:30pm for a weekly Line Dancing gathering focused on movement\, joy\, and community connection. Whether you’re a beginner or you already know the moves\, this is your chance to connect\, laugh\, and dance the night away with the community! Dancing is open to all ages and skill levels for just a $10 entry fee\, with snacks available for purchase to keep your energy up. \n \n 
URL:https://thepinestimes.com/event/line-dancing-thursday/2026-04-30/
LOCATION:WSP Center Auditorium\, 1250 W. New York Ave\, Southern Pines\, 28387
CATEGORIES:Adults,Dance,Dance Class,Family,Hobby/Enthusiast,Line Dancing,Music,Senior,Social,Southern Pines Events,Teen Activities,Young Adults
ATTACH;FMTTYPE=image/png:https://thepinestimes.com/wp-content/uploads/Dancing-in-the-Pines-e1755370461830.png
END:VEVENT
BEGIN:VEVENT
DTSTART;TZID=America/New_York:20260507T183000
DTEND;TZID=America/New_York:20260507T203000
DTSTAMP:20260424T095310
CREATED:20251230T143645Z
LAST-MODIFIED:20260407T134239Z
UID:10086389-1778178600-1778185800@thepinestimes.com
SUMMARY:Line Dancing Thursday
DESCRIPTION:Get ready to step\, slide\, and vibe at Line Dancing at the WSP Center Auditorium in Southern Pines! Join each Thursday from 6:30pm-8:30pm for a weekly Line Dancing gathering focused on movement\, joy\, and community connection. Whether you’re a beginner or you already know the moves\, this is your chance to connect\, laugh\, and dance the night away with the community! Dancing is open to all ages and skill levels for just a $10 entry fee\, with snacks available for purchase to keep your energy up. \n \n 
URL:https://thepinestimes.com/event/line-dancing-thursday/2026-05-07/
LOCATION:WSP Center Auditorium\, 1250 W. New York Ave\, Southern Pines\, 28387
CATEGORIES:Adults,Dance,Dance Class,Family,Hobby/Enthusiast,Line Dancing,Music,Senior,Social,Southern Pines Events,Teen Activities,Young Adults
ATTACH;FMTTYPE=image/png:https://thepinestimes.com/wp-content/uploads/Dancing-in-the-Pines-e1755370461830.png
END:VEVENT
BEGIN:VEVENT
DTSTART;TZID=America/New_York:20260514T183000
DTEND;TZID=America/New_York:20260514T203000
DTSTAMP:20260424T095310
CREATED:20251230T143645Z
LAST-MODIFIED:20260407T134239Z
UID:10086390-1778783400-1778790600@thepinestimes.com
SUMMARY:Line Dancing Thursday
DESCRIPTION:Get ready to step\, slide\, and vibe at Line Dancing at the WSP Center Auditorium in Southern Pines! Join each Thursday from 6:30pm-8:30pm for a weekly Line Dancing gathering focused on movement\, joy\, and community connection. Whether you’re a beginner or you already know the moves\, this is your chance to connect\, laugh\, and dance the night away with the community! Dancing is open to all ages and skill levels for just a $10 entry fee\, with snacks available for purchase to keep your energy up. \n \n 
URL:https://thepinestimes.com/event/line-dancing-thursday/2026-05-14/
LOCATION:WSP Center Auditorium\, 1250 W. New York Ave\, Southern Pines\, 28387
CATEGORIES:Adults,Dance,Dance Class,Family,Hobby/Enthusiast,Line Dancing,Music,Senior,Social,Southern Pines Events,Teen Activities,Young Adults
ATTACH;FMTTYPE=image/png:https://thepinestimes.com/wp-content/uploads/Dancing-in-the-Pines-e1755370461830.png
END:VEVENT
BEGIN:VEVENT
DTSTART;TZID=America/New_York:20260521T183000
DTEND;TZID=America/New_York:20260521T203000
DTSTAMP:20260424T095310
CREATED:20251230T143645Z
LAST-MODIFIED:20260407T134239Z
UID:10086391-1779388200-1779395400@thepinestimes.com
SUMMARY:Line Dancing Thursday
DESCRIPTION:Get ready to step\, slide\, and vibe at Line Dancing at the WSP Center Auditorium in Southern Pines! Join each Thursday from 6:30pm-8:30pm for a weekly Line Dancing gathering focused on movement\, joy\, and community connection. Whether you’re a beginner or you already know the moves\, this is your chance to connect\, laugh\, and dance the night away with the community! Dancing is open to all ages and skill levels for just a $10 entry fee\, with snacks available for purchase to keep your energy up. \n \n 
URL:https://thepinestimes.com/event/line-dancing-thursday/2026-05-21/
LOCATION:WSP Center Auditorium\, 1250 W. New York Ave\, Southern Pines\, 28387
CATEGORIES:Adults,Dance,Dance Class,Family,Hobby/Enthusiast,Line Dancing,Music,Senior,Social,Southern Pines Events,Teen Activities,Young Adults
ATTACH;FMTTYPE=image/png:https://thepinestimes.com/wp-content/uploads/Dancing-in-the-Pines-e1755370461830.png
END:VEVENT
BEGIN:VEVENT
DTSTART;TZID=America/New_York:20260528T183000
DTEND;TZID=America/New_York:20260528T203000
DTSTAMP:20260424T095310
CREATED:20251230T143645Z
LAST-MODIFIED:20260407T134239Z
UID:10086392-1779993000-1780000200@thepinestimes.com
SUMMARY:Line Dancing Thursday
DESCRIPTION:Get ready to step\, slide\, and vibe at Line Dancing at the WSP Center Auditorium in Southern Pines! Join each Thursday from 6:30pm-8:30pm for a weekly Line Dancing gathering focused on movement\, joy\, and community connection. Whether you’re a beginner or you already know the moves\, this is your chance to connect\, laugh\, and dance the night away with the community! Dancing is open to all ages and skill levels for just a $10 entry fee\, with snacks available for purchase to keep your energy up. \n \n 
URL:https://thepinestimes.com/event/line-dancing-thursday/2026-05-28/
LOCATION:WSP Center Auditorium\, 1250 W. New York Ave\, Southern Pines\, 28387
CATEGORIES:Adults,Dance,Dance Class,Family,Hobby/Enthusiast,Line Dancing,Music,Senior,Social,Southern Pines Events,Teen Activities,Young Adults
ATTACH;FMTTYPE=image/png:https://thepinestimes.com/wp-content/uploads/Dancing-in-the-Pines-e1755370461830.png
END:VEVENT
BEGIN:VEVENT
DTSTART;TZID=America/New_York:20260528T190000
DTEND;TZID=America/New_York:20260528T190000
DTSTAMP:20260424T095310
CREATED:20260409T133959Z
LAST-MODIFIED:20260409T135345Z
UID:10086685-1779994800-1779994800@thepinestimes.com
SUMMARY:Legacy of the Arts Benefit Concert Featuring The Paul Murphy Trio
DESCRIPTION:Join Southern Pines Land & Housing Trust for an unforgettable celebration in the historic auditorium…Prepare to be entertained by the brilliant and smooth sounds of The Paul Murphy Trio\, as you have never heard them before! Vocalist Anna Murphy joins the Trio to present a repertoire of songs sure to satisfy your appetite for a perfect blend of jazz & soul music. This is an iconic an event that makes fundraising for a good cause even better! \n-Heavy Hors D’ Oeuvres Served: Braised Short Rib Crostini\, Caprese Skewers w/Balsamic Glaze\, Shrimp & Grits\, Deviled Egg Trio\, Cajun Chicken Pasta\, etc..\n-Glass of Champagne Upon Arrival\n-Cash Bar\n-Cocktail Attire \nTickets are $75 with sponsorships available. To purchase tickets\, follow the event website link provided below.
URL:https://thepinestimes.com/event/legacy-of-the-arts-benefit-concert/
LOCATION:Southern Pines Land & Housing Trust Auditorium\, 1250 West New York Avenue\, Southern Pines\, 28387\, United States
CATEGORIES:Adults,Beer and Wine,Benefit,Concert,Food,Fundraiser,Live Entertainment,Music,Social,Southern Pines Events
ATTACH;FMTTYPE=image/jpeg:https://thepinestimes.com/wp-content/uploads/LegacyOfTheArtsFeature.jpg
END:VEVENT
BEGIN:VEVENT
DTSTART;TZID=America/New_York:20260604T183000
DTEND;TZID=America/New_York:20260604T203000
DTSTAMP:20260424T095310
CREATED:20251230T143645Z
LAST-MODIFIED:20260407T134239Z
UID:10086393-1780597800-1780605000@thepinestimes.com
SUMMARY:Line Dancing Thursday
DESCRIPTION:Get ready to step\, slide\, and vibe at Line Dancing at the WSP Center Auditorium in Southern Pines! Join each Thursday from 6:30pm-8:30pm for a weekly Line Dancing gathering focused on movement\, joy\, and community connection. Whether you’re a beginner or you already know the moves\, this is your chance to connect\, laugh\, and dance the night away with the community! Dancing is open to all ages and skill levels for just a $10 entry fee\, with snacks available for purchase to keep your energy up. \n \n 
URL:https://thepinestimes.com/event/line-dancing-thursday/2026-06-04/
LOCATION:WSP Center Auditorium\, 1250 W. New York Ave\, Southern Pines\, 28387
CATEGORIES:Adults,Dance,Dance Class,Family,Hobby/Enthusiast,Line Dancing,Music,Senior,Social,Southern Pines Events,Teen Activities,Young Adults
ATTACH;FMTTYPE=image/png:https://thepinestimes.com/wp-content/uploads/Dancing-in-the-Pines-e1755370461830.png
END:VEVENT
BEGIN:VEVENT
DTSTART;TZID=America/New_York:20260611T183000
DTEND;TZID=America/New_York:20260611T203000
DTSTAMP:20260424T095310
CREATED:20251230T143645Z
LAST-MODIFIED:20260407T134239Z
UID:10086394-1781202600-1781209800@thepinestimes.com
SUMMARY:Line Dancing Thursday
DESCRIPTION:Get ready to step\, slide\, and vibe at Line Dancing at the WSP Center Auditorium in Southern Pines! Join each Thursday from 6:30pm-8:30pm for a weekly Line Dancing gathering focused on movement\, joy\, and community connection. Whether you’re a beginner or you already know the moves\, this is your chance to connect\, laugh\, and dance the night away with the community! Dancing is open to all ages and skill levels for just a $10 entry fee\, with snacks available for purchase to keep your energy up. \n \n 
URL:https://thepinestimes.com/event/line-dancing-thursday/2026-06-11/
LOCATION:WSP Center Auditorium\, 1250 W. New York Ave\, Southern Pines\, 28387
CATEGORIES:Adults,Dance,Dance Class,Family,Hobby/Enthusiast,Line Dancing,Music,Senior,Social,Southern Pines Events,Teen Activities,Young Adults
ATTACH;FMTTYPE=image/png:https://thepinestimes.com/wp-content/uploads/Dancing-in-the-Pines-e1755370461830.png
END:VEVENT
BEGIN:VEVENT
DTSTART;TZID=America/New_York:20260618T183000
DTEND;TZID=America/New_York:20260618T203000
DTSTAMP:20260424T095310
CREATED:20251230T143645Z
LAST-MODIFIED:20260407T134239Z
UID:10086395-1781807400-1781814600@thepinestimes.com
SUMMARY:Line Dancing Thursday
DESCRIPTION:Get ready to step\, slide\, and vibe at Line Dancing at the WSP Center Auditorium in Southern Pines! Join each Thursday from 6:30pm-8:30pm for a weekly Line Dancing gathering focused on movement\, joy\, and community connection. Whether you’re a beginner or you already know the moves\, this is your chance to connect\, laugh\, and dance the night away with the community! Dancing is open to all ages and skill levels for just a $10 entry fee\, with snacks available for purchase to keep your energy up. \n \n 
URL:https://thepinestimes.com/event/line-dancing-thursday/2026-06-18/
LOCATION:WSP Center Auditorium\, 1250 W. New York Ave\, Southern Pines\, 28387
CATEGORIES:Adults,Dance,Dance Class,Family,Hobby/Enthusiast,Line Dancing,Music,Senior,Social,Southern Pines Events,Teen Activities,Young Adults
ATTACH;FMTTYPE=image/png:https://thepinestimes.com/wp-content/uploads/Dancing-in-the-Pines-e1755370461830.png
END:VEVENT
BEGIN:VEVENT
DTSTART;TZID=America/New_York:20260625T183000
DTEND;TZID=America/New_York:20260625T203000
DTSTAMP:20260424T095310
CREATED:20251230T143645Z
LAST-MODIFIED:20260407T134239Z
UID:10086396-1782412200-1782419400@thepinestimes.com
SUMMARY:Line Dancing Thursday
DESCRIPTION:Get ready to step\, slide\, and vibe at Line Dancing at the WSP Center Auditorium in Southern Pines! Join each Thursday from 6:30pm-8:30pm for a weekly Line Dancing gathering focused on movement\, joy\, and community connection. Whether you’re a beginner or you already know the moves\, this is your chance to connect\, laugh\, and dance the night away with the community! Dancing is open to all ages and skill levels for just a $10 entry fee\, with snacks available for purchase to keep your energy up. \n \n 
URL:https://thepinestimes.com/event/line-dancing-thursday/2026-06-25/
LOCATION:WSP Center Auditorium\, 1250 W. New York Ave\, Southern Pines\, 28387
CATEGORIES:Adults,Dance,Dance Class,Family,Hobby/Enthusiast,Line Dancing,Music,Senior,Social,Southern Pines Events,Teen Activities,Young Adults
ATTACH;FMTTYPE=image/png:https://thepinestimes.com/wp-content/uploads/Dancing-in-the-Pines-e1755370461830.png
END:VEVENT
BEGIN:VEVENT
DTSTART;TZID=America/New_York:20260629T080000
DTEND;TZID=America/New_York:20260629T170000
DTSTAMP:20260424T095310
CREATED:20260320T170159Z
LAST-MODIFIED:20260321T161608Z
UID:10083634-1782720000-1782752400@thepinestimes.com
SUMMARY:"Red\, White\, & Blue-sical Camp" A Build Your Own Musical (Ages 6-10)
DESCRIPTION:The Southern Pines Land & Housing Trust and Liz Cox Studios are teaming up to present “Red\, White\, and Blue-sical\,” a unique Build Your Own Musical Camp designed for children ages 6-10. \nStep into history and onto the stage! In this exciting musical theatre camp\, young performers will explore American history through music\, storytelling\, and creativity. Campers will help write and perform short skits about iconic figures like Betsy Ross and Frederick Douglass\, all set to fun\, patriotic songs. Perfect for beginners\, this camp builds confidence\, teamwork\, and imagination—ending with a special performance for family and friends! \nThe week of camp will culminate in a final performance on July 3rd\, held in the auditorium for friends and family to enjoy. Children will explore their musical talents and build confidence through the arts. Families interested in securing a spot for their young performers can scan the QR code located on the event flyer to access registration details and more information.
URL:https://thepinestimes.com/event/red-white-and-blue-sical-camp/
CATEGORIES:Camps,Children,Live Theater,Music,Piney's Kids,Social,Southern Pines Events
ATTACH;FMTTYPE=image/jpeg:https://thepinestimes.com/wp-content/uploads/RedWhiteBlueMusicCampFeature.jpg
END:VEVENT
BEGIN:VEVENT
DTSTART;TZID=America/New_York:20260706T080000
DTEND;TZID=America/New_York:20260706T170000
DTSTAMP:20260424T095310
CREATED:20260410T162823Z
LAST-MODIFIED:20260410T162823Z
UID:10086704-1783324800-1783357200@thepinestimes.com
SUMMARY:Dream Role Showcase Summer Camp (Rising 9th Graders-Collage Freshmen)
DESCRIPTION:The Southern Pines Land and Housing Trust has partnered with Liz Cox Studios to present the Dream Role Showcase\, a specialized summer camp designed for students ranging from rising ninth graders to rising college freshmen. \nThis immersive program runs from July 6th-July 10th\, providing young actors with a dedicated space to explore and develop their theatrical talents. The week concludes with live performances on July 10th and 11th\, where participants have the unique opportunity to perform scenes or songs from the roles they have always dreamed of playing. \nThis showcase serves as a valuable platform for local students to hone their craft and share their passion for the stage with the community. Those interested in learning more or registering for the camp can scan the provided QR code to access full details and secure a spot in this creative summer session.
URL:https://thepinestimes.com/event/dream-role-showcase-summer-camp-rising-9th-graders-collage-freshmen/
LOCATION:Southern Pines Land & Housing Trust Auditorium\, 1250 West New York Avenue\, Southern Pines\, 28387\, United States
CATEGORIES:Camps,Educational,Hobby/Enthusiast,Live Theater,Social,Teen Activities
ATTACH;FMTTYPE=image/jpeg:https://thepinestimes.com/wp-content/uploads/SPLHTcampFeature.jpg
END:VEVENT
BEGIN:VEVENT
DTSTART;TZID=America/New_York:20260803T080000
DTEND;TZID=America/New_York:20260803T170000
DTSTAMP:20260424T095310
CREATED:20260410T173210Z
LAST-MODIFIED:20260410T174254Z
UID:10086706-1785744000-1785776400@thepinestimes.com
SUMMARY:"Let’s Go to the Movies" Camp (Rising 6th-9th Graders)
DESCRIPTION:The Southern Pines Land and Housing Trust has joined forces with Liz Cox Studios to present Let’s Go to the Movies\, a theatrical celebration focused on the movie musical. This camp is specifically designed for students ranging from rising sixth grade to rising ninth grade and will take place from August 3rd-August 7th. Participants will spend the week exploring iconic songs and stories from the silver screen\, culminating in live performance dates on August 7th and 8th. For those seeking further details or looking to register\, information can be accessed by scanning the provided QR code or by contacting lizcoxvoice@gmail.com directly. \n \n 
URL:https://thepinestimes.com/event/lets-go-to-the-movies-camp-rising-6th-9th-graders/
LOCATION:West Southern Pines Center\, 1250 W. New York Avenue\, Southern Pines\, 28387\, United States
CATEGORIES:Arts,Camps,Educational,Hobby/Enthusiast,Live Theater,Music,Piney's Kids,Social,Southern Pines Events
ATTACH;FMTTYPE=image/jpeg:https://thepinestimes.com/wp-content/uploads/SPLHTCampFeature2.jpg
END:VEVENT
BEGIN:VEVENT
DTSTART;TZID=America/New_York:20260810T100000
DTEND;TZID=America/New_York:20260810T160000
DTSTAMP:20260424T095310
CREATED:20260410T172933Z
LAST-MODIFIED:20260410T172933Z
UID:10086705-1786356000-1786377600@thepinestimes.com
SUMMARY:Youth Production Camp: "The Grunch: A New Children’s Musical" (Ages 8-18)
DESCRIPTION:Rosebud Theatrical Productions is hosting a Youth Production Camp featuring The Grunch: A New Children’s Musical\, which was written by Denver Casado and Betina Hershey with additional material by Brian Dawson. This creative opportunity is open to young performers ages 8-18 and will take place at the West Southern Pines Center at the Southern Pines Land and Housing Trust. \nThe camp runs from August 10th-14th from 10:00AM-4:00PM each day\, culminating in two live performances on August 15th at 11AM-2PM. Presented through a special arrangement with Beat by Beat Press\, the program offers an immersive experience for students to bring a new musical to life on stage. Interested families can register for the camp by scanning the QR code on the flyer or by visiting rosebudtheatricalproductions.org for more information.
URL:https://thepinestimes.com/event/youth-production-camp-the-grunch-a-new-childrens-musical-ages-8-18/
LOCATION:West Southern Pines Center\, 1250 W. New York Avenue\, Southern Pines\, 28387\, United States
CATEGORIES:Camps,Children,Hobby/Enthusiast,Live Theater,Music,Piney's Kids,Social,Southern Pines Events,Teen Activities
ATTACH;FMTTYPE=image/jpeg:https://thepinestimes.com/wp-content/uploads/SPLHTcampFeature-1.jpg
END:VEVENT
END:VCALENDAR