BEGIN:VCALENDAR
VERSION:2.0
PRODID:-//The Pines Times - ECPv6.15.20//NONSGML v1.0//EN
CALSCALE:GREGORIAN
METHOD:PUBLISH
X-WR-CALNAME:The Pines Times
X-ORIGINAL-URL:https://thepinestimes.com
X-WR-CALDESC:Events for The Pines Times
REFRESH-INTERVAL;VALUE=DURATION:PT1H
X-Robots-Tag:noindex
X-PUBLISHED-TTL:PT1H
BEGIN:VTIMEZONE
TZID:America/New_York
BEGIN:DAYLIGHT
TZOFFSETFROM:-0500
TZOFFSETTO:-0400
TZNAME:EDT
DTSTART:20240310T070000
END:DAYLIGHT
BEGIN:STANDARD
TZOFFSETFROM:-0400
TZOFFSETTO:-0500
TZNAME:EST
DTSTART:20241103T060000
END:STANDARD
BEGIN:DAYLIGHT
TZOFFSETFROM:-0500
TZOFFSETTO:-0400
TZNAME:EDT
DTSTART:20250309T070000
END:DAYLIGHT
BEGIN:STANDARD
TZOFFSETFROM:-0400
TZOFFSETTO:-0500
TZNAME:EST
DTSTART:20251102T060000
END:STANDARD
BEGIN:DAYLIGHT
TZOFFSETFROM:-0500
TZOFFSETTO:-0400
TZNAME:EDT
DTSTART:20260308T070000
END:DAYLIGHT
BEGIN:STANDARD
TZOFFSETFROM:-0400
TZOFFSETTO:-0500
TZNAME:EST
DTSTART:20261101T060000
END:STANDARD
END:VTIMEZONE
BEGIN:VEVENT
DTSTART;TZID=America/New_York:20250727T090000
DTEND;TZID=America/New_York:20250727T090000
DTSTAMP:20260421T215441
CREATED:20250425T134508Z
LAST-MODIFIED:20250629T130048Z
UID:10062182-1753606800-1753606800@thepinestimes.com
SUMMARY:Spoke & Pine Cycling Club
DESCRIPTION:Be a part of the Spoke & Pine Cycling Club! It is a Cycling Club aimed at building camaraderie within the Sandhills cycling community and beyond. Rides take place every Sunday. \nHelmets are required. Keep power surges to a minimum. Please bring a flat kit. Please call out holes\, obstacles\, etc. Ride at your own risk. Route link and RSVP through the event website link provided below. \n 
URL:https://thepinestimes.com/event/spoke-pine-cycling-club/2025-07-27/
LOCATION:Compass Cafe at Hot Asana Yoga Studio\, 10 Camelia Way\, Southern Pines\, 28387\, United States
CATEGORIES:Adults,Clubs,Health & Wellness,Hobby/Enthusiast,Nature/Outdoors,Social,Southern Pines Events
ATTACH;FMTTYPE=image/jpeg:https://thepinestimes.com/wp-content/uploads/SpokeAndPineCycingClubFeature.jpg
END:VEVENT
BEGIN:VEVENT
DTSTART;TZID=America/New_York:20250720T090000
DTEND;TZID=America/New_York:20250720T090000
DTSTAMP:20260421T215441
CREATED:20250425T134508Z
LAST-MODIFIED:20250629T130048Z
UID:10062181-1753002000-1753002000@thepinestimes.com
SUMMARY:Spoke & Pine Cycling Club
DESCRIPTION:Be a part of the Spoke & Pine Cycling Club! It is a Cycling Club aimed at building camaraderie within the Sandhills cycling community and beyond. Rides take place every Sunday. \nHelmets are required. Keep power surges to a minimum. Please bring a flat kit. Please call out holes\, obstacles\, etc. Ride at your own risk. Route link and RSVP through the event website link provided below. \n 
URL:https://thepinestimes.com/event/spoke-pine-cycling-club/2025-07-20/
LOCATION:Compass Cafe at Hot Asana Yoga Studio\, 10 Camelia Way\, Southern Pines\, 28387\, United States
CATEGORIES:Adults,Clubs,Health & Wellness,Hobby/Enthusiast,Nature/Outdoors,Social,Southern Pines Events
ATTACH;FMTTYPE=image/jpeg:https://thepinestimes.com/wp-content/uploads/SpokeAndPineCycingClubFeature.jpg
END:VEVENT
BEGIN:VEVENT
DTSTART;TZID=America/New_York:20250713T090000
DTEND;TZID=America/New_York:20250713T090000
DTSTAMP:20260421T215441
CREATED:20250425T134508Z
LAST-MODIFIED:20250629T130048Z
UID:10062180-1752397200-1752397200@thepinestimes.com
SUMMARY:Spoke & Pine Cycling Club
DESCRIPTION:Be a part of the Spoke & Pine Cycling Club! It is a Cycling Club aimed at building camaraderie within the Sandhills cycling community and beyond. Rides take place every Sunday. \nHelmets are required. Keep power surges to a minimum. Please bring a flat kit. Please call out holes\, obstacles\, etc. Ride at your own risk. Route link and RSVP through the event website link provided below. \n 
URL:https://thepinestimes.com/event/spoke-pine-cycling-club/2025-07-13/
LOCATION:Compass Cafe at Hot Asana Yoga Studio\, 10 Camelia Way\, Southern Pines\, 28387\, United States
CATEGORIES:Adults,Clubs,Health & Wellness,Hobby/Enthusiast,Nature/Outdoors,Social,Southern Pines Events
ATTACH;FMTTYPE=image/jpeg:https://thepinestimes.com/wp-content/uploads/SpokeAndPineCycingClubFeature.jpg
END:VEVENT
BEGIN:VEVENT
DTSTART;TZID=America/New_York:20250706T090000
DTEND;TZID=America/New_York:20250706T090000
DTSTAMP:20260421T215441
CREATED:20250425T134508Z
LAST-MODIFIED:20250629T130048Z
UID:10062179-1751792400-1751792400@thepinestimes.com
SUMMARY:Spoke & Pine Cycling Club
DESCRIPTION:Be a part of the Spoke & Pine Cycling Club! It is a Cycling Club aimed at building camaraderie within the Sandhills cycling community and beyond. Rides take place every Sunday. \nHelmets are required. Keep power surges to a minimum. Please bring a flat kit. Please call out holes\, obstacles\, etc. Ride at your own risk. Route link and RSVP through the event website link provided below. \n 
URL:https://thepinestimes.com/event/spoke-pine-cycling-club/2025-07-06/
LOCATION:Compass Cafe at Hot Asana Yoga Studio\, 10 Camelia Way\, Southern Pines\, 28387\, United States
CATEGORIES:Adults,Clubs,Health & Wellness,Hobby/Enthusiast,Nature/Outdoors,Social,Southern Pines Events
ATTACH;FMTTYPE=image/jpeg:https://thepinestimes.com/wp-content/uploads/SpokeAndPineCycingClubFeature.jpg
END:VEVENT
BEGIN:VEVENT
DTSTART;TZID=America/New_York:20250629T090000
DTEND;TZID=America/New_York:20250629T090000
DTSTAMP:20260421T215441
CREATED:20250425T134508Z
LAST-MODIFIED:20250629T130048Z
UID:10060278-1751187600-1751187600@thepinestimes.com
SUMMARY:Spoke & Pine Cycling Club
DESCRIPTION:Be a part of the Spoke & Pine Cycling Club! It is a Cycling Club aimed at building camaraderie within the Sandhills cycling community and beyond. Rides take place every Sunday. \nHelmets are required. Keep power surges to a minimum. Please bring a flat kit. Please call out holes\, obstacles\, etc. Ride at your own risk. Route link and RSVP through the event website link provided below. \n 
URL:https://thepinestimes.com/event/spoke-pine-cycling-club/2025-06-29/
LOCATION:Compass Cafe at Hot Asana Yoga Studio\, 10 Camelia Way\, Southern Pines\, 28387\, United States
CATEGORIES:Adults,Clubs,Health & Wellness,Hobby/Enthusiast,Nature/Outdoors,Social,Southern Pines Events
ATTACH;FMTTYPE=image/jpeg:https://thepinestimes.com/wp-content/uploads/SpokeAndPineCycingClubFeature.jpg
END:VEVENT
BEGIN:VEVENT
DTSTART;TZID=America/New_York:20250622T090000
DTEND;TZID=America/New_York:20250622T090000
DTSTAMP:20260421T215441
CREATED:20250425T134508Z
LAST-MODIFIED:20250629T130048Z
UID:10060277-1750582800-1750582800@thepinestimes.com
SUMMARY:Spoke & Pine Cycling Club
DESCRIPTION:Be a part of the Spoke & Pine Cycling Club! It is a Cycling Club aimed at building camaraderie within the Sandhills cycling community and beyond. Rides take place every Sunday. \nHelmets are required. Keep power surges to a minimum. Please bring a flat kit. Please call out holes\, obstacles\, etc. Ride at your own risk. Route link and RSVP through the event website link provided below. \n 
URL:https://thepinestimes.com/event/spoke-pine-cycling-club/2025-06-22/
LOCATION:Compass Cafe at Hot Asana Yoga Studio\, 10 Camelia Way\, Southern Pines\, 28387\, United States
CATEGORIES:Adults,Clubs,Health & Wellness,Hobby/Enthusiast,Nature/Outdoors,Social,Southern Pines Events
ATTACH;FMTTYPE=image/jpeg:https://thepinestimes.com/wp-content/uploads/SpokeAndPineCycingClubFeature.jpg
END:VEVENT
BEGIN:VEVENT
DTSTART;TZID=America/New_York:20250615T090000
DTEND;TZID=America/New_York:20250615T090000
DTSTAMP:20260421T215441
CREATED:20250425T134508Z
LAST-MODIFIED:20250629T130048Z
UID:10060276-1749978000-1749978000@thepinestimes.com
SUMMARY:Spoke & Pine Cycling Club
DESCRIPTION:Be a part of the Spoke & Pine Cycling Club! It is a Cycling Club aimed at building camaraderie within the Sandhills cycling community and beyond. Rides take place every Sunday. \nHelmets are required. Keep power surges to a minimum. Please bring a flat kit. Please call out holes\, obstacles\, etc. Ride at your own risk. Route link and RSVP through the event website link provided below. \n 
URL:https://thepinestimes.com/event/spoke-pine-cycling-club/2025-06-15/
LOCATION:Compass Cafe at Hot Asana Yoga Studio\, 10 Camelia Way\, Southern Pines\, 28387\, United States
CATEGORIES:Adults,Clubs,Health & Wellness,Hobby/Enthusiast,Nature/Outdoors,Social,Southern Pines Events
ATTACH;FMTTYPE=image/jpeg:https://thepinestimes.com/wp-content/uploads/SpokeAndPineCycingClubFeature.jpg
END:VEVENT
BEGIN:VEVENT
DTSTART;TZID=America/New_York:20250608T090000
DTEND;TZID=America/New_York:20250608T090000
DTSTAMP:20260421T215441
CREATED:20250425T134508Z
LAST-MODIFIED:20250629T130048Z
UID:10060275-1749373200-1749373200@thepinestimes.com
SUMMARY:Spoke & Pine Cycling Club
DESCRIPTION:Be a part of the Spoke & Pine Cycling Club! It is a Cycling Club aimed at building camaraderie within the Sandhills cycling community and beyond. Rides take place every Sunday. \nHelmets are required. Keep power surges to a minimum. Please bring a flat kit. Please call out holes\, obstacles\, etc. Ride at your own risk. Route link and RSVP through the event website link provided below. \n 
URL:https://thepinestimes.com/event/spoke-pine-cycling-club/2025-06-08/
LOCATION:Compass Cafe at Hot Asana Yoga Studio\, 10 Camelia Way\, Southern Pines\, 28387\, United States
CATEGORIES:Adults,Clubs,Health & Wellness,Hobby/Enthusiast,Nature/Outdoors,Social,Southern Pines Events
ATTACH;FMTTYPE=image/jpeg:https://thepinestimes.com/wp-content/uploads/SpokeAndPineCycingClubFeature.jpg
END:VEVENT
BEGIN:VEVENT
DTSTART;TZID=America/New_York:20250601T090000
DTEND;TZID=America/New_York:20250601T090000
DTSTAMP:20260421T215441
CREATED:20250425T134508Z
LAST-MODIFIED:20250629T130048Z
UID:10060274-1748768400-1748768400@thepinestimes.com
SUMMARY:Spoke & Pine Cycling Club
DESCRIPTION:Be a part of the Spoke & Pine Cycling Club! It is a Cycling Club aimed at building camaraderie within the Sandhills cycling community and beyond. Rides take place every Sunday. \nHelmets are required. Keep power surges to a minimum. Please bring a flat kit. Please call out holes\, obstacles\, etc. Ride at your own risk. Route link and RSVP through the event website link provided below. \n 
URL:https://thepinestimes.com/event/spoke-pine-cycling-club/2025-06-01/
LOCATION:Compass Cafe at Hot Asana Yoga Studio\, 10 Camelia Way\, Southern Pines\, 28387\, United States
CATEGORIES:Adults,Clubs,Health & Wellness,Hobby/Enthusiast,Nature/Outdoors,Social,Southern Pines Events
ATTACH;FMTTYPE=image/jpeg:https://thepinestimes.com/wp-content/uploads/SpokeAndPineCycingClubFeature.jpg
END:VEVENT
BEGIN:VEVENT
DTSTART;TZID=America/New_York:20250525T090000
DTEND;TZID=America/New_York:20250525T090000
DTSTAMP:20260421T215441
CREATED:20250425T134508Z
LAST-MODIFIED:20250629T130048Z
UID:10057637-1748163600-1748163600@thepinestimes.com
SUMMARY:Spoke & Pine Cycling Club
DESCRIPTION:Be a part of the Spoke & Pine Cycling Club! It is a Cycling Club aimed at building camaraderie within the Sandhills cycling community and beyond. Rides take place every Sunday. \nHelmets are required. Keep power surges to a minimum. Please bring a flat kit. Please call out holes\, obstacles\, etc. Ride at your own risk. Route link and RSVP through the event website link provided below. \n 
URL:https://thepinestimes.com/event/spoke-pine-cycling-club/2025-05-25/
LOCATION:Compass Cafe at Hot Asana Yoga Studio\, 10 Camelia Way\, Southern Pines\, 28387\, United States
CATEGORIES:Adults,Clubs,Health & Wellness,Hobby/Enthusiast,Nature/Outdoors,Social,Southern Pines Events
ATTACH;FMTTYPE=image/jpeg:https://thepinestimes.com/wp-content/uploads/SpokeAndPineCycingClubFeature.jpg
END:VEVENT
BEGIN:VEVENT
DTSTART;TZID=America/New_York:20250518T090000
DTEND;TZID=America/New_York:20250518T090000
DTSTAMP:20260421T215441
CREATED:20250425T134508Z
LAST-MODIFIED:20250629T130048Z
UID:10057636-1747558800-1747558800@thepinestimes.com
SUMMARY:Spoke & Pine Cycling Club
DESCRIPTION:Be a part of the Spoke & Pine Cycling Club! It is a Cycling Club aimed at building camaraderie within the Sandhills cycling community and beyond. Rides take place every Sunday. \nHelmets are required. Keep power surges to a minimum. Please bring a flat kit. Please call out holes\, obstacles\, etc. Ride at your own risk. Route link and RSVP through the event website link provided below. \n 
URL:https://thepinestimes.com/event/spoke-pine-cycling-club/2025-05-18/
LOCATION:Compass Cafe at Hot Asana Yoga Studio\, 10 Camelia Way\, Southern Pines\, 28387\, United States
CATEGORIES:Adults,Clubs,Health & Wellness,Hobby/Enthusiast,Nature/Outdoors,Social,Southern Pines Events
ATTACH;FMTTYPE=image/jpeg:https://thepinestimes.com/wp-content/uploads/SpokeAndPineCycingClubFeature.jpg
END:VEVENT
BEGIN:VEVENT
DTSTART;TZID=America/New_York:20250511T090000
DTEND;TZID=America/New_York:20250511T090000
DTSTAMP:20260421T215441
CREATED:20250425T134508Z
LAST-MODIFIED:20250629T130048Z
UID:10057635-1746954000-1746954000@thepinestimes.com
SUMMARY:Spoke & Pine Cycling Club
DESCRIPTION:Be a part of the Spoke & Pine Cycling Club! It is a Cycling Club aimed at building camaraderie within the Sandhills cycling community and beyond. Rides take place every Sunday. \nHelmets are required. Keep power surges to a minimum. Please bring a flat kit. Please call out holes\, obstacles\, etc. Ride at your own risk. Route link and RSVP through the event website link provided below. \n 
URL:https://thepinestimes.com/event/spoke-pine-cycling-club/2025-05-11/
LOCATION:Compass Cafe at Hot Asana Yoga Studio\, 10 Camelia Way\, Southern Pines\, 28387\, United States
CATEGORIES:Adults,Clubs,Health & Wellness,Hobby/Enthusiast,Nature/Outdoors,Social,Southern Pines Events
ATTACH;FMTTYPE=image/jpeg:https://thepinestimes.com/wp-content/uploads/SpokeAndPineCycingClubFeature.jpg
END:VEVENT
END:VCALENDAR