BEGIN:VCALENDAR
VERSION:2.0
PRODID:-//The Pines Times - ECPv6.15.20//NONSGML v1.0//EN
CALSCALE:GREGORIAN
METHOD:PUBLISH
X-ORIGINAL-URL:https://thepinestimes.com
X-WR-CALDESC:Events for The Pines Times
REFRESH-INTERVAL;VALUE=DURATION:PT1H
X-Robots-Tag:noindex
X-PUBLISHED-TTL:PT1H
BEGIN:VTIMEZONE
TZID:America/New_York
BEGIN:DAYLIGHT
TZOFFSETFROM:-0500
TZOFFSETTO:-0400
TZNAME:EDT
DTSTART:20250309T070000
END:DAYLIGHT
BEGIN:STANDARD
TZOFFSETFROM:-0400
TZOFFSETTO:-0500
TZNAME:EST
DTSTART:20251102T060000
END:STANDARD
BEGIN:DAYLIGHT
TZOFFSETFROM:-0500
TZOFFSETTO:-0400
TZNAME:EDT
DTSTART:20260308T070000
END:DAYLIGHT
BEGIN:STANDARD
TZOFFSETFROM:-0400
TZOFFSETTO:-0500
TZNAME:EST
DTSTART:20261101T060000
END:STANDARD
BEGIN:DAYLIGHT
TZOFFSETFROM:-0500
TZOFFSETTO:-0400
TZNAME:EDT
DTSTART:20270314T070000
END:DAYLIGHT
BEGIN:STANDARD
TZOFFSETFROM:-0400
TZOFFSETTO:-0500
TZNAME:EST
DTSTART:20271107T060000
END:STANDARD
END:VTIMEZONE
BEGIN:VEVENT
DTSTART;TZID=America/New_York:20260418T183000
DTEND;TZID=America/New_York:20260418T203000
DTSTAMP:20260423T231126
CREATED:20260322T154051Z
LAST-MODIFIED:20260322T154051Z
UID:10083732-1776537000-1776544200@thepinestimes.com
SUMMARY:20th Anniversary Murder Mystery Dinner: "Secret Agent: Dead is Forever"
DESCRIPTION:Step into an evening of intrigue\, elegance\, and delicious suspense at our Murder Mystery Dinner\, a fundraiser supporting building maintenance at Spout Springs Church. Guests will enjoy an elevated\, multi-course dinner crafted by chefs from Johnson & Wales University while being swept into a high-stakes world of espionage. As newly inducted members of an international spy organization\, diners are thrust into a crisis: the sudden and suspicious death of their long-time commander. Clues hide in conversations\, motives twist in the shadows\, and every guest plays a role in uncovering the truth. \nGuests will enjoy a sophisticated multi-course meal crafted by Johnson & Wales University chefs\, starting with a Garden Alibi Caesar Salad followed by a choice of the Detective’s Roast Chicken or the Midnight Pasta Conspiracy\, and concluding with a Molten Motive chocolate lava cake. \nJoin on Saturday\, April 18th\, from 6:30PM-8:30PM. Follow the event website link provided below for full details and registration.
URL:https://thepinestimes.com/event/20th-anniversary-murder-mystery-dinner-secret-agent-dead-is-forever/
LOCATION:Spout Springs Church\, 346 HM Cagle Drive\, Cameron\, NC\, 28326\, United States
CATEGORIES:Adults,Cameron Events,Donation,Food,Fundraiser,Games,Social
ATTACH;FMTTYPE=image/jpeg:https://thepinestimes.com/wp-content/uploads/MurderMysteryFeatureSpoutSprings.jpg
END:VEVENT
END:VCALENDAR