BEGIN:VCALENDAR
VERSION:2.0
PRODID:-//The Pines Times - ECPv6.15.20//NONSGML v1.0//EN
CALSCALE:GREGORIAN
METHOD:PUBLISH
X-WR-CALNAME:The Pines Times
X-ORIGINAL-URL:https://thepinestimes.com
X-WR-CALDESC:Events for The Pines Times
REFRESH-INTERVAL;VALUE=DURATION:PT1H
X-Robots-Tag:noindex
X-PUBLISHED-TTL:PT1H
BEGIN:VTIMEZONE
TZID:America/New_York
BEGIN:DAYLIGHT
TZOFFSETFROM:-0500
TZOFFSETTO:-0400
TZNAME:EDT
DTSTART:20250309T070000
END:DAYLIGHT
BEGIN:STANDARD
TZOFFSETFROM:-0400
TZOFFSETTO:-0500
TZNAME:EST
DTSTART:20251102T060000
END:STANDARD
BEGIN:DAYLIGHT
TZOFFSETFROM:-0500
TZOFFSETTO:-0400
TZNAME:EDT
DTSTART:20260308T070000
END:DAYLIGHT
BEGIN:STANDARD
TZOFFSETFROM:-0400
TZOFFSETTO:-0500
TZNAME:EST
DTSTART:20261101T060000
END:STANDARD
BEGIN:DAYLIGHT
TZOFFSETFROM:-0500
TZOFFSETTO:-0400
TZNAME:EDT
DTSTART:20270314T070000
END:DAYLIGHT
BEGIN:STANDARD
TZOFFSETFROM:-0400
TZOFFSETTO:-0500
TZNAME:EST
DTSTART:20271107T060000
END:STANDARD
END:VTIMEZONE
BEGIN:VEVENT
DTSTART;TZID=America/New_York:20260410T173000
DTEND;TZID=America/New_York:20260410T200000
DTSTAMP:20260421T032207
CREATED:20260401T173135Z
LAST-MODIFIED:20260401T173135Z
UID:10085972-1775842200-1775851200@thepinestimes.com
SUMMARY:First Friday Bloom Bash
DESCRIPTION:Celebrate the start of the season at the Stevens Center First Friday Bloom Bash on Friday\, April 10th\, from 5:30PM-8:00PM. Hosted by Life Springs Restoration Center\, this free community event offers a night of music from DJ CM\, a bounce house\, and various family-friendly activities. Everyone is encouraged to bring friends and family to enjoy free food and fun-filled entertainment supported by TULA (Trillium Ultimate Living Assistant).
URL:https://thepinestimes.com/event/first-friday-bloom-bash/
LOCATION:Life Springs Restoration Center\, 1576 Kelly Drive\, Sanford\, 27330\, United States
CATEGORIES:Adults,Children,Family,Food,Games,Music,Out of Town,Sanford Events,Social,Teen Activities
ATTACH;FMTTYPE=image/jpeg:https://thepinestimes.com/wp-content/uploads/StevensCenterBloomBashFeature.jpg
ORGANIZER;CN="Stevens Center Sanford":MAILTO:office@stevenscenter.org
END:VEVENT
BEGIN:VEVENT
DTSTART;TZID=America/New_York:20260221T180000
DTEND;TZID=America/New_York:20260221T210000
DTSTAMP:20260421T032207
CREATED:20260113T142508Z
LAST-MODIFIED:20260113T142508Z
UID:10079324-1771696800-1771707600@thepinestimes.com
SUMMARY:Moonlight & Merlot: A Roaring 20s Valentine Gala and Silent Auction
DESCRIPTION:Sip exquisite wines\, enjoy the vintage ambiance\, and bid on one of a kind silent auction items in true Roaring Twenties style. Delight in a chef-curated spread (with delicious options for every palate)\, plenty of drink options\, decadent desserts\, and service with flair; all designed for an evening of elegance and indulgence. \nStep into the era by dressing in 1920s-inspired attire. Flapper dresses\, fedoras\, and sequins encouraged but not required. Let live music set the mood as you mingle\, toast\, and bid to support a great cause. \nAll proceeds benefit Stevens Center programs which support people with intellectual and developmental disabilities. Every bid and every toast helps provide meaningful opportunities\, community connections\, and life-enriching experiences for those we serve. \nTickets range $60-$750. For full details and ticket purchases follow the event link provided below. \n \n 
URL:https://thepinestimes.com/event/moonlight-merlot-a-roaring-20s-valentine-gala-and-silent-auction/
LOCATION:Stevens Center Sanford\, 1576 Kelly Dr\, Sanford\, 27330\, United States
CATEGORIES:Adults,Auction,Beer and Wine,Donation,Food,Fundraiser,Gala,Music,Sanford Events,Sanford Events,Sanford Events,Senior,Social,Valentine's Day,Young Adults
ATTACH;FMTTYPE=image/jpeg:https://thepinestimes.com/wp-content/uploads/StevensCenterSanfordFeature.jpg
ORGANIZER;CN="Stevens Center Sanford":MAILTO:office@stevenscenter.org
END:VEVENT
END:VCALENDAR