BEGIN:VCALENDAR
VERSION:2.0
PRODID:-//The Pines Times - ECPv6.15.20//NONSGML v1.0//EN
CALSCALE:GREGORIAN
METHOD:PUBLISH
X-WR-CALNAME:The Pines Times
X-ORIGINAL-URL:https://thepinestimes.com
X-WR-CALDESC:Events for The Pines Times
REFRESH-INTERVAL;VALUE=DURATION:PT1H
X-Robots-Tag:noindex
X-PUBLISHED-TTL:PT1H
BEGIN:VTIMEZONE
TZID:America/New_York
BEGIN:DAYLIGHT
TZOFFSETFROM:-0500
TZOFFSETTO:-0400
TZNAME:EDT
DTSTART:20240310T070000
END:DAYLIGHT
BEGIN:STANDARD
TZOFFSETFROM:-0400
TZOFFSETTO:-0500
TZNAME:EST
DTSTART:20241103T060000
END:STANDARD
BEGIN:DAYLIGHT
TZOFFSETFROM:-0500
TZOFFSETTO:-0400
TZNAME:EDT
DTSTART:20250309T070000
END:DAYLIGHT
BEGIN:STANDARD
TZOFFSETFROM:-0400
TZOFFSETTO:-0500
TZNAME:EST
DTSTART:20251102T060000
END:STANDARD
BEGIN:DAYLIGHT
TZOFFSETFROM:-0500
TZOFFSETTO:-0400
TZNAME:EDT
DTSTART:20260308T070000
END:DAYLIGHT
BEGIN:STANDARD
TZOFFSETFROM:-0400
TZOFFSETTO:-0500
TZNAME:EST
DTSTART:20261101T060000
END:STANDARD
BEGIN:DAYLIGHT
TZOFFSETFROM:-0500
TZOFFSETTO:-0400
TZNAME:EDT
DTSTART:20270314T070000
END:DAYLIGHT
BEGIN:STANDARD
TZOFFSETFROM:-0400
TZOFFSETTO:-0500
TZNAME:EST
DTSTART:20271107T060000
END:STANDARD
END:VTIMEZONE
BEGIN:VEVENT
DTSTART;TZID=America/New_York:20260218T190000
DTEND;TZID=America/New_York:20260218T210000
DTSTAMP:20260424T154455
CREATED:20250428T173632Z
LAST-MODIFIED:20260331T131232Z
UID:10079310-1771441200-1771448400@thepinestimes.com
SUMMARY:Karaoke Wednesday
DESCRIPTION:Join at Striker’s Lounge in Rockingham for Karaoke every Wednesday night starting at 7:00pm. The event is hosted by BowTie Entertainment and provides a fun opportunity for everyone to get on stage and sing their favorite songs. \n \n 
URL:https://thepinestimes.com/event/lanes-laughs/2026-02-18/
LOCATION:Striker’s Lounge\, 1010 E. Broad Ave\, Rockingham\, 28379\, United States
CATEGORIES:Adult Connections,Adults,Hobby/Enthusiast,Music,Out of Town,Rockingham,Social,Young Adults
ATTACH;FMTTYPE=image/png:https://thepinestimes.com/wp-content/uploads/Karaoke-e1754409547503.png
END:VEVENT
BEGIN:VEVENT
DTSTART;TZID=America/New_York:20260211T190000
DTEND;TZID=America/New_York:20260211T210000
DTSTAMP:20260424T154455
CREATED:20250428T173632Z
LAST-MODIFIED:20260331T131232Z
UID:10079309-1770836400-1770843600@thepinestimes.com
SUMMARY:Karaoke Wednesday
DESCRIPTION:Join at Striker’s Lounge in Rockingham for Karaoke every Wednesday night starting at 7:00pm. The event is hosted by BowTie Entertainment and provides a fun opportunity for everyone to get on stage and sing their favorite songs. \n \n 
URL:https://thepinestimes.com/event/lanes-laughs/2026-02-11/
LOCATION:Striker’s Lounge\, 1010 E. Broad Ave\, Rockingham\, 28379\, United States
CATEGORIES:Adult Connections,Adults,Hobby/Enthusiast,Music,Out of Town,Rockingham,Social,Young Adults
ATTACH;FMTTYPE=image/png:https://thepinestimes.com/wp-content/uploads/Karaoke-e1754409547503.png
END:VEVENT
BEGIN:VEVENT
DTSTART;TZID=America/New_York:20260204T190000
DTEND;TZID=America/New_York:20260204T210000
DTSTAMP:20260424T154455
CREATED:20250428T173632Z
LAST-MODIFIED:20260331T131232Z
UID:10079308-1770231600-1770238800@thepinestimes.com
SUMMARY:Karaoke Wednesday
DESCRIPTION:Join at Striker’s Lounge in Rockingham for Karaoke every Wednesday night starting at 7:00pm. The event is hosted by BowTie Entertainment and provides a fun opportunity for everyone to get on stage and sing their favorite songs. \n \n 
URL:https://thepinestimes.com/event/lanes-laughs/2026-02-04/
LOCATION:Striker’s Lounge\, 1010 E. Broad Ave\, Rockingham\, 28379\, United States
CATEGORIES:Adult Connections,Adults,Hobby/Enthusiast,Music,Out of Town,Rockingham,Social,Young Adults
ATTACH;FMTTYPE=image/png:https://thepinestimes.com/wp-content/uploads/Karaoke-e1754409547503.png
END:VEVENT
BEGIN:VEVENT
DTSTART;TZID=America/New_York:20260128T190000
DTEND;TZID=America/New_York:20260128T210000
DTSTAMP:20260424T154455
CREATED:20250428T173632Z
LAST-MODIFIED:20260331T131232Z
UID:10079307-1769626800-1769634000@thepinestimes.com
SUMMARY:Karaoke Wednesday
DESCRIPTION:Join at Striker’s Lounge in Rockingham for Karaoke every Wednesday night starting at 7:00pm. The event is hosted by BowTie Entertainment and provides a fun opportunity for everyone to get on stage and sing their favorite songs. \n \n 
URL:https://thepinestimes.com/event/lanes-laughs/2026-01-28/
LOCATION:Striker’s Lounge\, 1010 E. Broad Ave\, Rockingham\, 28379\, United States
CATEGORIES:Adult Connections,Adults,Hobby/Enthusiast,Music,Out of Town,Rockingham,Social,Young Adults
ATTACH;FMTTYPE=image/png:https://thepinestimes.com/wp-content/uploads/Karaoke-e1754409547503.png
END:VEVENT
BEGIN:VEVENT
DTSTART;TZID=America/New_York:20260121T190000
DTEND;TZID=America/New_York:20260121T210000
DTSTAMP:20260424T154455
CREATED:20250428T173632Z
LAST-MODIFIED:20260331T131232Z
UID:10079306-1769022000-1769029200@thepinestimes.com
SUMMARY:Karaoke Wednesday
DESCRIPTION:Join at Striker’s Lounge in Rockingham for Karaoke every Wednesday night starting at 7:00pm. The event is hosted by BowTie Entertainment and provides a fun opportunity for everyone to get on stage and sing their favorite songs. \n \n 
URL:https://thepinestimes.com/event/lanes-laughs/2026-01-21/
LOCATION:Striker’s Lounge\, 1010 E. Broad Ave\, Rockingham\, 28379\, United States
CATEGORIES:Adult Connections,Adults,Hobby/Enthusiast,Music,Out of Town,Rockingham,Social,Young Adults
ATTACH;FMTTYPE=image/png:https://thepinestimes.com/wp-content/uploads/Karaoke-e1754409547503.png
END:VEVENT
BEGIN:VEVENT
DTSTART;TZID=America/New_York:20260114T190000
DTEND;TZID=America/New_York:20260114T210000
DTSTAMP:20260424T154455
CREATED:20250428T173632Z
LAST-MODIFIED:20260331T131232Z
UID:10079305-1768417200-1768424400@thepinestimes.com
SUMMARY:Karaoke Wednesday
DESCRIPTION:Join at Striker’s Lounge in Rockingham for Karaoke every Wednesday night starting at 7:00pm. The event is hosted by BowTie Entertainment and provides a fun opportunity for everyone to get on stage and sing their favorite songs. \n \n 
URL:https://thepinestimes.com/event/lanes-laughs/2026-01-14/
LOCATION:Striker’s Lounge\, 1010 E. Broad Ave\, Rockingham\, 28379\, United States
CATEGORIES:Adult Connections,Adults,Hobby/Enthusiast,Music,Out of Town,Rockingham,Social,Young Adults
ATTACH;FMTTYPE=image/png:https://thepinestimes.com/wp-content/uploads/Karaoke-e1754409547503.png
END:VEVENT
BEGIN:VEVENT
DTSTART;TZID=America/New_York:20251126T200000
DTEND;TZID=America/New_York:20251126T235900
DTSTAMP:20260424T154455
CREATED:20241115T204900Z
LAST-MODIFIED:20251114T231545Z
UID:10048311-1764187200-1764201540@thepinestimes.com
SUMMARY:Turkey Crawl 2025
DESCRIPTION:Come out for the 7th annual Turkey Crawl in Rockingham! The fun takes place on Wednesday\, November 26th | 8pm-2am. Enjoy live music downtown and fun at Hudson Brothers Deli\, Double Vision and Striker’s Lounge.
URL:https://thepinestimes.com/event/turkey-crawl-2025/
LOCATION:Hudson Brothers Deli\, 115 S Lee St\, Rockingham\, NC\, 28379\, United States
CATEGORIES:Adults,Beer and Wine,Holiday Events,Thanksgiving
ATTACH;FMTTYPE=image/jpeg:https://thepinestimes.com/wp-content/uploads/TurkeyCrawlFeature-1.jpg
END:VEVENT
END:VCALENDAR