BEGIN:VCALENDAR
VERSION:2.0
PRODID:-//The Pines Times - ECPv6.15.20//NONSGML v1.0//EN
CALSCALE:GREGORIAN
METHOD:PUBLISH
X-ORIGINAL-URL:https://thepinestimes.com
X-WR-CALDESC:Events for The Pines Times
REFRESH-INTERVAL;VALUE=DURATION:PT1H
X-Robots-Tag:noindex
X-PUBLISHED-TTL:PT1H
BEGIN:VTIMEZONE
TZID:America/New_York
BEGIN:DAYLIGHT
TZOFFSETFROM:-0500
TZOFFSETTO:-0400
TZNAME:EDT
DTSTART:20240310T070000
END:DAYLIGHT
BEGIN:STANDARD
TZOFFSETFROM:-0400
TZOFFSETTO:-0500
TZNAME:EST
DTSTART:20241103T060000
END:STANDARD
BEGIN:DAYLIGHT
TZOFFSETFROM:-0500
TZOFFSETTO:-0400
TZNAME:EDT
DTSTART:20250309T070000
END:DAYLIGHT
BEGIN:STANDARD
TZOFFSETFROM:-0400
TZOFFSETTO:-0500
TZNAME:EST
DTSTART:20251102T060000
END:STANDARD
BEGIN:DAYLIGHT
TZOFFSETFROM:-0500
TZOFFSETTO:-0400
TZNAME:EDT
DTSTART:20260308T070000
END:DAYLIGHT
BEGIN:STANDARD
TZOFFSETFROM:-0400
TZOFFSETTO:-0500
TZNAME:EST
DTSTART:20261101T060000
END:STANDARD
BEGIN:DAYLIGHT
TZOFFSETFROM:-0500
TZOFFSETTO:-0400
TZNAME:EDT
DTSTART:20270314T070000
END:DAYLIGHT
BEGIN:STANDARD
TZOFFSETFROM:-0400
TZOFFSETTO:-0500
TZNAME:EST
DTSTART:20271107T060000
END:STANDARD
END:VTIMEZONE
BEGIN:VEVENT
DTSTART;TZID=America/New_York:20260422T150000
DTEND;TZID=America/New_York:20260422T170000
DTSTAMP:20260423T140837
CREATED:20260408T204140Z
LAST-MODIFIED:20260408T204140Z
UID:10086666-1776870000-1776877200@thepinestimes.com
SUMMARY:Sunrise Theater: "Sinners" Movie Screening
DESCRIPTION:See “Sinners” on the Sunrise Theater screen! \n“Trying to leave their troubled lives behind\, twin brothers (Jordan) return to their hometown to start again\, only to discover that an even greater evil is waiting to welcome them back.” \nRated R | 138 minutes \nTickets are $12.50. To purchase tickets online\, CLICK HERE. \n 
URL:https://thepinestimes.com/event/sunrise-theater-sinners-movie-screening/2026-04-22/
LOCATION:Sunrise Theater\, 250 NW Broad St\, Southern Pines\, NC\, 28387\, United States
CATEGORIES:Adults,Movie,Southern Pines Events
ATTACH;FMTTYPE=image/jpeg:https://thepinestimes.com/wp-content/uploads/SunriseTheaterFeature-1.jpg
END:VEVENT
BEGIN:VEVENT
DTSTART;TZID=America/New_York:20260421T190000
DTEND;TZID=America/New_York:20260421T210000
DTSTAMP:20260423T140837
CREATED:20251120T000850Z
LAST-MODIFIED:20260410T152535Z
UID:10075454-1776798000-1776805200@thepinestimes.com
SUMMARY:Tuesday Night Music Club "Classic Albums\, The Making of Rumours"
DESCRIPTION:Casino Guitars presents the Tuesday Night Music Club! Join the Tuesday Night Music Club at the Sunrise Theater for a speakeasy music event on the third Tuesday of each month. It could be a concert video\, a music movie\, album listening event or even a live music performance. Sign up to get the next event’s performance information. For full details\, follow the event website link provided below. \nTuesday\, April 21st: This Tuesday Night Music Club is going to be extraordinary. Celebrate the classic Fleetwood Mac album: Rumours with a listening party\, followed by the documentary “Classic Albums\, the Making of Rumours.” $15. \nRumours was originally mastered in two-track stereo and we’ve all heard these songs a hundred times before. But in 2001\, Ken Calliat\, who mixed the original album\, remixed the final take in 5.1 surround. We will be playing this new surround on the Sunrise’s killer sound system acoustically optimized for this record. Be prepared to be blown away as you hear details and nuances of these classic songs you never heard before. \nFollowing the album\, we will be showing the documentary “Classic Albums: The Making of Rumours” where Ken Calliat and the members of Fleetwood Mac go into the studio and break down and dissect the original recording\, revealing the musical genius that ended up on tape. \n \n  \n 
URL:https://thepinestimes.com/event/tuesday-night-music-club-classic-albums-the-making-of-rumours/
LOCATION:Sunrise Theater\, 250 NW Broad St\, Southern Pines\, NC\, 28387\, United States
CATEGORIES:Adults,Clubs,Hobby/Enthusiast,Music,Social,Southern Pines Events
ATTACH;FMTTYPE=image/jpeg:https://thepinestimes.com/wp-content/uploads/CasinoGuitarsMusicNightFeature.jpg
END:VEVENT
BEGIN:VEVENT
DTSTART;TZID=America/New_York:20260419T150000
DTEND;TZID=America/New_York:20260419T170000
DTSTAMP:20260423T140837
CREATED:20260408T204140Z
LAST-MODIFIED:20260408T204140Z
UID:10086665-1776610800-1776618000@thepinestimes.com
SUMMARY:Sunrise Theater: "Sinners" Movie Screening
DESCRIPTION:See “Sinners” on the Sunrise Theater screen! \n“Trying to leave their troubled lives behind\, twin brothers (Jordan) return to their hometown to start again\, only to discover that an even greater evil is waiting to welcome them back.” \nRated R | 138 minutes \nTickets are $12.50. To purchase tickets online\, CLICK HERE. \n 
URL:https://thepinestimes.com/event/sunrise-theater-sinners-movie-screening/2026-04-19/
LOCATION:Sunrise Theater\, 250 NW Broad St\, Southern Pines\, NC\, 28387\, United States
CATEGORIES:Adults,Movie,Southern Pines Events
ATTACH;FMTTYPE=image/jpeg:https://thepinestimes.com/wp-content/uploads/SunriseTheaterFeature-1.jpg
END:VEVENT
BEGIN:VEVENT
DTSTART;TZID=America/New_York:20260418T200000
DTEND;TZID=America/New_York:20260418T213000
DTSTAMP:20260423T140837
CREATED:20260319T133356Z
LAST-MODIFIED:20260319T133356Z
UID:10083536-1776542400-1776547800@thepinestimes.com
SUMMARY:Sunrise Theater: Moms Unhinged-The Naughty Show
DESCRIPTION:BACK BY INSANELY POPULAR DEMAND! Moms Unhinged Standup Comedy Show returns to Sunrise Theater on Saturday\, April 18th with an all-new line up of comedians! If you came to any of the previous sold-out Moms shows\, you know you’re in for a hilarious evening of laughter as we explore everything from motherhood\, midlife crisis\, marriage\, divorce\, online dating\, and other things that irritate us. Men are welcome to the show\, too. \nMoms Unhinged has been selling out shows all over the country and is coming BACK to Southern Pines for a fourth time with a brand NEW lineup of mom comedians! Plus we have a very special double NAUGHTY performances at 4PM and 8PM. You can buy tickets to either show. \nIn the NAUGHTY show we get a little racy and let loose! Expect a more rated R themes and language – we still keep things all about being a mom and a woman in today’s world. This is a fun event out with your girlfriends\, drinking club (I mean book club)\, neighborhood group or your own mom. Laughter is proven to lower your cortisol! \nPerforming: Amanda Marks\, Avril Granato and headliner Ophira Eisenberg \nHeadliner Ophira Eisenberg has appeared multiple times on CBS’s The Late Late Show\, Sherri! with Sherri Sheppard\, Comedy Central\, HBO\, The New York Festival\, and is a regular performer and host for The Moth Radio Hour. She also hosted the long-running NPR game show\, Ask Me Another for 9 years and has an award-winning podcast\, Parenting is a Joke. \nAdult themes and language – 18+. Tickets are $32. To purchase tickets online\, CLICK HERE.
URL:https://thepinestimes.com/event/sunrise-theater-moms-unhinged-the-naughty-show/2026-04-18/2/
LOCATION:Sunrise Theater\, 250 NW Broad St\, Southern Pines\, NC\, 28387\, United States
CATEGORIES:Adult Connections,Adults,Comedy,Live Entertainment,Southern Pines Events
ATTACH;FMTTYPE=image/jpeg:https://thepinestimes.com/wp-content/uploads/SunriseTheaterFeature-1.jpg
END:VEVENT
BEGIN:VEVENT
DTSTART;TZID=America/New_York:20260418T160000
DTEND;TZID=America/New_York:20260418T173000
DTSTAMP:20260423T140837
CREATED:20260319T133356Z
LAST-MODIFIED:20260319T133356Z
UID:10083535-1776528000-1776533400@thepinestimes.com
SUMMARY:Sunrise Theater: Moms Unhinged-The Naughty Show
DESCRIPTION:BACK BY INSANELY POPULAR DEMAND! Moms Unhinged Standup Comedy Show returns to Sunrise Theater on Saturday\, April 18th with an all-new line up of comedians! If you came to any of the previous sold-out Moms shows\, you know you’re in for a hilarious evening of laughter as we explore everything from motherhood\, midlife crisis\, marriage\, divorce\, online dating\, and other things that irritate us. Men are welcome to the show\, too. \nMoms Unhinged has been selling out shows all over the country and is coming BACK to Southern Pines for a fourth time with a brand NEW lineup of mom comedians! Plus we have a very special double NAUGHTY performances at 4PM and 8PM. You can buy tickets to either show. \nIn the NAUGHTY show we get a little racy and let loose! Expect a more rated R themes and language – we still keep things all about being a mom and a woman in today’s world. This is a fun event out with your girlfriends\, drinking club (I mean book club)\, neighborhood group or your own mom. Laughter is proven to lower your cortisol! \nPerforming: Amanda Marks\, Avril Granato and headliner Ophira Eisenberg \nHeadliner Ophira Eisenberg has appeared multiple times on CBS’s The Late Late Show\, Sherri! with Sherri Sheppard\, Comedy Central\, HBO\, The New York Festival\, and is a regular performer and host for The Moth Radio Hour. She also hosted the long-running NPR game show\, Ask Me Another for 9 years and has an award-winning podcast\, Parenting is a Joke. \nAdult themes and language – 18+. Tickets are $32. To purchase tickets online\, CLICK HERE.
URL:https://thepinestimes.com/event/sunrise-theater-moms-unhinged-the-naughty-show/2026-04-18/1/
LOCATION:Sunrise Theater\, 250 NW Broad St\, Southern Pines\, NC\, 28387\, United States
CATEGORIES:Adult Connections,Adults,Comedy,Live Entertainment,Southern Pines Events
ATTACH;FMTTYPE=image/jpeg:https://thepinestimes.com/wp-content/uploads/SunriseTheaterFeature-1.jpg
END:VEVENT
BEGIN:VEVENT
DTSTART;TZID=America/New_York:20260417T190000
DTEND;TZID=America/New_York:20260417T190000
DTSTAMP:20260423T140837
CREATED:20260225T141414Z
LAST-MODIFIED:20260301T140544Z
UID:10081658-1776452400-1776452400@thepinestimes.com
SUMMARY:Sunrise Theater: Julia Golden "The Golden Hour Concert"
DESCRIPTION:Get ready to celebrate Moore County’s very own superstar as Julia Golden takes The Kimberly stage for “The Golden Hour” concert on Friday\, April 17th at 7:00pm. Straight off her impressive run on NBC’s The Voice\, Julia will perform an interactive live set alongside her full band in an event generously sponsored by Visit Pinehurst\, Southern Pines & Aberdeen. \nFans can choose from a variety of seating options starting at $26\, while VIP packages are available offering an exclusive experience featuring early access at 5:30pm for a private pre-show performance\, a Q&A session\, and a personal meet-and-greet photo opportunity. It’s a celebration you won’t want to miss! \nFor full details and to secure your tickets\, CLICK HERE.
URL:https://thepinestimes.com/event/sunrise-theater-julia-golden-the-golden-hour-concert/
LOCATION:Sunrise Theater\, 250 NW Broad St\, Southern Pines\, NC\, 28387\, United States
CATEGORIES:Adults,Concert,HOMEPAGE Featured,Live Entertainment,Moore County Events,Music,Social,Southern Pines Events
ATTACH;FMTTYPE=image/jpeg:https://thepinestimes.com/wp-content/uploads/SunriseTheaterFeature-1.jpg
END:VEVENT
BEGIN:VEVENT
DTSTART;TZID=America/New_York:20260416T190000
DTEND;TZID=America/New_York:20260416T210000
DTSTAMP:20260423T140837
CREATED:20260405T131741Z
LAST-MODIFIED:20260405T131741Z
UID:10086251-1776366000-1776373200@thepinestimes.com
SUMMARY:Sunrise Theater: "Field of Dreams" Movie Screening
DESCRIPTION:Sunrise Theater is presenting a full schedule of classic films this April! Tickets are $12.50. \nField of Dreams on April 16 at 7PM: An Iowa corn farmer\, hearing voices\, interprets them as a command to build a baseball diamond in his fields; he does\, and the 1919 Chicago White Sox come. Rated PG. To purchase tickets\, CLICK HERE. \nThe Bridge on the River Kwai on April 29th at 7PM \n48 Hrs. on April 30th at 7PM.
URL:https://thepinestimes.com/event/sunrise-theater-field-of-dreams-movie-screening/
LOCATION:Sunrise Theater\, 250 NW Broad St\, Southern Pines\, NC\, 28387\, United States
CATEGORIES:Movie,Southern Pines Events
ATTACH;FMTTYPE=image/jpeg:https://thepinestimes.com/wp-content/uploads/SunriseTheaterFeature-1.jpg
END:VEVENT
BEGIN:VEVENT
DTSTART;TZID=America/New_York:20260410T193000
DTEND;TZID=America/New_York:20260410T210000
DTSTAMP:20260423T140837
CREATED:20260313T123927Z
LAST-MODIFIED:20260313T123927Z
UID:10083347-1775849400-1775854800@thepinestimes.com
SUMMARY:The Moore County Spring Fashion Show at Sunrise Theater
DESCRIPTION:The Moore County Spring Fashion Show at Sunrise Theater is happening on Friday\, April 10th at 7:30PM! \nCome experience a night of glamour and glitz as the Sunrise Theater transforms into a fashion house worthy of Paris or Milan! Sip champagne\, be wowed by the lightshow and DJ as models from the Southern Pines boutiques show off their latest holiday gear. \nGeneral Admission: $26 \nVIP Experience: $68 includes Premium seats and complimentary champagne\, wine & beer \nTo purchase tickets\, CLICK HERE.
URL:https://thepinestimes.com/event/the-moore-county-spring-fashion-show-at-sunrise-theater/
LOCATION:Sunrise Theater\, 250 NW Broad St\, Southern Pines\, NC\, 28387\, United States
CATEGORIES:Adults,Fashion Show,Hobby/Enthusiast,HOMEPAGE Featured,Live Entertainment,Senior,Shopping,Social,Southern Pines Events,Young Adults
END:VEVENT
BEGIN:VEVENT
DTSTART;TZID=America/New_York:20260404T140000
DTEND;TZID=America/New_York:20260404T210000
DTSTAMP:20260423T140837
CREATED:20240308T030046Z
LAST-MODIFIED:20260329T124640Z
UID:10032015-1775311200-1775336400@thepinestimes.com
SUMMARY:Sunrise Theater Presents: "Herbfest" Herb Cameron Music Fest '26
DESCRIPTION:The Sunrise Theater presents the annual Herb Cameron Music Festival on Saturday\, April 4th! Join this community celebration honoring the musical legacy of Herb Cameron with an all-day musical experience. Food trucks will be on site and a beer garden as well. Many talented musicians will be performing throughout the day with the music starting at 3:00pm. \nHerbfest Music Lineup:\nPerformer: Sicard Hollow\nPerformer: Ben Chapman & Meg McRee\nPerformer: Jesse Roper Headlining \nThe Sunrise is a 501(c)3 charitable organization. Entrance by donation! A portion of proceeds will benefit Parkinson’s Research. \n“Herb worked for over a decade behind the scenes here at the Sunrise and was the driving force behind most of the live music showcased over the years. He eventually had to step away due to Parkinson’s\, and we thought – what better way to honor the man behind the music than to put on a music festival in his honor.” \nFor additional information\, CLICK HERE. \n \n 
URL:https://thepinestimes.com/event/sunrise-theater-presents-herbfest-the-herb-cameron-music-festival-2026/
LOCATION:Sunrise Theater\, 250 NW Broad St\, Southern Pines\, NC\, 28387\, United States
CATEGORIES:Adults,Concert,Family,Fundraiser,Hobby/Enthusiast,HOMEPAGE Featured,Live Entertainment,Live Music,Music,Senior,Social,Southern Pines Events,Young Adults
ATTACH;FMTTYPE=image/jpeg:https://thepinestimes.com/wp-content/uploads/SunriseTheaterFeature-1.jpg
END:VEVENT
BEGIN:VEVENT
DTSTART;TZID=America/New_York:20260327T130000
DTEND;TZID=America/New_York:20260327T150000
DTSTAMP:20260423T140837
CREATED:20260305T153642Z
LAST-MODIFIED:20260305T153642Z
UID:10082346-1774616400-1774623600@thepinestimes.com
SUMMARY:Dementia-Friendly Cinema at Sunrise Theater: "Some Like It Hot"
DESCRIPTION:SanStone Health & Rehabilitation presents a series of Dementia-Friendly Cinema events at the Sunrise Theater\, designed specifically for guests with memory loss and their caregivers. These screenings feature softer lighting\, lower sound\, and a relaxed atmosphere to ensure a comfortable experience for all attendees. \nThe Dementia-Friendly Cinema series features the following screenings: \n“Some Like It Hot”- Friday\, March 27th at 1:00PM. “With no money and nowhere to hide\, two down on their luck jazz musicians (Tony Curtis and Jack Lemmon) masquerade as members of an all-girl band\, leading to a number of romantic complications when one falls for the band’s lead singer played by Marilyn Monroe in one of her most iconic performances.” To reserve your free ticket\, CLICK HERE. \n“Mary Poppins”-Friday\, April 24th at 1:00PM \n“The Odd Couple”-Friday\, May 22nd at 1:00PM \nGuests can enjoy free entry\, free popcorn\, and free valet parking at the theater where trained staff and volunteers will be on hand to assist. \n \n 
URL:https://thepinestimes.com/event/dementia-friendly-cinema-at-sunrise-theater-some-like-it-hot/
LOCATION:Sunrise Theater\, 250 NW Broad St\, Southern Pines\, NC\, 28387\, United States
CATEGORIES:Adults,Brain Change,Educational,Health & Wellness,Movie,Senior,Southern Pines Events
ATTACH;FMTTYPE=image/jpeg:https://thepinestimes.com/wp-content/uploads/DementiaCinemaSunriseFeature.jpg
END:VEVENT
BEGIN:VEVENT
DTSTART;TZID=America/New_York:20260326T190000
DTEND;TZID=America/New_York:20260326T210000
DTSTAMP:20260423T140837
CREATED:20260120T142556Z
LAST-MODIFIED:20260312T165409Z
UID:10079844-1774551600-1774558800@thepinestimes.com
SUMMARY:Sunrise Theater: "The Infamous Stringdusters" (Sold Out)
DESCRIPTION:Get ready to get DUSTED! The Infamous Stringdusters are coming to Southern Pines for one night only on Thursday\, March 26th at 7:00pm! Now Sold Out \nThe Infamous Stringdusters are a Grammy Award-winning ensemble whose tone and swagger meld acoustic majesty with a full-blown rock show attitude. A progressive bluegrass quintet originally formed in Nashville in 2005\, the group is widely recognized for bridging the gap between traditional acoustic music and high-energy rock performance\, a style often referred to as “jamgrass.” The ensemble consists of Andy Hall on Dobro\, Andy Falco on guitar\, Chris Pandolfi on banjo\, Jeremy Garrett on fiddle\, and Travis Book on double bass. \nGeneral Admission is $39.50 \nVIP PreShow Dinner & Drinks Experience with General Admission ticket: $114-VIP PreShow Dinner & Drinks Package includes two-hour early access to VIP lounge (doors open at 5pm)\, catered dinner by Embers BBQ\, unlimited beer & wine before and during show & souvenir poster. Please note: VIP lounge is up one flight of stairs and is not handicap accessible. \nTo purchase tickets\, CLICK HERE.
URL:https://thepinestimes.com/event/sunrise-theater-presents-the-infamous-stringdusters-live-in-concert/
LOCATION:Sunrise Theater\, 250 NW Broad St\, Southern Pines\, NC\, 28387\, United States
CATEGORIES:Adults,Concert,Family,Hobby/Enthusiast,Live Entertainment,Music,Senior,Social,Southern Pines Events,Young Adults
ATTACH;FMTTYPE=image/jpeg:https://thepinestimes.com/wp-content/uploads/SunriseTheaterFeature-1.jpg
END:VEVENT
BEGIN:VEVENT
DTSTART;TZID=America/New_York:20251214T190000
DTEND;TZID=America/New_York:20251214T210000
DTSTAMP:20260423T140837
CREATED:20231127T143233Z
LAST-MODIFIED:20251113T184508Z
UID:10074878-1765738800-1765746000@thepinestimes.com
SUMMARY:Sunrise Theater Presents: The Murphy Family Christmas Concert 2025
DESCRIPTION:Join as Sunrise Theater presents the annual Murphy Family Christmas Concert on Sunday\, December 14th! \nThe Murphy Family Christmas Concert is one of the Sunrise Theater’s most cherished Christmas traditions. 2025 marks the 14th year that the Murphy’s have leant their incredible talents to concert goers at the Sunrise Theater. During past Christmas concerts\, the family has performed American popular standards\, jazz\, alternative rock\, gospel influenced Christmas arrangements\, traditional carols and Brazilian Bossa nova and Samba. \nShowtimes are at 3:00pm and 7:00pm. General admission tickets are $32. \nThere is a VIP Dinner Package available for $120 which includes: early access (doors open at 1pm for the 3pm show and 5:00pm for the 7:00pm show)\, Ticket to performance of your choice\, a preshow catered dinner by Thyme & Place Catering in the Sunrise’s VIP Loft Lounge\, unlimited champagne\, wine & beer\, and a souvenir poster of Murphy Family Christmas. \nFor full details and online ticket purchases\, CLICK HERE.
URL:https://thepinestimes.com/event/sunrise-theater-presents-the-murphy-family-christmas-concert/2025-12-14/2/
LOCATION:Sunrise Theater\, 250 NW Broad St\, Southern Pines\, NC\, 28387\, United States
CATEGORIES:Adults,Christmas,Concert,Family,Hobby/Enthusiast,Holiday Events,HOMEPAGE Featured,Live Entertainment,Music,Senior,Social,Southern Pines Events,Young Adults
ATTACH;FMTTYPE=image/jpeg:https://thepinestimes.com/wp-content/uploads/SunriseTheaterFeature-1.jpg
END:VEVENT
BEGIN:VEVENT
DTSTART;TZID=America/New_York:20251214T150000
DTEND;TZID=America/New_York:20251214T170000
DTSTAMP:20260423T140837
CREATED:20231127T143233Z
LAST-MODIFIED:20251113T184508Z
UID:10074877-1765724400-1765731600@thepinestimes.com
SUMMARY:Sunrise Theater Presents: The Murphy Family Christmas Concert 2025
DESCRIPTION:Join as Sunrise Theater presents the annual Murphy Family Christmas Concert on Sunday\, December 14th! \nThe Murphy Family Christmas Concert is one of the Sunrise Theater’s most cherished Christmas traditions. 2025 marks the 14th year that the Murphy’s have leant their incredible talents to concert goers at the Sunrise Theater. During past Christmas concerts\, the family has performed American popular standards\, jazz\, alternative rock\, gospel influenced Christmas arrangements\, traditional carols and Brazilian Bossa nova and Samba. \nShowtimes are at 3:00pm and 7:00pm. General admission tickets are $32. \nThere is a VIP Dinner Package available for $120 which includes: early access (doors open at 1pm for the 3pm show and 5:00pm for the 7:00pm show)\, Ticket to performance of your choice\, a preshow catered dinner by Thyme & Place Catering in the Sunrise’s VIP Loft Lounge\, unlimited champagne\, wine & beer\, and a souvenir poster of Murphy Family Christmas. \nFor full details and online ticket purchases\, CLICK HERE.
URL:https://thepinestimes.com/event/sunrise-theater-presents-the-murphy-family-christmas-concert/2025-12-14/1/
LOCATION:Sunrise Theater\, 250 NW Broad St\, Southern Pines\, NC\, 28387\, United States
CATEGORIES:Adults,Christmas,Concert,Family,Hobby/Enthusiast,Holiday Events,HOMEPAGE Featured,Live Entertainment,Music,Senior,Social,Southern Pines Events,Young Adults
ATTACH;FMTTYPE=image/jpeg:https://thepinestimes.com/wp-content/uploads/SunriseTheaterFeature-1.jpg
END:VEVENT
BEGIN:VEVENT
DTSTART;TZID=America/New_York:20251127T190000
DTEND;TZID=America/New_York:20251127T210000
DTSTAMP:20260423T140837
CREATED:20241022T142939Z
LAST-MODIFIED:20251108T153142Z
UID:10046721-1764270000-1764277200@thepinestimes.com
SUMMARY:Sunrise Theater: "The Last Waltz" Free Thanksgiving Movie Screening 2025
DESCRIPTION:Join the Sunrise Theater in their Thanksgiving tradition of showing The Last Waltz! Sponsored by Howell’s Masonry! \n“Seventeen years after joining forces as the backing band for rockabilly cult hero Ronnie Hawkins\, Canadian roots rockers The Band call it quits with a lavish farewell show at San Francisco’s Winterland Ballroom on Nov. 25\, 1976. Filmed by Martin Scorsese\, this documentary features standout performances by rock legends such as Bob Dylan\, Van Morrison\, Eric Clapton\, Joni Mitchell and Muddy Waters\, as well as interviews tracing the group’s history and discussing road life.” \nThis is a free movie screening on Thursday\, November 27th at 7:00pm. For additional information\, CLICK HERE.
URL:https://thepinestimes.com/event/sunrise-theater-the-last-waltz-free-movie-screening/
LOCATION:Sunrise Theater\, 250 NW Broad St\, Southern Pines\, NC\, 28387\, United States
CATEGORIES:Adults,Concert,Family,Hobby/Enthusiast,Holiday Events,HOMEPAGE Featured,Live Entertainment,Movie,Music,Senior,Social,Southern Pines Events,Thanksgiving
ATTACH;FMTTYPE=image/jpeg:https://thepinestimes.com/wp-content/uploads/SunriseTheaterFeature-1.jpg
END:VEVENT
BEGIN:VEVENT
DTSTART;TZID=America/New_York:20250911T083000
DTEND;TZID=America/New_York:20250911T083000
DTSTAMP:20260423T140837
CREATED:20230909T123500Z
LAST-MODIFIED:20250904T144414Z
UID:10020640-1757579400-1757579400@thepinestimes.com
SUMMARY:Southern Pines 9/11 Memorial Ceremony
DESCRIPTION:The community is invited to come together for the 9/11 Memorial Ceremony. The Southern Pines Fire and Police Departments will lead the Remembrance Ceremony beginning at 8:30am on the outdoor Sunrise Theater Stage. This year’s ceremony recognizes the 24th anniversary of September 11th. \n 
URL:https://thepinestimes.com/event/9-11-memorial-ceremony/
LOCATION:First Bank Stage at Sunrise Theater\, 250 NW Broad St\, Southern Pines\, 28387
CATEGORIES:9/11,Adults,Ceremony,Family,Historical,HOMEPAGE Featured,Moore County Events,Music,Religious/Spiritual,Senior,Social,Southern Pines Events,Veterans
ATTACH;FMTTYPE=image/jpeg:https://thepinestimes.com/wp-content/uploads/september11ceremonyfeature.jpg
END:VEVENT
END:VCALENDAR