BEGIN:VCALENDAR
VERSION:2.0
PRODID:-//The Pines Times - ECPv6.15.20//NONSGML v1.0//EN
CALSCALE:GREGORIAN
METHOD:PUBLISH
X-WR-CALNAME:The Pines Times
X-ORIGINAL-URL:https://thepinestimes.com
X-WR-CALDESC:Events for The Pines Times
REFRESH-INTERVAL;VALUE=DURATION:PT1H
X-Robots-Tag:noindex
X-PUBLISHED-TTL:PT1H
BEGIN:VTIMEZONE
TZID:America/New_York
BEGIN:DAYLIGHT
TZOFFSETFROM:-0500
TZOFFSETTO:-0400
TZNAME:EDT
DTSTART:20240310T070000
END:DAYLIGHT
BEGIN:STANDARD
TZOFFSETFROM:-0400
TZOFFSETTO:-0500
TZNAME:EST
DTSTART:20241103T060000
END:STANDARD
BEGIN:DAYLIGHT
TZOFFSETFROM:-0500
TZOFFSETTO:-0400
TZNAME:EDT
DTSTART:20250309T070000
END:DAYLIGHT
BEGIN:STANDARD
TZOFFSETFROM:-0400
TZOFFSETTO:-0500
TZNAME:EST
DTSTART:20251102T060000
END:STANDARD
BEGIN:DAYLIGHT
TZOFFSETFROM:-0500
TZOFFSETTO:-0400
TZNAME:EDT
DTSTART:20260308T070000
END:DAYLIGHT
BEGIN:STANDARD
TZOFFSETFROM:-0400
TZOFFSETTO:-0500
TZNAME:EST
DTSTART:20261101T060000
END:STANDARD
END:VTIMEZONE
BEGIN:VEVENT
DTSTART;TZID=America/New_York:20250526T150000
DTEND;TZID=America/New_York:20250526T150000
DTSTAMP:20260424T105340
CREATED:20230522T191024Z
LAST-MODIFIED:20250523T133228Z
UID:10012454-1748271600-1748271600@thepinestimes.com
SUMMARY:The National Moment of Remembrance
DESCRIPTION:Please join in honor and remembrance of our fallen soldiers who gave the ultimate sacrifice. “The National Moment of Remembrance is an annual event that asks Americans\, wherever they are at 3:00pm. local time on Memorial Day\, to pause for a duration of one minute to remember those who have died in military service to the United States.”
URL:https://thepinestimes.com/event/the-national-moment-of-remembrance/
CATEGORIES:Adults,Family,Historical,Hobby/Enthusiast,HOMEPAGE Featured,Meeting,Memorial Day,Moore County Events,Religious/Spiritual,Senior,Social,Veterans
ATTACH;FMTTYPE=image/jpeg:https://thepinestimes.com/wp-content/uploads/TapsForVeteransFlyer.jpg
END:VEVENT
END:VCALENDAR