BEGIN:VCALENDAR
VERSION:2.0
PRODID:-//The Pines Times - ECPv6.15.20//NONSGML v1.0//EN
CALSCALE:GREGORIAN
METHOD:PUBLISH
X-ORIGINAL-URL:https://thepinestimes.com
X-WR-CALDESC:Events for The Pines Times
REFRESH-INTERVAL;VALUE=DURATION:PT1H
X-Robots-Tag:noindex
X-PUBLISHED-TTL:PT1H
BEGIN:VTIMEZONE
TZID:America/New_York
BEGIN:DAYLIGHT
TZOFFSETFROM:-0500
TZOFFSETTO:-0400
TZNAME:EDT
DTSTART:20240310T070000
END:DAYLIGHT
BEGIN:STANDARD
TZOFFSETFROM:-0400
TZOFFSETTO:-0500
TZNAME:EST
DTSTART:20241103T060000
END:STANDARD
BEGIN:DAYLIGHT
TZOFFSETFROM:-0500
TZOFFSETTO:-0400
TZNAME:EDT
DTSTART:20250309T070000
END:DAYLIGHT
BEGIN:STANDARD
TZOFFSETFROM:-0400
TZOFFSETTO:-0500
TZNAME:EST
DTSTART:20251102T060000
END:STANDARD
BEGIN:DAYLIGHT
TZOFFSETFROM:-0500
TZOFFSETTO:-0400
TZNAME:EDT
DTSTART:20260308T070000
END:DAYLIGHT
BEGIN:STANDARD
TZOFFSETFROM:-0400
TZOFFSETTO:-0500
TZNAME:EST
DTSTART:20261101T060000
END:STANDARD
BEGIN:DAYLIGHT
TZOFFSETFROM:-0500
TZOFFSETTO:-0400
TZNAME:EDT
DTSTART:20270314T070000
END:DAYLIGHT
BEGIN:STANDARD
TZOFFSETFROM:-0400
TZOFFSETTO:-0500
TZNAME:EST
DTSTART:20271107T060000
END:STANDARD
END:VTIMEZONE
BEGIN:VEVENT
DTSTART;TZID=America/New_York:20260314T100000
DTEND;TZID=America/New_York:20260314T170000
DTSTAMP:20260421T152110
CREATED:20260126T211143Z
LAST-MODIFIED:20260207T145649Z
UID:10080032-1773482400-1773507600@thepinestimes.com
SUMMARY:Tea with Seagrove Potters Spring 2026
DESCRIPTION:Discover your favorite teapot on a driving tour through the Seagrove Pottery Trail! Enjoy a tea tasting experience as you shop hop within 5 miles along NC Pottery Highway. Be a part of the Spring Tea with Seagrove Potters on Saturday\, March 14th from 10am-5pm! \nEnjoy a hot cup of tea at this Spring event. Featured pottery for this event is teapots and cups. Enjoy tea tasting experience at Blue Hen Pottery\, Dean and Martin\, Eck McCanless\, From the Ground Up\, Red Hare Pottery and Thomas Pottery. \nEach shop will have homemade treats and samples from The Table\, Seagrove Cafe and tea samples from Carriage House Tea.
URL:https://thepinestimes.com/event/tea-with-seagrove-potters/
LOCATION:The Seagrove Pottery Trail\, NC-705\, Seagrove\, NC\, 27341\, United States
CATEGORIES:Adults,Arts,Crafts,Exhibits,Family,Hobby/Enthusiast,Seagrove,Seagrove Potters,Senior,Shopping,Social,Tours,Young Adults
ATTACH;FMTTYPE=image/jpeg:https://thepinestimes.com/wp-content/uploads/Seagrove-Potters-Features.jpg
ORGANIZER;CN="Tea with Seagrove Potters":MAILTO:rhondamccanless@gmail.com
END:VEVENT
BEGIN:VEVENT
DTSTART;TZID=America/New_York:20250809T100000
DTEND;TZID=America/New_York:20250809T170000
DTSTAMP:20260421T152110
CREATED:20250603T144426Z
LAST-MODIFIED:20250603T144426Z
UID:10060606-1754733600-1754758800@thepinestimes.com
SUMMARY:Tea with Seagrove Potters
DESCRIPTION:Spend the day in Seagrove on a relaxing gallery crawl for Tea with Seagrove Potters on Saturday\, August 9th | 10am-5pm. Sample different iced teas from Carriage House Tea\, pastries from The Table and Seagrove Cafe and homemade treats at Blue Hen\, Dean & Martin\, Eck McCanless\, From the Ground Up\, Red Hare and Thomas potteries. Shops will feature everything you need to serve tea\, including teapots\, teacups\, pitchers and tumblers. Shops are located along NC Pottery Highway 705 and adjoining roads. Maps and brochures are available at each shop.
URL:https://thepinestimes.com/event/tea-with-seagrove-potters-2/
LOCATION:The Seagrove Pottery Trail\, NC-705\, Seagrove\, NC\, 27341\, United States
CATEGORIES:Arts
ATTACH;FMTTYPE=image/jpeg:https://thepinestimes.com/wp-content/uploads/TeaWithSeagrovePottersFeature.jpg
ORGANIZER;CN="Tea with Seagrove Potters":MAILTO:rhondamccanless@gmail.com
END:VEVENT
END:VCALENDAR