BEGIN:VCALENDAR
VERSION:2.0
PRODID:-//The Pines Times - ECPv6.15.20//NONSGML v1.0//EN
CALSCALE:GREGORIAN
METHOD:PUBLISH
X-WR-CALNAME:The Pines Times
X-ORIGINAL-URL:https://thepinestimes.com
X-WR-CALDESC:Events for The Pines Times
REFRESH-INTERVAL;VALUE=DURATION:PT1H
X-Robots-Tag:noindex
X-PUBLISHED-TTL:PT1H
BEGIN:VTIMEZONE
TZID:America/New_York
BEGIN:DAYLIGHT
TZOFFSETFROM:-0500
TZOFFSETTO:-0400
TZNAME:EDT
DTSTART:20250309T070000
END:DAYLIGHT
BEGIN:STANDARD
TZOFFSETFROM:-0400
TZOFFSETTO:-0500
TZNAME:EST
DTSTART:20251102T060000
END:STANDARD
BEGIN:DAYLIGHT
TZOFFSETFROM:-0500
TZOFFSETTO:-0400
TZNAME:EDT
DTSTART:20260308T070000
END:DAYLIGHT
BEGIN:STANDARD
TZOFFSETFROM:-0400
TZOFFSETTO:-0500
TZNAME:EST
DTSTART:20261101T060000
END:STANDARD
BEGIN:DAYLIGHT
TZOFFSETFROM:-0500
TZOFFSETTO:-0400
TZNAME:EDT
DTSTART:20270314T070000
END:DAYLIGHT
BEGIN:STANDARD
TZOFFSETFROM:-0400
TZOFFSETTO:-0500
TZNAME:EST
DTSTART:20271107T060000
END:STANDARD
END:VTIMEZONE
BEGIN:VEVENT
DTSTART;TZID=America/New_York:20260415T183000
DTEND;TZID=America/New_York:20260415T200000
DTSTAMP:20260420T225526
CREATED:20241129T160313Z
LAST-MODIFIED:20260331T134155Z
UID:10085815-1776277800-1776283200@thepinestimes.com
SUMMARY:DJ Trivia
DESCRIPTION:Join the fun with Bell Tree Tavern in Southern Pines at DJ Trivia\, starting April 8th. Come out 6:30PM-8:00PM to test your knowledge\, vibe to the music\, and go head-to-head with your crew for bragging rights (and maybe a little more). Come early\, find your spot\, and get ready to play. There are weekly prizes up for grabs! Think you’ve got what it takes? Come prove it. \n \n  \n 
URL:https://thepinestimes.com/event/dj-trivia/2026-04-15/
LOCATION:The Bell Tree Tavern\, 155 NE Broad St\, Southern Pines\, NC\, 28387\, United States
CATEGORIES:Adult Connections,Adults,Beer and Wine,Games,Night Life,Pines Connector,Social,Southern Pines Events
ATTACH;FMTTYPE=image/png:https://thepinestimes.com/wp-content/uploads/Trivia-Night-e1754408009763.png
END:VEVENT
BEGIN:VEVENT
DTSTART;TZID=America/New_York:20260412T120000
DTEND;TZID=America/New_York:20260412T120000
DTSTAMP:20260420T225526
CREATED:20260331T150140Z
LAST-MODIFIED:20260331T150249Z
UID:10085874-1775995200-1775995200@thepinestimes.com
SUMMARY:The Masters Watch Party
DESCRIPTION:The Bell Tree Tavern in Southern Pines is hosting a watch party for The Masters from Thursday\, April 9th-Sunday\, April 12th. Fans can catch all the tournament action at the tavern. Throughout the event\, the bar will feature a themed drink special\, the John Daly. For more information on the weekend’s festivities\, you can visit their website or call the tavern directly at 910-725-1529.
URL:https://thepinestimes.com/event/the-masters-watch-party/2026-04-12/
LOCATION:The Bell Tree Tavern\, 155 NE Broad St\, Southern Pines\, NC\, 28387\, United States
CATEGORIES:Adult Connections,Adults,Beer and Wine,Golf,Social,Sports
ATTACH;FMTTYPE=image/jpeg:https://thepinestimes.com/wp-content/uploads/BellTreeTavernFeature.jpg
END:VEVENT
BEGIN:VEVENT
DTSTART;TZID=America/New_York:20260411T210000
DTEND;TZID=America/New_York:20260411T235900
DTSTAMP:20260420T225526
CREATED:20260330T172652Z
LAST-MODIFIED:20260409T204823Z
UID:10085751-1775941200-1775951940@thepinestimes.com
SUMMARY:Live Music: Luke Schofield
DESCRIPTION:Enjoy the music at The Bell Tree Tavern in Southern Pines tonight! Come out for a performance this Saturday night starting at 9:00pm from Luke Schofield! \n \n  \n 
URL:https://thepinestimes.com/event/live-music-luke-schofield/
LOCATION:The Bell Tree Tavern\, 155 NE Broad St\, Southern Pines\, NC\, 28387\, United States
CATEGORIES:Adults,Beer and Wine,Hobby/Enthusiast,Live Entertainment,Live Music,Social,Southern Pines Events
ATTACH;FMTTYPE=image/jpeg:https://thepinestimes.com/wp-content/uploads/LiveMusicFeature.jpg
END:VEVENT
BEGIN:VEVENT
DTSTART;TZID=America/New_York:20260411T120000
DTEND;TZID=America/New_York:20260411T120000
DTSTAMP:20260420T225526
CREATED:20260331T150140Z
LAST-MODIFIED:20260331T150249Z
UID:10085873-1775908800-1775908800@thepinestimes.com
SUMMARY:The Masters Watch Party
DESCRIPTION:The Bell Tree Tavern in Southern Pines is hosting a watch party for The Masters from Thursday\, April 9th-Sunday\, April 12th. Fans can catch all the tournament action at the tavern. Throughout the event\, the bar will feature a themed drink special\, the John Daly. For more information on the weekend’s festivities\, you can visit their website or call the tavern directly at 910-725-1529.
URL:https://thepinestimes.com/event/the-masters-watch-party/2026-04-11/
LOCATION:The Bell Tree Tavern\, 155 NE Broad St\, Southern Pines\, NC\, 28387\, United States
CATEGORIES:Adult Connections,Adults,Beer and Wine,Golf,Social,Sports
ATTACH;FMTTYPE=image/jpeg:https://thepinestimes.com/wp-content/uploads/BellTreeTavernFeature.jpg
END:VEVENT
BEGIN:VEVENT
DTSTART;TZID=America/New_York:20260410T210000
DTEND;TZID=America/New_York:20260410T235900
DTSTAMP:20260420T225526
CREATED:20260112T184338Z
LAST-MODIFIED:20260409T204605Z
UID:10079312-1775854800-1775865540@thepinestimes.com
SUMMARY:Live Music: Whiskey Pines
DESCRIPTION:Enjoy the music at The Bell Tree Tavern in Southern Pines tonight! Come out for a performance starting at 9:00pm from Whiskey Pines! \n \n  \n 
URL:https://thepinestimes.com/event/live-music-whiskey-pines/
LOCATION:The Bell Tree Tavern\, 155 NE Broad St\, Southern Pines\, NC\, 28387\, United States
CATEGORIES:Adults,Beer and Wine,Hobby/Enthusiast,Live Entertainment,Live Music,Social,Southern Pines Events
ATTACH;FMTTYPE=image/jpeg:https://thepinestimes.com/wp-content/uploads/LiveMusicFeature.jpg
END:VEVENT
BEGIN:VEVENT
DTSTART;TZID=America/New_York:20260410T120000
DTEND;TZID=America/New_York:20260410T120000
DTSTAMP:20260420T225526
CREATED:20260331T150140Z
LAST-MODIFIED:20260331T150249Z
UID:10085872-1775822400-1775822400@thepinestimes.com
SUMMARY:The Masters Watch Party
DESCRIPTION:The Bell Tree Tavern in Southern Pines is hosting a watch party for The Masters from Thursday\, April 9th-Sunday\, April 12th. Fans can catch all the tournament action at the tavern. Throughout the event\, the bar will feature a themed drink special\, the John Daly. For more information on the weekend’s festivities\, you can visit their website or call the tavern directly at 910-725-1529.
URL:https://thepinestimes.com/event/the-masters-watch-party/2026-04-10/
LOCATION:The Bell Tree Tavern\, 155 NE Broad St\, Southern Pines\, NC\, 28387\, United States
CATEGORIES:Adult Connections,Adults,Beer and Wine,Golf,Social,Sports
ATTACH;FMTTYPE=image/jpeg:https://thepinestimes.com/wp-content/uploads/BellTreeTavernFeature.jpg
END:VEVENT
BEGIN:VEVENT
DTSTART;TZID=America/New_York:20260409T120000
DTEND;TZID=America/New_York:20260409T120000
DTSTAMP:20260420T225526
CREATED:20260331T150140Z
LAST-MODIFIED:20260331T150249Z
UID:10085871-1775736000-1775736000@thepinestimes.com
SUMMARY:The Masters Watch Party
DESCRIPTION:The Bell Tree Tavern in Southern Pines is hosting a watch party for The Masters from Thursday\, April 9th-Sunday\, April 12th. Fans can catch all the tournament action at the tavern. Throughout the event\, the bar will feature a themed drink special\, the John Daly. For more information on the weekend’s festivities\, you can visit their website or call the tavern directly at 910-725-1529.
URL:https://thepinestimes.com/event/the-masters-watch-party/2026-04-09/
LOCATION:The Bell Tree Tavern\, 155 NE Broad St\, Southern Pines\, NC\, 28387\, United States
CATEGORIES:Adult Connections,Adults,Beer and Wine,Golf,Social,Sports
ATTACH;FMTTYPE=image/jpeg:https://thepinestimes.com/wp-content/uploads/BellTreeTavernFeature.jpg
END:VEVENT
BEGIN:VEVENT
DTSTART;TZID=America/New_York:20260408T183000
DTEND;TZID=America/New_York:20260408T200000
DTSTAMP:20260420T225526
CREATED:20241129T160313Z
LAST-MODIFIED:20260331T134155Z
UID:10053958-1775673000-1775678400@thepinestimes.com
SUMMARY:DJ Trivia
DESCRIPTION:Join the fun with Bell Tree Tavern in Southern Pines at DJ Trivia\, starting April 8th. Come out 6:30PM-8:00PM to test your knowledge\, vibe to the music\, and go head-to-head with your crew for bragging rights (and maybe a little more). Come early\, find your spot\, and get ready to play. There are weekly prizes up for grabs! Think you’ve got what it takes? Come prove it. \n \n  \n 
URL:https://thepinestimes.com/event/dj-trivia/2026-04-08/
LOCATION:The Bell Tree Tavern\, 155 NE Broad St\, Southern Pines\, NC\, 28387\, United States
CATEGORIES:Adult Connections,Adults,Beer and Wine,Games,Night Life,Pines Connector,Social,Southern Pines Events
ATTACH;FMTTYPE=image/png:https://thepinestimes.com/wp-content/uploads/Trivia-Night-e1754408009763.png
END:VEVENT
BEGIN:VEVENT
DTSTART;TZID=America/New_York:20260405T120000
DTEND;TZID=America/New_York:20260405T150000
DTSTAMP:20260420T225526
CREATED:20260330T172944Z
LAST-MODIFIED:20260330T172944Z
UID:10085752-1775390400-1775401200@thepinestimes.com
SUMMARY:Live Music: Mary Stone
DESCRIPTION:Enjoy the music at The Bell Tree Tavern in Southern Pines tonight! Come out for a performance this Easter Sunday afternoon. Mary Stone will be live from 12PM-3PM! \n \n  \n 
URL:https://thepinestimes.com/event/live-music-mary-stone-4/
LOCATION:The Bell Tree Tavern\, 155 NE Broad St\, Southern Pines\, NC\, 28387\, United States
CATEGORIES:Adults,Beer and Wine,Hobby/Enthusiast,Live Entertainment,Live Music,Social,Southern Pines Events
ATTACH;FMTTYPE=image/jpeg:https://thepinestimes.com/wp-content/uploads/LiveMusicFeature.jpg
END:VEVENT
END:VCALENDAR