BEGIN:VCALENDAR
VERSION:2.0
PRODID:-//The Pines Times - ECPv6.15.20//NONSGML v1.0//EN
CALSCALE:GREGORIAN
METHOD:PUBLISH
X-ORIGINAL-URL:https://thepinestimes.com
X-WR-CALDESC:Events for The Pines Times
REFRESH-INTERVAL;VALUE=DURATION:PT1H
X-Robots-Tag:noindex
X-PUBLISHED-TTL:PT1H
BEGIN:VTIMEZONE
TZID:America/New_York
BEGIN:DAYLIGHT
TZOFFSETFROM:-0500
TZOFFSETTO:-0400
TZNAME:EDT
DTSTART:20240310T070000
END:DAYLIGHT
BEGIN:STANDARD
TZOFFSETFROM:-0400
TZOFFSETTO:-0500
TZNAME:EST
DTSTART:20241103T060000
END:STANDARD
BEGIN:DAYLIGHT
TZOFFSETFROM:-0500
TZOFFSETTO:-0400
TZNAME:EDT
DTSTART:20250309T070000
END:DAYLIGHT
BEGIN:STANDARD
TZOFFSETFROM:-0400
TZOFFSETTO:-0500
TZNAME:EST
DTSTART:20251102T060000
END:STANDARD
BEGIN:DAYLIGHT
TZOFFSETFROM:-0500
TZOFFSETTO:-0400
TZNAME:EDT
DTSTART:20260308T070000
END:DAYLIGHT
BEGIN:STANDARD
TZOFFSETFROM:-0400
TZOFFSETTO:-0500
TZNAME:EST
DTSTART:20261101T060000
END:STANDARD
END:VTIMEZONE
BEGIN:VEVENT
DTSTART;TZID=America/New_York:20250627T100000
DTEND;TZID=America/New_York:20250627T160000
DTSTAMP:20260422T165515
CREATED:20240515T190327Z
LAST-MODIFIED:20250605T150105Z
UID:10060944-1751018400-1751040000@thepinestimes.com
SUMMARY:Summer Reading Stations
DESCRIPTION:Growing Moore Readers! Join for these free Summer Reading Stations to help combat the Summer Reading Slide. The stations take place June 23rd-June 27th & July 21st-July 25th | 10am-4pm each day. Children pre-K thru 8th grade can stop by and grab a book\, STEM activity\, snack and a water to enjoy reading this summer. Children are welcome to visit sites each day to get another book to enjoy. Free books\, parent resources and snacks! See the included flyer for location details. Follow the event link provided below for additional information. \n*Please note that sites are subject to change due to weather or staff availability. Site information will be updated on social media pages as the information is received. \n 
URL:https://thepinestimes.com/event/summer-reading-stations-2/2025-06-27/
LOCATION:Moore County\, NC\, United States
CATEGORIES:Children,Educational,Family,Hobby/Enthusiast,Literary Event,Live Entertainment,Moore County Events,Nature/Outdoors,Senior,Social
ATTACH;FMTTYPE=image/jpeg:https://thepinestimes.com/wp-content/uploads/SummerReadingStationsFeature-1.jpg
END:VEVENT
BEGIN:VEVENT
DTSTART;TZID=America/New_York:20250626T100000
DTEND;TZID=America/New_York:20250626T160000
DTSTAMP:20260422T165515
CREATED:20240515T190327Z
LAST-MODIFIED:20250605T150105Z
UID:10060943-1750932000-1750953600@thepinestimes.com
SUMMARY:Summer Reading Stations
DESCRIPTION:Growing Moore Readers! Join for these free Summer Reading Stations to help combat the Summer Reading Slide. The stations take place June 23rd-June 27th & July 21st-July 25th | 10am-4pm each day. Children pre-K thru 8th grade can stop by and grab a book\, STEM activity\, snack and a water to enjoy reading this summer. Children are welcome to visit sites each day to get another book to enjoy. Free books\, parent resources and snacks! See the included flyer for location details. Follow the event link provided below for additional information. \n*Please note that sites are subject to change due to weather or staff availability. Site information will be updated on social media pages as the information is received. \n 
URL:https://thepinestimes.com/event/summer-reading-stations-2/2025-06-26/
LOCATION:Moore County\, NC\, United States
CATEGORIES:Children,Educational,Family,Hobby/Enthusiast,Literary Event,Live Entertainment,Moore County Events,Nature/Outdoors,Senior,Social
ATTACH;FMTTYPE=image/jpeg:https://thepinestimes.com/wp-content/uploads/SummerReadingStationsFeature-1.jpg
END:VEVENT
BEGIN:VEVENT
DTSTART;TZID=America/New_York:20250625T100000
DTEND;TZID=America/New_York:20250625T160000
DTSTAMP:20260422T165515
CREATED:20240515T190327Z
LAST-MODIFIED:20250605T150105Z
UID:10060942-1750845600-1750867200@thepinestimes.com
SUMMARY:Summer Reading Stations
DESCRIPTION:Growing Moore Readers! Join for these free Summer Reading Stations to help combat the Summer Reading Slide. The stations take place June 23rd-June 27th & July 21st-July 25th | 10am-4pm each day. Children pre-K thru 8th grade can stop by and grab a book\, STEM activity\, snack and a water to enjoy reading this summer. Children are welcome to visit sites each day to get another book to enjoy. Free books\, parent resources and snacks! See the included flyer for location details. Follow the event link provided below for additional information. \n*Please note that sites are subject to change due to weather or staff availability. Site information will be updated on social media pages as the information is received. \n 
URL:https://thepinestimes.com/event/summer-reading-stations-2/2025-06-25/
LOCATION:Moore County\, NC\, United States
CATEGORIES:Children,Educational,Family,Hobby/Enthusiast,Literary Event,Live Entertainment,Moore County Events,Nature/Outdoors,Senior,Social
ATTACH;FMTTYPE=image/jpeg:https://thepinestimes.com/wp-content/uploads/SummerReadingStationsFeature-1.jpg
END:VEVENT
BEGIN:VEVENT
DTSTART;TZID=America/New_York:20250624T100000
DTEND;TZID=America/New_York:20250624T160000
DTSTAMP:20260422T165515
CREATED:20240515T190327Z
LAST-MODIFIED:20250605T150105Z
UID:10060941-1750759200-1750780800@thepinestimes.com
SUMMARY:Summer Reading Stations
DESCRIPTION:Growing Moore Readers! Join for these free Summer Reading Stations to help combat the Summer Reading Slide. The stations take place June 23rd-June 27th & July 21st-July 25th | 10am-4pm each day. Children pre-K thru 8th grade can stop by and grab a book\, STEM activity\, snack and a water to enjoy reading this summer. Children are welcome to visit sites each day to get another book to enjoy. Free books\, parent resources and snacks! See the included flyer for location details. Follow the event link provided below for additional information. \n*Please note that sites are subject to change due to weather or staff availability. Site information will be updated on social media pages as the information is received. \n 
URL:https://thepinestimes.com/event/summer-reading-stations-2/2025-06-24/
LOCATION:Moore County\, NC\, United States
CATEGORIES:Children,Educational,Family,Hobby/Enthusiast,Literary Event,Live Entertainment,Moore County Events,Nature/Outdoors,Senior,Social
ATTACH;FMTTYPE=image/jpeg:https://thepinestimes.com/wp-content/uploads/SummerReadingStationsFeature-1.jpg
END:VEVENT
BEGIN:VEVENT
DTSTART;TZID=America/New_York:20250624T090000
DTEND;TZID=America/New_York:20250624T233000
DTSTAMP:20260422T165515
CREATED:20240408T130808Z
LAST-MODIFIED:20250530T133912Z
UID:10035190-1750755600-1750807800@thepinestimes.com
SUMMARY:Pizza Dining Fundraiser: The CARE Group\, Inc.
DESCRIPTION:Help put the fun in FUNdraising! Be a part of the The CARE Group\, Inc. Pizza Fundraiser with Pizza Hut (1768 Old Morganton Rd. in Southern Pines) on Tuesday\, June 24th | 9:00am-11:30pm. 20% of all orders will support The CARE Group’s mentoring and adult literacy programs. Come eat and support the cause. Follow the event website link provided below for full details and to commit to eat! \n 
URL:https://thepinestimes.com/event/dining-fundraiser-the-care-group-inc/
LOCATION:Pizza Hut-Southern Pines\, 1768 Old Morganton Rd.\, Southern Pines\, 28387\, United States
CATEGORIES:Adults,Children,Donation,Family,Food,Fundraiser,Hobby/Enthusiast,Moore County Events,Senior,Shopping,Social,Southern Pines Events
ATTACH;FMTTYPE=image/jpeg:https://thepinestimes.com/wp-content/uploads/CAREGroupFeature.jpg
ORGANIZER;CN="The CARE Group%2C Inc":MAILTO:admin@moorebuddiesmentoring.com
END:VEVENT
BEGIN:VEVENT
DTSTART;TZID=America/New_York:20250623T100000
DTEND;TZID=America/New_York:20250623T160000
DTSTAMP:20260422T165515
CREATED:20240515T190327Z
LAST-MODIFIED:20250605T150105Z
UID:10060940-1750672800-1750694400@thepinestimes.com
SUMMARY:Summer Reading Stations
DESCRIPTION:Growing Moore Readers! Join for these free Summer Reading Stations to help combat the Summer Reading Slide. The stations take place June 23rd-June 27th & July 21st-July 25th | 10am-4pm each day. Children pre-K thru 8th grade can stop by and grab a book\, STEM activity\, snack and a water to enjoy reading this summer. Children are welcome to visit sites each day to get another book to enjoy. Free books\, parent resources and snacks! See the included flyer for location details. Follow the event link provided below for additional information. \n*Please note that sites are subject to change due to weather or staff availability. Site information will be updated on social media pages as the information is received. \n 
URL:https://thepinestimes.com/event/summer-reading-stations-2/2025-06-23/
LOCATION:Moore County\, NC\, United States
CATEGORIES:Children,Educational,Family,Hobby/Enthusiast,Literary Event,Live Entertainment,Moore County Events,Nature/Outdoors,Senior,Social
ATTACH;FMTTYPE=image/jpeg:https://thepinestimes.com/wp-content/uploads/SummerReadingStationsFeature-1.jpg
END:VEVENT
BEGIN:VEVENT
DTSTART;TZID=America/New_York:20250503T090000
DTEND;TZID=America/New_York:20250503T140000
DTSTAMP:20260422T165515
CREATED:20250325T203235Z
LAST-MODIFIED:20250325T203310Z
UID:10055477-1746262800-1746280800@thepinestimes.com
SUMMARY:Community Yard Sale Fundraiser to Benefit The CARE Group\, Inc.
DESCRIPTION:Join The CARE Group\, Inc. for a Community Yard Sale Fundraiser where they will be hosting vendors to come out for a fun day of finding treasures and supporting the CARE Group’s one-on-one youth mentoring and adult literacy programs! Vendors are needed! Whether you’re looking to clear out your home\, promote your small business\, or sell handmade crafts\, there is a spot for you. Message The CARE Group\, Inc. by April 25th to reserve your spot for just a $25 donation.
URL:https://thepinestimes.com/event/community-yard-sale-fundraiser/
LOCATION:The CARE Group\, Inc.\, 241 Grant St.\, West End\, NC\, 27376\, United States
CATEGORIES:Adults,Donation,Family,Fundraiser,Markets,Senior,Shopping,Vendors,West End Events,Yard Sale
ATTACH;FMTTYPE=image/jpeg:https://thepinestimes.com/wp-content/uploads/CAREGroupFeature.jpg
ORGANIZER;CN="The CARE Group%2C Inc":MAILTO:admin@moorebuddiesmentoring.com
END:VEVENT
END:VCALENDAR