BEGIN:VCALENDAR
VERSION:2.0
PRODID:-//The Pines Times - ECPv6.15.20//NONSGML v1.0//EN
CALSCALE:GREGORIAN
METHOD:PUBLISH
X-WR-CALNAME:The Pines Times
X-ORIGINAL-URL:https://thepinestimes.com
X-WR-CALDESC:Events for The Pines Times
REFRESH-INTERVAL;VALUE=DURATION:PT1H
X-Robots-Tag:noindex
X-PUBLISHED-TTL:PT1H
BEGIN:VTIMEZONE
TZID:America/New_York
BEGIN:DAYLIGHT
TZOFFSETFROM:-0500
TZOFFSETTO:-0400
TZNAME:EDT
DTSTART:20250309T070000
END:DAYLIGHT
BEGIN:STANDARD
TZOFFSETFROM:-0400
TZOFFSETTO:-0500
TZNAME:EST
DTSTART:20251102T060000
END:STANDARD
BEGIN:DAYLIGHT
TZOFFSETFROM:-0500
TZOFFSETTO:-0400
TZNAME:EDT
DTSTART:20260308T070000
END:DAYLIGHT
BEGIN:STANDARD
TZOFFSETFROM:-0400
TZOFFSETTO:-0500
TZNAME:EST
DTSTART:20261101T060000
END:STANDARD
BEGIN:DAYLIGHT
TZOFFSETFROM:-0500
TZOFFSETTO:-0400
TZNAME:EDT
DTSTART:20270314T070000
END:DAYLIGHT
BEGIN:STANDARD
TZOFFSETFROM:-0400
TZOFFSETTO:-0500
TZNAME:EST
DTSTART:20271107T060000
END:STANDARD
END:VTIMEZONE
BEGIN:VEVENT
DTSTART;TZID=America/New_York:20260421T180000
DTEND;TZID=America/New_York:20260421T200000
DTSTAMP:20260420T015821
CREATED:20260407T135954Z
LAST-MODIFIED:20260407T140103Z
UID:10086400-1776794400-1776801600@thepinestimes.com
SUMMARY:The Center Stage: Tuesday Night Live-Sean Diesfeld and Friends Guitar Music Development
DESCRIPTION:The West Southern Pines Center invites the community to Tuesday Night Live at The Center Stage located at 1250 W. New York Ave in Southern Pines. Each event runs from 6PM-8PM throughout the month of April and features a diverse lineup of musical performances and interactive sessions. Attendees can enjoy everything from open mic nights and jam sessions to specialized guitar music development and live recording experiences. \nApril 7th- Dylan Thomas Open Mic\nApril 14th- Harvey Arnold\, Jonathon Robinson\, and Roland Jam Session\nApril 21st- Sean Diesfeld and Friends Guitar Music Development\nApril 28th- Kareem Ross Live Recording Jam Session
URL:https://thepinestimes.com/event/the-center-stage-tuesday-night-live-sean-diesfeld-and-friends-guitar-music-development/
LOCATION:West Southern Pines Center\, 1250 W. New York Avenue\, Southern Pines\, 28387\, United States
CATEGORIES:Adults,Educational,Family,Hobby/Enthusiast,Music,Senior,Social,Southern Pines Events,Teen Activities,Young Adults
ATTACH;FMTTYPE=image/jpeg:https://thepinestimes.com/wp-content/uploads/TheCenterStageMusicNightFeature.jpg
ORGANIZER;CN="The Center Stage":MAILTO:Events@splandandhousingtrust.org
END:VEVENT
BEGIN:VEVENT
DTSTART;TZID=America/New_York:20260428T180000
DTEND;TZID=America/New_York:20260428T200000
DTSTAMP:20260420T015821
CREATED:20260407T135720Z
LAST-MODIFIED:20260407T135903Z
UID:10086399-1777399200-1777406400@thepinestimes.com
SUMMARY:The Center Stage: Tuesday Night Live-Kareem Ross Live Recording Jam Session
DESCRIPTION:The West Southern Pines Center invites the community to Tuesday Night Live at The Center Stage located at 1250 W. New York Ave in Southern Pines. Each event runs from 6PM-8PM throughout the month of April and features a diverse lineup of musical performances and interactive sessions. Attendees can enjoy everything from open mic nights and jam sessions to specialized guitar music development and live recording experiences. \nApril 7th- Dylan Thomas Open Mic\nApril 14th- Harvey Arnold\, Jonathon Robinson\, and Roland Jam Session\nApril 21st- Sean Diesfeld and Friends Guitar Music Development\nApril 28th- Kareem Ross Live Recording Jam Session
URL:https://thepinestimes.com/event/the-center-stage-tuesday-night-live-kareem-ross-live-recording-jam-session/
LOCATION:West Southern Pines Center\, 1250 W. New York Avenue\, Southern Pines\, 28387\, United States
CATEGORIES:Adults,Educational,Family,Hobby/Enthusiast,Music,Senior,Social,Southern Pines Events,Teen Activities,Young Adults
ATTACH;FMTTYPE=image/jpeg:https://thepinestimes.com/wp-content/uploads/TheCenterStageMusicNightFeature.jpg
ORGANIZER;CN="The Center Stage":MAILTO:Events@splandandhousingtrust.org
END:VEVENT
END:VCALENDAR