BEGIN:VCALENDAR
VERSION:2.0
PRODID:-//The Pines Times - ECPv6.15.20//NONSGML v1.0//EN
CALSCALE:GREGORIAN
METHOD:PUBLISH
X-WR-CALNAME:The Pines Times
X-ORIGINAL-URL:https://thepinestimes.com
X-WR-CALDESC:Events for The Pines Times
REFRESH-INTERVAL;VALUE=DURATION:PT1H
X-Robots-Tag:noindex
X-PUBLISHED-TTL:PT1H
BEGIN:VTIMEZONE
TZID:America/New_York
BEGIN:DAYLIGHT
TZOFFSETFROM:-0500
TZOFFSETTO:-0400
TZNAME:EDT
DTSTART:20240310T070000
END:DAYLIGHT
BEGIN:STANDARD
TZOFFSETFROM:-0400
TZOFFSETTO:-0500
TZNAME:EST
DTSTART:20241103T060000
END:STANDARD
BEGIN:DAYLIGHT
TZOFFSETFROM:-0500
TZOFFSETTO:-0400
TZNAME:EDT
DTSTART:20250309T070000
END:DAYLIGHT
BEGIN:STANDARD
TZOFFSETFROM:-0400
TZOFFSETTO:-0500
TZNAME:EST
DTSTART:20251102T060000
END:STANDARD
BEGIN:DAYLIGHT
TZOFFSETFROM:-0500
TZOFFSETTO:-0400
TZNAME:EDT
DTSTART:20260308T070000
END:DAYLIGHT
BEGIN:STANDARD
TZOFFSETFROM:-0400
TZOFFSETTO:-0500
TZNAME:EST
DTSTART:20261101T060000
END:STANDARD
END:VTIMEZONE
BEGIN:VEVENT
DTSTART;TZID=America/New_York:20250503T080000
DTEND;TZID=America/New_York:20250503T123000
DTSTAMP:20260425T105643
CREATED:20230921T164443Z
LAST-MODIFIED:20250226T150829Z
UID:10020907-1746259200-1746275400@thepinestimes.com
SUMMARY:Craven Apiary Foundation: 5K & Silent Auction Fundraiser
DESCRIPTION:Join us for the Craven Apiary Foundation fundraising event on Saturday\, May 3rd | 8:00am-12:30pm at Workhorse Fitness & Yoga in Southern Pines. There will be a 5K run/walk\, as well as the silent auction. 100% of proceeds go to the Craven Apiary S.T.E.M. Scholarship Fund. Register by March 20th to grab your free event T-shirt! \n“The Craven Apiary Foundation is a nonprofit organization created to remember and honor Candace Craven and her love for S.T.E.A.M. with the wish is to inspire\, support\, and enable young women\, in their pursuit of advanced education in S.T.E.A.M.” \nFor registration or to make a donation\, follow the link provided below.
URL:https://thepinestimes.com/event/craven-apiary-foundation-5k-yoga-fundraiser/
LOCATION:Workhorse Strength and Conditioning\, 5 East Connecticut Ave.\, Southern Pines\, NC\, 28387\, United States
CATEGORIES:Aberdeen Events,Adults,Auction,Donation,Family,Food,Fundraiser,Health & Wellness,Hobby/Enthusiast,Nature/Outdoors,Raffle,Senior,Social,Vendors,Walk/Run
ORGANIZER;CN="The Craven Apiary Foundation":MAILTO:Info@thecravenapiaryfoundation.com
END:VEVENT
END:VCALENDAR