BEGIN:VCALENDAR
VERSION:2.0
PRODID:-//The Pines Times - ECPv6.15.20//NONSGML v1.0//EN
CALSCALE:GREGORIAN
METHOD:PUBLISH
X-WR-CALNAME:The Pines Times
X-ORIGINAL-URL:https://thepinestimes.com
X-WR-CALDESC:Events for The Pines Times
REFRESH-INTERVAL;VALUE=DURATION:PT1H
X-Robots-Tag:noindex
X-PUBLISHED-TTL:PT1H
BEGIN:VTIMEZONE
TZID:America/New_York
BEGIN:DAYLIGHT
TZOFFSETFROM:-0500
TZOFFSETTO:-0400
TZNAME:EDT
DTSTART:20250309T070000
END:DAYLIGHT
BEGIN:STANDARD
TZOFFSETFROM:-0400
TZOFFSETTO:-0500
TZNAME:EST
DTSTART:20251102T060000
END:STANDARD
BEGIN:DAYLIGHT
TZOFFSETFROM:-0500
TZOFFSETTO:-0400
TZNAME:EDT
DTSTART:20260308T070000
END:DAYLIGHT
BEGIN:STANDARD
TZOFFSETFROM:-0400
TZOFFSETTO:-0500
TZNAME:EST
DTSTART:20261101T060000
END:STANDARD
BEGIN:DAYLIGHT
TZOFFSETFROM:-0500
TZOFFSETTO:-0400
TZNAME:EDT
DTSTART:20270314T070000
END:DAYLIGHT
BEGIN:STANDARD
TZOFFSETFROM:-0400
TZOFFSETTO:-0500
TZNAME:EST
DTSTART:20271107T060000
END:STANDARD
END:VTIMEZONE
BEGIN:VEVENT
DTSTART;TZID=America/New_York:20260502T080000
DTEND;TZID=America/New_York:20260502T110000
DTSTAMP:20260422T064948
CREATED:20260420T175200Z
LAST-MODIFIED:20260420T175305Z
UID:10087005-1777708800-1777719600@thepinestimes.com
SUMMARY:The Frye Foundation 5k Run/Walk for Diabetes 2026
DESCRIPTION:Join for the Frye Foundation 5k Run/Walk for Diabetes—fun\, fitness\, and fundraising all in one awesome day! Get ready to lace up your sneakers and join in person for The Frye Foundation 5k Run/Walk on Saturday\, May 2nd\, from 8AM-11AM at 120 Seaboard St. in Vass. Whether you’re running to win or walking for fun\, this event is all about community vibes and good times. Bring your friends\, family\, and positive energy for a fantastic day outdoors. Don’t miss out on the chance to move\, mingle\, and make memories!
URL:https://thepinestimes.com/event/the-frye-foundation-5k-run-walk-for-diabetes-2026/
LOCATION:Downtown Vass\, Main Street\, Vass\, NC\, 28394\, United States
CATEGORIES:Adults,Benefit,Children,Donation,Family,Fundraiser,Health & Wellness,Piney's Kids,Senior,Social,Teen Activities,Vass Events,Walk/Run,Young Adults
ATTACH;FMTTYPE=image/jpeg:https://thepinestimes.com/wp-content/uploads/VassDiabetesWalkFeature.jpg
ORGANIZER;CN="The Frye Foundation":MAILTO:thefryefoundationdiabetes@gmail.com
END:VEVENT
END:VCALENDAR